{"text_format":"3","workbook":"xlsx","n_sheets":10,"sheets":["Start Here!"," Requirements COMcheck","As-Built COMcheck"," Requirements Individual Files","Sq. Ft. Area Individual Files","Fixture List Individual Files","FixturesByArea Individual Files","Helpful Tips","RevisionHistory","Admin_Lists"],"not_rendered":{"images":18,"macros":1,"defined_names":31,"comments":2},"read":"whole","date_system":"1900"}

{"sheet":"Start Here!","index":0,"n_rows":60,"n_cols":33,"rows_kept":60,"merged":[[0,1,3,3],[4,1,4,11],[4,19,4,22],[4,23,4,24],[4,25,4,26],[5,1,5,2],[5,19,5,22],[5,23,5,26],[6,1,6,2],[6,14,6,15],[6,19,6,22],[6,23,6,26],[7,3,7,11],[7,19,8,22],[7,23,8,26],[8,3,8,11],[9,1,9,11],[9,19,9,22],[9,23,9,26],[10,1,10,2],[10,3,10,11],[10,19,11,22],[10,23,11,26],[11,1,11,2],[11,3,11,11],[12,1,12,2],[12,3,12,5],[12,7,12,8],[12,10,12,11],[12,19,13,22],[12,23,13,26],[13,1,13,2],[13,3,13,11],[14,1,14,2],[14,3,14,11],[14,19,14,22],[14,23,14,26],[15,1,15,2],[15,3,15,11],[15,19,15,22],[15,23,15,26],[16,19,16,22],[16,23,16,26],[17,9,17,11],[18,9,18,10],[19,6,19,7],[19,9,19,10],[20,6,21,7],[20,9,20,10],[21,9,21,10],[22,6,24,7],[22,9,22,10],[23,9,23,11],[26,2,26,11],[55,1,56,1]]}
[null,"Note: this workbook needs to be used in the full version of Excel. Some features won't work in Excel Online. Also, make sure that macros are enabled when you open this workbook (see 'Helpful Tips' tab for directions).",{"$nulls":11},"Hide","Hide","Hide","Hide","Hide","Hide","Hide","Hide","Hide","Hide","Hide","Hide","Hide","Hide","Hide","Hide","Hide","Hide","Hide","Hide"]
[]
[]
[]
[null,"New Construction Interior Lighting Supplemental Workbook",{"$nulls":17},"Program Implementer Check-list:",{"$nulls":3},"Completed by:"]
[{"$nulls":19},"If other than Default HOU, note source"]
[null,"Start Here:",{"$nulls":8},"Do you have a completed As-built COMcheck using 2021 IECC or AHRAE 90.1-2019? ","Select Yes or No",null,null,"MMID 4948 (LPD) SPECTRUM entry:",{"$nulls":4},"COMcheck is 2021 IECC and Reduced Lighting Power not selected"]
[{"$nulls":3},{"$f":"IF(L7=\"Yes\",\"Select 'COMcheck' from the 'I'm providing the required info via:' drop-down below and proceed\",IF(L7=\"No\",\"Select 'Individual Files' from the 'I'm providing the required info via:' drop-down below and proceed\",IF(L7=\"Select Yes or No\",\" \")))","v":" "},{"$nulls":10},"Unit of Measure Answer",{"$f":"Z54","v":0},"net KWh reduced all areas",null,null,"Signed off by a Professional  (COMcheck, Floorplan and/or Lighting Layout) -or- QPLs provided for most fixtures installed"]
[{"$nulls":3},{"$f":"IF(L7=\"Yes\",\"Note: COMcheck's should not include 'Reduced Lighting Power' Efficiency Package.\",\"\")","v":""},{"$nulls":10},"Units",1]
[null,"Complete all fields below along with corresponding tabs. The incentive will be populated once all required information has been provided.",{"$nulls":12},"Measure Cost",{"$f":"AB54","v":0},{"$f":"\"$\" & FIXED(LPD_IndustryStandardCostPerSqFt,2) & \"*sq. ft. or Tech Review override (manual entry)\"","v":"$0.90*sq. ft. or Tech Review override (manual entry)"},null,null,"Confirm/Call-out/Note Source of Square Footage"]
[null,"Customer:",{"$nulls":12},"Summer kW Savings",{"$f":"U54","v":{"v":0,"d":"0.0000"}},{"$nulls":3},"Spot check top 3 qty of fixtures to ensure quantity alignment. \n\"COMcheck v. Invoice / Fixt List v. Invoice\""]
[null,"Trade Ally/Installer:",{"$nulls":12},"Winter kW Savings",{"$f":"V54","v":{"v":0,"d":"0.0000"}},"net savings all areas"]
[null,"Best Contact for LPD Questions:",{"$nulls":4},"Email:",null,null,"Phone:",{"$nulls":4},"kWh Savings (1st Yr)",{"$f":"Z54","v":0},"net savings all areas",null,null,"Spot check top 3 'total wattage of fixtures' (Col. E) to ensure Wattage alignment. \"COMcheck v. Specs / Fixt List v. Specs\""]
[null,"Project Description:",{"$nulls":12},"kWh Savings (Lifecycle)",{"$f":"AA54","v":0},"net savings all areas"]
[null,"Project Completion Date:",{"$nulls":17},"Confirm no Instant Retailer invoices/receipts"]
[null,"Project Notes:",{"$nulls":12},"Total Incentive",{"$f":"L54","v":0},"net incentive all areas",null,null,"If assumed higher qty installed (due to discrepency) it's been noted"]
[{"$nulls":15},{"$f":"IF(P10<P16,\"Total Incentive may not exceed Measure Cost!\",\"\")","v":""},{"$nulls":3},"If possible, sum measure cost and note \"actual measure cost\""]
[{"$nulls":3},"I'm providing the required info via:  ","Choose from Drop-down",null,"Facility type: ","Choose from Drop-down",null,"Facility's Hours of Use (HOU)\nHours of use are used in LPD calculation. \nEnter Default Hours value from list below, \nor facility's actual hours. ",{"$nulls":4},"Incentive $ / LC MMBTU:",{"$f":"P16/(P14*0.003412)","v":{"$error":"#DIV/0!"}}]
[{"$nulls":3},{"$f":"IF(AND(COUNTA(Hours_range)>0,OR(ComCheck=\"Choose from Drop-down\",Facility_Type=\"Choose from Drop-down\")),\"Ensure 'I'm providing the required info via:' and 'Facility type:' are selected before proceeding.\",\"\")","v":""},{"$nulls":5},"Default Facility Type",null,"HOU",null,"Default Summer CF","Default Winter CF",{"$nulls":4},"Provide AS BUILT:","Possible ways to provide it:"]
[{"$nulls":3},"Project Size:","Small (5 rows)",null,"Describe Hours of Use: ",null,null,"Commercial",null,{"v":3730,"d":"3,730"},null,0.76,0.78,{"$nulls":4},"Sq Ft","COMcheck","Layout","Schedule","Submittal","Email","QPL snip"]
[null,null,{"$f":"IF(E18=\"Individual Files\",\"Corresponding Tabs:\",IF(E18=\"COMcheck\",\"Corresponding Tabs:\",\"\"))","v":""},{"$nulls":3},"Ex.: Store M-F 9am-6pm, Office M-F 7am-5pm, Warehouse M-F 5am-9pm",null,null,"Industrial",null,{"v":4745,"d":"4,745"},null,0.77,0.77,{"$nulls":4},"Wattage ","COMcheck","Layout","Schedule","Submittal","Email","QPL snip"]
[null,null,{"$f":"IF(E18=\"Individual Files\",\"Sq. Ft. Area, Fixt List, Fixt by Area\",IF(E18=\"COMcheck\",\"As-Built COMcheck\",\"\"))","v":""},{"$nulls":6},"Agricultural",null,{"v":4698,"d":"4,698"},null,0.67,0.73,{"$nulls":4},"Fixture list","COMcheck","Layout","Schedule","Submittal","Email","QPL snip"]
[{"$nulls":9},"Schools & Government",null,{"v":3239,"d":"3,239"},null,0.59,0.68,"Hours",{"$nulls":3},"Pro Sign-off","COMcheck","Layout","Schedule","Submittal","Email","QPL snip"]
[{"$nulls":9},"Enter Hours of Use in Column (B) below",{"$nulls":3},{"v":1,"d":"1.00"},{"v":1,"d":"1.00"},{"v":8000,"d":"8,000"},{"$nulls":3},"Invoice","COMcheck","Layout","Schedule","Submittal","Email","QPL snip"]
[{"$nulls":13},{"v":0,"d":"0.00"},{"v":0,"d":"0.00"},{"v":2000,"d":"2,000"},{"$nulls":4},"COMcheck","Layout","Schedule","Submittal","Email","QPL snip"]
[]
[null,null,"LPD Measure Summary"]
[null,null,"(A)\nSquare Footage","(B)\nAnnual\nHours of Use","(C)\nBaseline\nWatts/Ft2",null,"(D)\nNew System \nInstalled Wattage","(E)\nNew System \nInstalled Watts/Ft2\n(D / A)","(F)\nWatts/Ft2\nReduced\n(C - E)","(G)\nKWh Reduced\n(A x B x F / 1,000)","(H)\nIncentive Rate\n($/kWh Reduced)","(I)\nRequested Incentive\n(G x H)",null,"Analysis","Actual Summer CF \n(edit if needed)","Actual Winter CF \n(edit if needed)","LPD Code\n(W/ft2)","HOU","sq ft","Allowed Watts","Summer kW\nSavings","Winter kW\nSavings","Installed System Wattage","LPD Design W/ft^2","W/ft^2 Reduced","kWh Reduced","Lifecycle\nkWh Savings",{"$f":"\"Measure Cost: $\" & FIXED(LPD_IndustryStandardCostPerSqFt,2) & \"*sq. ft. or actual\"","v":"Measure Cost: $0.90*sq. ft. or actual"}]
[null,{"$f":"IF(C29>1,\"Area 1\",IF(C29,\"\",\"\"))","v":""},{"$f":"IF($E$18=\"COMCheck\",'As-Built COMcheck'!D7,IF($E$18=\"Individual Files\",'Sq. Ft. Area Individual Files'!C9,0))","v":0},null,{"$f":"IF($E$18=\"COMCheck\",'As-Built COMcheck'!D8,IF($E$18=\"Individual Files\",'FixturesByArea Individual Files'!F8,0))","v":0},null,{"$f":"IF($E$18=\"COMCheck\",'As-Built COMcheck'!D10,IF($E$18=\"Individual Files\",'FixturesByArea Individual Files'!F48,0))","v":0},{"$f":"IFERROR(ROUND(G29/C29,2),\"\")","v":""},{"$f":"IFERROR(ROUND(E29-H29,2),\"-\")","v":"-"},{"$f":"IFERROR(ROUND(C29*D29*I29/1000,0),\"\")","v":""},{"$f":"LPD_Incentive_Rate","v":{"v":0.05,"d":"$0.05"}},{"$f":"IFERROR(J29*K29,\"\")","v":""},null,"Area 1",{"$f":"IF(D29<$P$25,$N$25,IF(D29>=$P$24,$N$24,VLOOKUP($H$18,$J$20:$O$23,5)))","v":{"v":0,"d":"0.00"}},{"$f":"IF(D29<$P$25,$O$25,IF(D29>=$P$24,$O$24,VLOOKUP($H$18,$J$20:$O$23,6)))","v":{"v":0,"d":"0.00"}},{"$f":"E29","v":{"v":0,"d":"0.00"}},{"$f":"D29","v":0},{"$f":"C29","v":0},{"$f":"IFERROR(ROUND(Q29*S29,0),\"\")","v":0},{"$f":"IFERROR(IF(OR(Q29=\"\",Q29=\"Error\",G29=\"\"),\"\",ROUND(Y29*C29/1000*O29,4)),\"\")","v":{"v":0,"d":"0.0000"}},{"$f":"IFERROR(IF(OR(Q29=\"\",Q29=\"Error\",G29=\"\"),\"\",ROUND(Y29*C29/1000*P29,4)),\"\")","v":{"v":0,"d":"0.0000"}},{"$f":"G29","v":0},{"$f":"IFERROR(ROUND(W29/S29,2),0)","v":0},{"$f":"IFERROR(ROUND(Q29-X29,2),\"\")","v":{"v":0,"d":"0.00"}},{"$f":"IFERROR(ROUND(R29*S29*Y29/1000,0),\"\")","v":0},{"$f":"IFERROR(Z29*EUL_for_LPD,\"\")","v":0},{"$f":"ROUND(S29*LPD_IndustryStandardCostPerSqFt,2)","v":0}]
[null,{"$f":"IF(C30>1,\"Area 2\",IF(C30,\"\",\"\"))","v":""},{"$f":"IF($E$18=\"COMCheck\",'As-Built COMcheck'!D14,IF($E$18=\"Individual Files\",'Sq. Ft. Area Individual Files'!C10,0))","v":0},null,{"$f":"IF($E$18=\"COMCheck\",'As-Built COMcheck'!D15,IF($E$18=\"Individual Files\",'FixturesByArea Individual Files'!N8,0))","v":0},null,{"$f":"IF($E$18=\"COMCheck\",'As-Built COMcheck'!D17,IF($E$18=\"Individual Files\",'FixturesByArea Individual Files'!N48,0))","v":0},"",{"$f":"IFERROR(ROUND(E30-H30,2),\"-\")","v":"-"},{"$f":"IFERROR(ROUND(C30*D30*I30/1000,0),\"\")","v":""},{"v":0.05,"d":"$0.05"},{"$f":"IFERROR(J30*K30,\"\")","v":""},null,"Area 2",{"$f":"IF(D30<$P$25,$N$25,IF(D30>=$P$24,$N$24,VLOOKUP($H$18,$J$20:$O$23,5)))","v":{"v":0,"d":"0.00"}},{"$f":"IF(D30<$P$25,$O$25,IF(D30>=$P$24,$O$24,VLOOKUP($H$18,$J$20:$O$23,6)))","v":{"v":0,"d":"0.00"}},{"v":0,"d":"0.00"},0,0,{"$f":"IFERROR(ROUND(Q30*S30,0),\"\")","v":0},{"v":0,"d":"0.0000"},{"v":0,"d":"0.0000"},0,0,{"v":0,"d":"0.00"},0,0,0]
[null,{"$f":"IF(C31>1,\"Area 3\",IF(C31,\"\",\"\"))","v":""},{"$f":"IF($E$18=\"COMCheck\",'As-Built COMcheck'!D19,IF($E$18=\"Individual Files\",'Sq. Ft. Area Individual Files'!C11,0))","v":0},null,{"$f":"IF($E$18=\"COMCheck\",'As-Built COMcheck'!D20,IF($E$18=\"Individual Files\",'FixturesByArea Individual Files'!F51,0))","v":0},null,{"$f":"IF($E$18=\"COMCheck\",'As-Built COMcheck'!D22,IF($E$18=\"Individual Files\",'FixturesByArea Individual Files'!F91,0))","v":0},"",{"$f":"IFERROR(ROUND(E31-H31,2),\"-\")","v":"-"},"",{"v":0.05,"d":"$0.05"},"",null,"Area 3",{"v":0,"d":"0.00"},{"v":0,"d":"0.00"},{"v":0,"d":"0.00"},0,0,0,{"v":0,"d":"0.0000"},{"v":0,"d":"0.0000"},0,0,{"v":0,"d":"0.00"},0,{"$f":"IFERROR(Z31*EUL_for_LPD,\"\")","v":0},0]
[null,{"$f":"IF(C32>1,\"Area 4\",IF(C32,\"\",\"\"))","v":""},{"$f":"IF($E$18=\"COMCheck\",'As-Built COMcheck'!D24,IF($E$18=\"Individual Files\",'Sq. Ft. Area Individual Files'!C12,0))","v":0},null,{"$f":"IF($E$18=\"COMCheck\",'As-Built COMcheck'!D25,IF($E$18=\"Individual Files\",'FixturesByArea Individual Files'!N51,0))","v":0},null,{"$f":"IF($E$18=\"COMCheck\",'As-Built COMcheck'!D27,IF($E$18=\"Individual Files\",'FixturesByArea Individual Files'!N91,0))","v":0},"","-","",{"v":0.05,"d":"$0.05"},"",null,"Area 4",{"v":0,"d":"0.00"},{"v":0,"d":"0.00"},{"v":0,"d":"0.00"},0,0,0,{"v":0,"d":"0.0000"},{"v":0,"d":"0.0000"},0,0,{"v":0,"d":"0.00"},0,0,0]
[null,{"$f":"IF(C33>1,\"Area 5\",IF(C33,\"\",\"\"))","v":""},{"$f":"IF($E$18=\"COMCheck\",'As-Built COMcheck'!D29,IF($E$18=\"Individual Files\",'Sq. Ft. Area Individual Files'!C13,0))","v":0},null,{"$f":"IF($E$18=\"COMCheck\",'As-Built COMcheck'!D30,IF($E$18=\"Individual Files\",'FixturesByArea Individual Files'!F94,0))","v":0},null,{"$f":"IF($E$18=\"COMCheck\",'As-Built COMcheck'!D32,IF($E$18=\"Individual Files\",'FixturesByArea Individual Files'!F134,0))","v":0},"","-","",{"v":0.05,"d":"$0.05"},"",null,"Area 5",{"v":0,"d":"0.00"},{"v":0,"d":"0.00"},{"v":0,"d":"0.00"},0,0,0,{"v":0,"d":"0.0000"},{"v":0,"d":"0.0000"},0,0,{"v":0,"d":"0.00"},0,0,0]
[null,{"$f":"IF(C34>1,\"Area 6\",IF(C34,\"\",\"\"))","v":""},{"$f":"IF($E$18=\"COMCheck\",'As-Built COMcheck'!D34,IF($E$18=\"Individual Files\",'Sq. Ft. Area Individual Files'!C14,0))","v":0},null,{"$f":"IF($E$18=\"COMCheck\",'As-Built COMcheck'!D35,IF($E$18=\"Individual Files\",'FixturesByArea Individual Files'!N94,0))","v":0},null,{"$f":"IF($E$18=\"COMCheck\",'As-Built COMcheck'!D37,IF($E$18=\"Individual Files\",'FixturesByArea Individual Files'!N134,0))","v":0},{"$f":"IFERROR(ROUND(G34/C34,2),\"\")","v":""},"-",{"$f":"IFERROR(ROUND(C34*D34*I34/1000,0),\"\")","v":""},{"v":0.05,"d":"$0.05"},{"$f":"IFERROR(J34*K34,\"\")","v":""},null,"Area 6",{"v":0,"d":"0.00"},{"v":0,"d":"0.00"},{"v":0,"d":"0.00"},0,0,0,{"v":0,"d":"0.0000"},{"v":0,"d":"0.0000"},0,0,{"v":0,"d":"0.00"},0,0,0]
[null,{"$f":"IF(C35>1,\"Area 7\",IF(C35,\"\",\"\"))","v":""},{"$f":"IF($E$18=\"COMCheck\",'As-Built COMcheck'!D39,IF($E$18=\"Individual Files\",'Sq. Ft. Area Individual Files'!C15,0))","v":0},null,{"$f":"IF($E$18=\"COMCheck\",'As-Built COMcheck'!D40,IF($E$18=\"Individual Files\",'FixturesByArea Individual Files'!F137,0))","v":0},null,{"$f":"IF($E$18=\"COMCheck\",'As-Built COMcheck'!D42,IF($E$18=\"Individual Files\",'FixturesByArea Individual Files'!F177,0))","v":0},"",{"$f":"IFERROR(ROUND(E35-H35,2),\"-\")","v":"-"},"",{"v":0.05,"d":"$0.05"},"",null,"Area 7",{"v":0,"d":"0.00"},{"v":0,"d":"0.00"},{"v":0,"d":"0.00"},0,0,0,{"v":0,"d":"0.0000"},{"v":0,"d":"0.0000"},0,0,{"v":0,"d":"0.00"},0,0,0]
[null,{"$f":"IF(C36>1,\"Area 8\",IF(C36,\"\",\"\"))","v":""},{"$f":"IF($E$18=\"COMCheck\",'As-Built COMcheck'!D44,IF($E$18=\"Individual Files\",'Sq. Ft. Area Individual Files'!C16,0))","v":0},null,{"$f":"IF($E$18=\"COMCheck\",'As-Built COMcheck'!D45,IF($E$18=\"Individual Files\",'FixturesByArea Individual Files'!N137,0))","v":0},null,{"$f":"IF($E$18=\"COMCheck\",'As-Built COMcheck'!D47,IF($E$18=\"Individual Files\",'FixturesByArea Individual Files'!N177,0))","v":0},"","-","",{"v":0.05,"d":"$0.05"},"",null,"Area 8",{"v":0,"d":"0.00"},{"v":0,"d":"0.00"},{"v":0,"d":"0.00"},0,0,0,{"v":0,"d":"0.0000"},{"v":0,"d":"0.0000"},0,0,{"v":0,"d":"0.00"},0,0,0]
[null,{"$f":"IF(C37>1,\"Area 9\",IF(C37,\"\",\"\"))","v":""},{"$f":"IF($E$18=\"COMCheck\",'As-Built COMcheck'!D49,IF($E$18=\"Individual Files\",'Sq. Ft. Area Individual Files'!C17,0))","v":0},null,{"$f":"IF($E$18=\"COMCheck\",'As-Built COMcheck'!D50,IF($E$18=\"Individual Files\",'FixturesByArea Individual Files'!F180,0))","v":0},null,{"$f":"IF($E$18=\"COMCheck\",'As-Built COMcheck'!D52,IF($E$18=\"Individual Files\",'FixturesByArea Individual Files'!F220,0))","v":0},"","-","",{"v":0.05,"d":"$0.05"},"",null,"Area 9",{"v":0,"d":"0.00"},{"v":0,"d":"0.00"},{"v":0,"d":"0.00"},0,0,0,{"v":0,"d":"0.0000"},{"v":0,"d":"0.0000"},0,0,{"v":0,"d":"0.00"},0,0,0]
[null,{"$f":"IF(C38>1,\"Area 10\",IF(C38,\"\",\"\"))","v":""},{"$f":"IF($E$18=\"COMCheck\",'As-Built COMcheck'!D54,IF($E$18=\"Individual Files\",'Sq. Ft. Area Individual Files'!C18,0))","v":0},null,{"$f":"IF($E$18=\"COMCheck\",'As-Built COMcheck'!D55,IF($E$18=\"Individual Files\",'FixturesByArea Individual Files'!N180,0))","v":0},null,{"$f":"IF($E$18=\"COMCheck\",'As-Built COMcheck'!D57,IF($E$18=\"Individual Files\",'FixturesByArea Individual Files'!N220,0))","v":0},"","-","",{"v":0.05,"d":"$0.05"},"",null,"Area 10",{"v":0,"d":"0.00"},{"v":0,"d":"0.00"},{"v":0,"d":"0.00"},0,0,0,{"v":0,"d":"0.0000"},{"v":0,"d":"0.0000"},0,0,{"v":0,"d":"0.00"},0,0,0]
[null,{"$f":"IF(C39>1,\"Area 11\",IF(C39,\"\",\"\"))","v":""},{"$f":"IF($E$18=\"COMCheck\",'As-Built COMcheck'!D59,IF($E$18=\"Individual Files\",'Sq. Ft. Area Individual Files'!C19,0))","v":0},null,{"$f":"IF($E$18=\"COMCheck\",'As-Built COMcheck'!D60,IF($E$18=\"Individual Files\",'FixturesByArea Individual Files'!F223,0))","v":0},null,{"$f":"IF($E$18=\"COMCheck\",'As-Built COMcheck'!D62,IF($E$18=\"Individual Files\",'FixturesByArea Individual Files'!F263,0))","v":0},"","-","",{"v":0.05,"d":"$0.05"},"",null,"Area 11",{"v":0,"d":"0.00"},{"v":0,"d":"0.00"},{"v":0,"d":"0.00"},0,0,0,{"v":0,"d":"0.0000"},{"v":0,"d":"0.0000"},0,0,{"v":0,"d":"0.00"},0,0,0]
[null,{"$f":"IF(C40>1,\"Area 12\",IF(C40,\"\",\"\"))","v":""},{"$f":"IF($E$18=\"COMCheck\",'As-Built COMcheck'!D64,IF($E$18=\"Individual Files\",'Sq. Ft. Area Individual Files'!C20,0))","v":0},null,{"$f":"IF($E$18=\"COMCheck\",'As-Built COMcheck'!D65,IF($E$18=\"Individual Files\",'FixturesByArea Individual Files'!N223,0))","v":0},null,{"$f":"IF($E$18=\"COMCheck\",'As-Built COMcheck'!D67,IF($E$18=\"Individual Files\",'FixturesByArea Individual Files'!N263,0))","v":0},"","-","",{"v":0.05,"d":"$0.05"},"",null,"Area 12",{"v":0,"d":"0.00"},{"v":0,"d":"0.00"},{"v":0,"d":"0.00"},0,0,0,{"v":0,"d":"0.0000"},{"v":0,"d":"0.0000"},0,0,{"v":0,"d":"0.00"},0,0,0]
[null,{"$f":"IF(C41>1,\"Area 13\",IF(C41,\"\",\"\"))","v":""},{"$f":"IF($E$18=\"COMCheck\",'As-Built COMcheck'!D69,IF($E$18=\"Individual Files\",'Sq. Ft. Area Individual Files'!C21,0))","v":0},null,{"$f":"IF($E$18=\"COMCheck\",'As-Built COMcheck'!D70,IF($E$18=\"Individual Files\",'FixturesByArea Individual Files'!F266,0))","v":0},null,{"$f":"IF($E$18=\"COMCheck\",'As-Built COMcheck'!D72,IF($E$18=\"Individual Files\",'FixturesByArea Individual Files'!F306,0))","v":0},"","-","",{"v":0.05,"d":"$0.05"},"",null,"Area 13",{"v":0,"d":"0.00"},{"v":0,"d":"0.00"},{"v":0,"d":"0.00"},0,0,0,{"v":0,"d":"0.0000"},{"v":0,"d":"0.0000"},0,0,{"v":0,"d":"0.00"},0,0,0]
[null,{"$f":"IF(C42>1,\"Area 14\",IF(C42,\"\",\"\"))","v":""},{"$f":"IF($E$18=\"COMCheck\",'As-Built COMcheck'!D74,IF($E$18=\"Individual Files\",'Sq. Ft. Area Individual Files'!C22,0))","v":0},null,{"$f":"IF($E$18=\"COMCheck\",'As-Built COMcheck'!D75,IF($E$18=\"Individual Files\",'FixturesByArea Individual Files'!N266,0))","v":0},null,{"$f":"IF($E$18=\"COMCheck\",'As-Built COMcheck'!D77,IF($E$18=\"Individual Files\",'FixturesByArea Individual Files'!N306,0))","v":0},"","-","",{"v":0.05,"d":"$0.05"},"",null,"Area 14",{"v":0,"d":"0.00"},{"v":0,"d":"0.00"},{"v":0,"d":"0.00"},0,0,0,{"v":0,"d":"0.0000"},{"v":0,"d":"0.0000"},0,0,{"v":0,"d":"0.00"},0,0,0]
[null,{"$f":"IF(C43>1,\"Area 15\",IF(C43,\"\",\"\"))","v":""},{"$f":"IF($E$18=\"COMCheck\",'As-Built COMcheck'!D79,IF($E$18=\"Individual Files\",'Sq. Ft. Area Individual Files'!C23,0))","v":0},null,{"$f":"IF($E$18=\"COMCheck\",'As-Built COMcheck'!D80,IF($E$18=\"Individual Files\",'FixturesByArea Individual Files'!F309,0))","v":0},null,{"$f":"IF($E$18=\"COMCheck\",'As-Built COMcheck'!D82,IF($E$18=\"Individual Files\",'FixturesByArea Individual Files'!F349,0))","v":0},"","-","",{"v":0.05,"d":"$0.05"},"",null,"Area 15",{"v":0,"d":"0.00"},{"v":0,"d":"0.00"},{"v":0,"d":"0.00"},0,0,0,{"v":0,"d":"0.0000"},{"v":0,"d":"0.0000"},0,0,{"v":0,"d":"0.00"},0,0,0]
[null,{"$f":"IF(C44>1,\"Area 16\",IF(C44,\"\",\"\"))","v":""},{"$f":"IF($E$18=\"COMCheck\",'As-Built COMcheck'!D84,IF($E$18=\"Individual Files\",'Sq. Ft. Area Individual Files'!C24,0))","v":0},null,{"$f":"IF($E$18=\"COMCheck\",'As-Built COMcheck'!D85,IF($E$18=\"Individual Files\",'FixturesByArea Individual Files'!N309,0))","v":0},null,{"$f":"IF($E$18=\"COMCheck\",'As-Built COMcheck'!D87,IF($E$18=\"Individual Files\",'FixturesByArea Individual Files'!N349,0))","v":0},"","-","",{"v":0.05,"d":"$0.05"},"",null,"Area 16",{"v":0,"d":"0.00"},{"v":0,"d":"0.00"},{"v":0,"d":"0.00"},0,0,0,{"v":0,"d":"0.0000"},{"v":0,"d":"0.0000"},0,0,{"v":0,"d":"0.00"},0,0,0]
[null,{"$f":"IF(C45>1,\"Area 17\",IF(C45,\"\",\"\"))","v":""},{"$f":"IF($E$18=\"COMCheck\",'As-Built COMcheck'!D89,IF($E$18=\"Individual Files\",'Sq. Ft. Area Individual Files'!C25,0))","v":0},null,{"$f":"IF($E$18=\"COMCheck\",'As-Built COMcheck'!D90,IF($E$18=\"Individual Files\",'FixturesByArea Individual Files'!F352,0))","v":0},null,{"$f":"IF($E$18=\"COMCheck\",'As-Built COMcheck'!D92,IF($E$18=\"Individual Files\",'FixturesByArea Individual Files'!F392,0))","v":0},"","-",{"$f":"IFERROR(ROUND(C45*D45*I45/1000,0),\"\")","v":""},{"v":0.05,"d":"$0.05"},"",null,"Area 17",{"$f":"IF(D45<$P$25,$N$25,IF(D45>=$P$24,$N$24,VLOOKUP($H$18,$J$20:$O$23,5)))","v":{"v":0,"d":"0.00"}},{"v":0,"d":"0.00"},{"v":0,"d":"0.00"},0,0,0,{"v":0,"d":"0.0000"},{"v":0,"d":"0.0000"},0,0,{"v":0,"d":"0.00"},0,0,0]
[null,{"$f":"IF(C46>1,\"Area 18\",IF(C46,\"\",\"\"))","v":""},{"$f":"IF($E$18=\"COMCheck\",'As-Built COMcheck'!D94,IF($E$18=\"Individual Files\",'Sq. Ft. Area Individual Files'!C26,0))","v":0},null,{"$f":"IF($E$18=\"COMCheck\",'As-Built COMcheck'!D95,IF($E$18=\"Individual Files\",'FixturesByArea Individual Files'!N352,0))","v":0},null,{"$f":"IF($E$18=\"COMCheck\",'As-Built COMcheck'!D97,IF($E$18=\"Individual Files\",'FixturesByArea Individual Files'!N392,0))","v":0},"","-","",{"v":0.05,"d":"$0.05"},"",null,"Area 18",{"$f":"IF(D46<$P$25,$N$25,IF(D46>=$P$24,$N$24,VLOOKUP($H$18,$J$20:$O$23,5)))","v":{"v":0,"d":"0.00"}},{"v":0,"d":"0.00"},{"v":0,"d":"0.00"},0,0,{"$f":"IFERROR(ROUND(Q46*S46,0),\"\")","v":0},{"v":0,"d":"0.0000"},{"v":0,"d":"0.0000"},0,0,{"v":0,"d":"0.00"},0,0,0]
[null,{"$f":"IF(C47>1,\"Area 19\",IF(C47,\"\",\"\"))","v":""},{"$f":"IF($E$18=\"COMCheck\",'As-Built COMcheck'!D99,IF($E$18=\"Individual Files\",'Sq. Ft. Area Individual Files'!C27,0))","v":0},null,{"$f":"IF($E$18=\"COMCheck\",'As-Built COMcheck'!D100,IF($E$18=\"Individual Files\",'FixturesByArea Individual Files'!F395,0))","v":0},null,{"$f":"IF($E$18=\"COMCheck\",'As-Built COMcheck'!D102,IF($E$18=\"Individual Files\",'FixturesByArea Individual Files'!F435,0))","v":0},"","-","",{"v":0.05,"d":"$0.05"},"",null,"Area 19",{"v":0,"d":"0.00"},{"v":0,"d":"0.00"},{"v":0,"d":"0.00"},0,0,0,{"v":0,"d":"0.0000"},{"v":0,"d":"0.0000"},0,0,{"v":0,"d":"0.00"},0,0,0]
[null,{"$f":"IF(C48>1,\"Area 20\",IF(C48,\"\",\"\"))","v":""},{"$f":"IF($E$18=\"COMCheck\",'As-Built COMcheck'!D104,IF($E$18=\"Individual Files\",'Sq. Ft. Area Individual Files'!C28,0))","v":0},null,{"$f":"IF($E$18=\"COMCheck\",'As-Built COMcheck'!D105,IF($E$18=\"Individual Files\",'FixturesByArea Individual Files'!N395,0))","v":0},null,{"$f":"IF($E$18=\"COMCheck\",'As-Built COMcheck'!D107,IF($E$18=\"Individual Files\",'FixturesByArea Individual Files'!N435,0))","v":0},"","-","",{"v":0.05,"d":"$0.05"},"",null,"Area 20",{"v":0,"d":"0.00"},{"v":0,"d":"0.00"},{"v":0,"d":"0.00"},0,0,0,{"v":0,"d":"0.0000"},{"v":0,"d":"0.0000"},0,0,{"v":0,"d":"0.00"},0,0,0]
[null,{"$f":"IF(C49>1,\"Area 21\",IF(C49,\"\",\"\"))","v":""},{"$f":"IF($E$18=\"COMCheck\",'As-Built COMcheck'!D109,IF($E$18=\"Individual Files\",'Sq. Ft. Area Individual Files'!C29,0))","v":0},null,{"$f":"IF($E$18=\"COMCheck\",'As-Built COMcheck'!D110,IF($E$18=\"Individual Files\",'FixturesByArea Individual Files'!F438,0))","v":0},null,{"$f":"IF($E$18=\"COMCheck\",'As-Built COMcheck'!D112,IF($E$18=\"Individual Files\",'FixturesByArea Individual Files'!F478,0))","v":0},"","-","",{"v":0.05,"d":"$0.05"},"",null,"Area 21",{"v":0,"d":"0.00"},{"v":0,"d":"0.00"},{"v":0,"d":"0.00"},0,0,0,{"v":0,"d":"0.0000"},{"v":0,"d":"0.0000"},0,0,{"v":0,"d":"0.00"},0,0,0]
[null,{"$f":"IF(C50>1,\"Area 22\",IF(C50,\"\",\"\"))","v":""},{"$f":"IF($E$18=\"COMCheck\",'As-Built COMcheck'!D114,IF($E$18=\"Individual Files\",'Sq. Ft. Area Individual Files'!C30,0))","v":0},null,{"$f":"IF($E$18=\"COMCheck\",'As-Built COMcheck'!D115,IF($E$18=\"Individual Files\",'FixturesByArea Individual Files'!N438,0))","v":0},null,{"$f":"IF($E$18=\"COMCheck\",'As-Built COMcheck'!D117,IF($E$18=\"Individual Files\",'FixturesByArea Individual Files'!N478,0))","v":0},"","-","",{"v":0.05,"d":"$0.05"},"",null,"Area 22",{"v":0,"d":"0.00"},{"v":0,"d":"0.00"},{"v":0,"d":"0.00"},0,0,0,{"v":0,"d":"0.0000"},{"v":0,"d":"0.0000"},0,0,{"v":0,"d":"0.00"},0,0,0]
[null,{"$f":"IF(C51>1,\"Area 23\",IF(C51,\"\",\"\"))","v":""},{"$f":"IF($E$18=\"COMCheck\",'As-Built COMcheck'!D119,IF($E$18=\"Individual Files\",'Sq. Ft. Area Individual Files'!C31,0))","v":0},null,{"$f":"IF($E$18=\"COMCheck\",'As-Built COMcheck'!D120,IF($E$18=\"Individual Files\",'FixturesByArea Individual Files'!F481,0))","v":0},null,{"$f":"IF($E$18=\"COMCheck\",'As-Built COMcheck'!D122,IF($E$18=\"Individual Files\",'FixturesByArea Individual Files'!F521,0))","v":0},"","-","",{"v":0.05,"d":"$0.05"},"",null,"Area 23",{"v":0,"d":"0.00"},{"v":0,"d":"0.00"},{"v":0,"d":"0.00"},0,0,0,{"v":0,"d":"0.0000"},{"v":0,"d":"0.0000"},0,0,{"v":0,"d":"0.00"},0,0,0]
[null,{"$f":"IF(C52>1,\"Area 24\",IF(C52,\"\",\"\"))","v":""},{"$f":"IF($E$18=\"COMCheck\",'As-Built COMcheck'!D124,IF($E$18=\"Individual Files\",'Sq. Ft. Area Individual Files'!C32,0))","v":0},null,{"$f":"IF($E$18=\"COMCheck\",'As-Built COMcheck'!D125,IF($E$18=\"Individual Files\",'FixturesByArea Individual Files'!N481,0))","v":0},null,{"$f":"IF($E$18=\"COMCheck\",'As-Built COMcheck'!D127,IF($E$18=\"Individual Files\",'FixturesByArea Individual Files'!N521,0))","v":0},"","-","",{"v":0.05,"d":"$0.05"},"",null,"Area 24",{"v":0,"d":"0.00"},{"v":0,"d":"0.00"},{"v":0,"d":"0.00"},0,0,0,{"v":0,"d":"0.0000"},{"v":0,"d":"0.0000"},0,0,{"v":0,"d":"0.00"},0,0,0]
[null,{"$f":"IF(C53>1,\"Area 25\",IF(C53,\"\",\"\"))","v":""},{"$f":"IF($E$18=\"COMCheck\",'As-Built COMcheck'!D129,IF($E$18=\"Individual Files\",'Sq. Ft. Area Individual Files'!C33,0))","v":0},null,{"$f":"IF($E$18=\"COMCheck\",'As-Built COMcheck'!D130,IF($E$18=\"Individual Files\",'FixturesByArea Individual Files'!F524,0))","v":0},null,{"$f":"IF($E$18=\"COMCheck\",'As-Built COMcheck'!D132,IF($E$18=\"Individual Files\",'FixturesByArea Individual Files'!F564,0))","v":0},"","-","",{"v":0.05,"d":"$0.05"},"",null,"Area 25",{"v":0,"d":"0.00"},{"v":0,"d":"0.00"},{"v":0,"d":"0.00"},0,0,0,{"v":0,"d":"0.0000"},{"v":0,"d":"0.0000"},0,0,{"v":0,"d":"0.00"},0,0,0]
[{"$nulls":10},"Total:",{"$f":"SUBTOTAL(9,(L29:L53))","v":0},{"$nulls":6},"Total Project",{"$f":"SUBTOTAL(9,(T29:T53))","v":0},{"$f":"SUBTOTAL(9,(U29:U53))","v":{"v":0,"d":"0.0000"}},{"$f":"SUBTOTAL(9,(V29:V53))","v":{"v":0,"d":"0.0000"}},0,{"v":0,"d":"0.00000"},{"v":0,"d":"0.00"},0,0,0]
[{"$nulls":11},{"$f":"IF(L54>24999.99,\"Post Inspection Required. Focus on Energy will contact to schedule.\",IF(L54<25000,\"\"))","v":""}]
[null,"Important \nNotes: ","The above calculation is an estimated incentive and is subject to review.  If discrepancies are discovered, Focus on Energy reserves the right to adjust the incentive.",{"$nulls":25},"Industry Standard Cost"]
[null,null,"The Incentive application and LPD workbook must be submitted within 60 days of project completion.  Both are required for incentive processing."]
[null,null,"Project Completion is considered occupancy date or final equipment installation date, whichever occurs later."]
[null,null,"Contact Focus on Energy at business@focusonenergy.com or 800.762.7077."]
[null,null,"Link to Focus on Energy Catalogs",{"$nulls":7},"Last Revised:",{"$f":"MAX(RevisionHistory!B5:B41)","v":"2025-12-18"}]

{"sheet":" Requirements COMcheck","index":1,"n_rows":0,"n_cols":0,"rows_kept":0,"hidden":true}

{"sheet":"As-Built COMcheck","index":2,"n_rows":167,"n_cols":24,"rows_kept":167,"hidden":true,"merged":[[0,0,3,10],[0,11,0,20],[1,11,2,20],[3,11,4,20],[5,11,5,20],[9,4,10,9],[16,11,18,22],[19,11,20,22],[23,11,24,22],[26,11,30,22],[38,23,38,24],[40,23,40,24],[133,13,134,18],[135,0,147,10],[150,0,169,10]]}
["For data provided via COMcheck report\n - Provide the As-Built COMcheck report\n - If COMcheck lists more than 25 Area Types, contact Focus on Energy for assistance (business@focusonenergy.com)\n - See Helpful Tips tab for directions on inserting files",{"$nulls":10},"Invoices to Support Fixtures Installed"]
[{"$nulls":11}," - Include invoices for all interior fixtures installed (indicate any items \n   on invoice that are not part of the LPD offering)"]
[]
[{"$nulls":11}," - Provide itemized invoices showing quantity and make/model number\n - Include multiple files if appropriate"]
[]
[{"$nulls":11}," - Supply as separate document attachment(s) if file size is prohibitive"]
["Area 1:",null,"Total Sq. Ft:",null,"Found on COMcheck as \"Floor Area (ft2)\""]
[null,null,"Allowed Watts/ft2:",null,"Found on COMcheck as \"Allowed Watts / ft2\"",{"$nulls":6},"Important Reminders for COMcheck Reports"]
[null,null,"Total Allowed Watts:",{"$f":"IFERROR(ROUND(D7*D8,0),\"\")","v":0},"This will calculate",{"$nulls":6},"Must use Energy Code \"2021 IECC\""]
[null,null,"New System Installed Watts:",null,"For Single Area Facility find on COMcheck as Total Proposed\nWatts - For multi-area add all wattage installed in Area 1 "]
[]
["Lines 15-134 used if multiple area types are listed on COMcheck, as indicated under \"Area Category\""]
[]
["Area 2:",null,"Total Sq. Ft:",null,"Found on COMcheck as \"Floor Area (ft2)\""]
[null,null,"Allowed Watts/ft2:",null,"Found on COMcheck as \"Allowed Watts / ft2\""]
[null,null,"Total Allowed Watts:",{"$f":"IFERROR(ROUND(D14*D15,0),\"\")","v":0},"This will calculate"]
[null,null,"New System Installed Watts:",null,"On COMcheck add all wattage installed in Area 2",{"$nulls":6},"Must report As-Built conditions\nIf the installed scope of work differs from the initial COMcheck report, a revised COMcheck is required.  If discrepancies are found in review (ex.: COMcheck report, invoicing, in-person inspection), assumptions of higher value installed will be made."]
[]
["Area 3:",null,"Total Sq. Ft:",null,"Found on COMcheck as \"Floor Area (ft2)\""]
[null,null,"Allowed Watts/ft2:",null,"Found on COMcheck as \"Allowed Watts / ft2\""]
[null,null,"Total Allowed Watts:",{"$f":"IFERROR(ROUND(D19*D20,0),\"\")","v":0},"This will calculate"]
[null,null,"New System Installed Watts:",null,"On COMcheck add all wattage installed in Area 3"]
[]
["Area 4:",null,"Total Sq. Ft:",null,"Found on COMcheck as \"Floor Area (ft2)\""]
[null,null,"Allowed Watts/ft2:",null,"Found on COMcheck as \"Allowed Watts / ft2\""]
[null,null,"Total Allowed Watts:",{"$f":"IFERROR(ROUND(D24*D25,0),\"\")","v":0},"This will calculate"]
[null,null,"New System Installed Watts:",null,"On COMcheck add all wattage installed in Area 4",{"$nulls":6},"For Projects with Multiple Area Types listed on COMcheck\n1. Follow example showing how to enter values\n2. If COMcheck lists more than 25 Area Types, contact Focus on Energy for assistance (business@focusonenergy.com)"]
[]
["Area 5:",null,"Total Sq. Ft:",null,"Found on COMcheck as \"Floor Area (ft2)\""]
[null,null,"Allowed Watts/ft2:",null,"Found on COMcheck as \"Allowed Watts / ft2\""]
[null,null,"Total Allowed Watts:",{"$f":"IFERROR(ROUND(D29*D30,0),\"\")","v":0},"This will calculate"]
[null,null,"New System Installed Watts:",null,"On COMcheck add all wattage installed in Area 5",{"$nulls":7},"Example: "]
[]
["Area 6:",null,"Total Sq. Ft:",null,"Found on COMcheck as \"Floor Area (ft2)\""]
[null,null,"Allowed Watts/ft2:",null,"Found on COMcheck as \"Allowed Watts / ft2\""]
[null,null,"Total Allowed Watts:",{"$f":"IFERROR(ROUND(D34*D35,0),\"\")","v":0},"This will calculate"]
[null,null,"New System Installed Watts:",null,"On COMcheck add all wattage installed in Area 6"]
[]
["Area 7:",null,"Total Sq. Ft:",null,"Found on COMcheck as \"Floor Area (ft2)\"",{"$nulls":18},"Sum: 18,654 + 584 = 19,148"]
[null,null,"Allowed Watts/ft2:",null,"Found on COMcheck as \"Allowed Watts / ft2\""]
[null,null,"Total Allowed Watts:",{"$f":"IFERROR(ROUND(D39*D40,0),\"\")","v":0},"This will calculate",{"$nulls":18},"Sum: 6,194 + 60 = 6,254"]
[null,null,"New System Installed Watts:",null,"On COMcheck add all wattage installed in Area 7"]
[]
["Area 8:",null,"Total Sq. Ft:",null,"Found on COMcheck as \"Floor Area (ft2)\""]
[null,null,"Allowed Watts/ft2:",null,"Found on COMcheck as \"Allowed Watts / ft2\""]
[null,null,"Total Allowed Watts:",{"$f":"IFERROR(ROUND(D44*D45,0),\"\")","v":0},"This will calculate"]
[null,null,"New System Installed Watts:",null,"On COMcheck add all wattage installed in Area 8"]
[]
["Area 9:",null,"Total Sq. Ft:",null,"Found on COMcheck as \"Floor Area (ft2)\""]
[null,null,"Allowed Watts/ft2:",null,"Found on COMcheck as \"Allowed Watts / ft2\""]
[null,null,"Total Allowed Watts:",{"$f":"IFERROR(ROUND(D49*D50,0),\"\")","v":0},"This will calculate"]
[null,null,"New System Installed Watts:",null,"On COMcheck add all wattage installed in Area 9"]
[]
["Area 10:",null,"Total Sq. Ft:",null,"Found on COMcheck as \"Floor Area (ft2)\""]
[null,null,"Allowed Watts/ft2:",null,"Found on COMcheck as \"Allowed Watts / ft2\""]
[null,null,"Total Allowed Watts:",{"$f":"IFERROR(ROUND(D54*D55,0),\"\")","v":0},"This will calculate"]
[null,null,"New System Installed Watts:",null,"On COMcheck add all wattage installed in Area 10"]
[]
["Area 11:",null,"Total Sq. Ft:",null,"Found on COMcheck as \"Floor Area (ft2)\""]
[null,null,"Allowed Watts/ft2:",null,"Found on COMcheck as \"Allowed Watts / ft2\""]
[null,null,"Total Allowed Watts:",{"$f":"IFERROR(ROUND(D59*D60,0),\"\")","v":0},"This will calculate"]
[null,null,"New System Installed Watts:",null,"On COMcheck add all wattage installed in Area 11"]
[]
["Area 12:",null,"Total Sq. Ft:",null,"Found on COMcheck as \"Floor Area (ft2)\""]
[null,null,"Allowed Watts/ft2:",null,"Found on COMcheck as \"Allowed Watts / ft2\""]
[null,null,"Total Allowed Watts:",{"$f":"IFERROR(ROUND(D64*D65,0),\"\")","v":0},"This will calculate"]
[null,null,"New System Installed Watts:",null,"On COMcheck add all wattage installed in Area 12"]
[]
["Area 13:",null,"Total Sq. Ft:",null,"Found on COMcheck as \"Floor Area (ft2)\""]
[null,null,"Allowed Watts/ft2:",null,"Found on COMcheck as \"Allowed Watts / ft2\""]
[null,null,"Total Allowed Watts:",{"$f":"IFERROR(ROUND(D69*D70,0),\"\")","v":0},"This will calculate"]
[null,null,"New System Installed Watts:",null,"On COMcheck add all wattage installed in Area 13"]
[]
["Area 14:",null,"Total Sq. Ft:",null,"Found on COMcheck as \"Floor Area (ft2)\""]
[null,null,"Allowed Watts/ft2:",null,"Found on COMcheck as \"Allowed Watts / ft2\""]
[null,null,"Total Allowed Watts:",{"$f":"IFERROR(ROUND(D74*D75,0),\"\")","v":0},"This will calculate"]
[null,null,"New System Installed Watts:",null,"On COMcheck add all wattage installed in Area 14"]
[]
["Area 15:",null,"Total Sq. Ft:",null,"Found on COMcheck as \"Floor Area (ft2)\""]
[null,null,"Allowed Watts/ft2:",null,"Found on COMcheck as \"Allowed Watts / ft2\""]
[null,null,"Total Allowed Watts:",{"$f":"IFERROR(ROUND(D79*D80,0),\"\")","v":0},"This will calculate"]
[null,null,"New System Installed Watts:",null,"On COMcheck add all wattage installed in Area 15"]
[]
["Area 16:",null,"Total Sq. Ft:",null,"Found on COMcheck as \"Floor Area (ft2)\""]
[null,null,"Allowed Watts/ft2:",null,"Found on COMcheck as \"Allowed Watts / ft2\""]
[null,null,"Total Allowed Watts:",{"$f":"IFERROR(ROUND(D84*D85,0),\"\")","v":0},"This will calculate"]
[null,null,"New System Installed Watts:",null,"On COMcheck add all wattage installed in Area 16"]
[]
["Area 17:",null,"Total Sq. Ft:",null,"Found on COMcheck as \"Floor Area (ft2)\""]
[null,null,"Allowed Watts/ft2:",null,"Found on COMcheck as \"Allowed Watts / ft2\""]
[null,null,"Total Allowed Watts:",{"$f":"IFERROR(ROUND(D89*D90,0),\"\")","v":0},"This will calculate"]
[null,null,"New System Installed Watts:",null,"On COMcheck add all wattage installed in Area 17"]
[]
["Area 18:",null,"Total Sq. Ft:",null,"Found on COMcheck as \"Floor Area (ft2)\""]
[null,null,"Allowed Watts/ft2:",null,"Found on COMcheck as \"Allowed Watts / ft2\""]
[null,null,"Total Allowed Watts:",{"$f":"IFERROR(ROUND(D94*D95,0),\"\")","v":0},"This will calculate"]
[null,null,"New System Installed Watts:",null,"On COMcheck add all wattage installed in Area 18"]
[]
["Area 19:",null,"Total Sq. Ft:",null,"Found on COMcheck as \"Floor Area (ft2)\""]
[null,null,"Allowed Watts/ft2:",null,"Found on COMcheck as \"Allowed Watts / ft2\""]
[null,null,"Total Allowed Watts:",{"$f":"IFERROR(ROUND(D99*D100,0),\"\")","v":0},"This will calculate"]
[null,null,"New System Installed Watts:",null,"On COMcheck add all wattage installed in Area 19"]
[]
["Area 20:",null,"Total Sq. Ft:",null,"Found on COMcheck as \"Floor Area (ft2)\""]
[null,null,"Allowed Watts/ft2:",null,"Found on COMcheck as \"Allowed Watts / ft2\""]
[null,null,"Total Allowed Watts:",{"$f":"IFERROR(ROUND(D104*D105,0),\"\")","v":0},"This will calculate"]
[null,null,"New System Installed Watts:",null,"On COMcheck add all wattage installed in Area 20"]
[]
["Area 21:",null,"Total Sq. Ft:",null,"Found on COMcheck as \"Floor Area (ft2)\""]
[null,null,"Allowed Watts/ft2:",null,"Found on COMcheck as \"Allowed Watts / ft2\""]
[null,null,"Total Allowed Watts:",{"$f":"IFERROR(ROUND(D109*D110,0),\"\")","v":0},"This will calculate"]
[null,null,"New System Installed Watts:",null,"On COMcheck add all wattage installed in Area 21"]
[]
["Area 22:",null,"Total Sq. Ft:",null,"Found on COMcheck as \"Floor Area (ft2)\""]
[null,null,"Allowed Watts/ft2:",null,"Found on COMcheck as \"Allowed Watts / ft2\""]
[null,null,"Total Allowed Watts:",{"$f":"IFERROR(ROUND(D114*D115,0),\"\")","v":0},"This will calculate"]
[null,null,"New System Installed Watts:",null,"On COMcheck add all wattage installed in Area 22"]
[]
["Area 23:",null,"Total Sq. Ft:",null,"Found on COMcheck as \"Floor Area (ft2)\""]
[null,null,"Allowed Watts/ft2:",null,"Found on COMcheck as \"Allowed Watts / ft2\""]
[null,null,"Total Allowed Watts:",{"$f":"IFERROR(ROUND(D119*D120,0),\"\")","v":0},"This will calculate"]
[null,null,"New System Installed Watts:",null,"On COMcheck add all wattage installed in Area 23"]
[]
["Area 24:",null,"Total Sq. Ft:",null,"Found on COMcheck as \"Floor Area (ft2)\""]
[null,null,"Allowed Watts/ft2:",null,"Found on COMcheck as \"Allowed Watts / ft2\""]
[null,null,"Total Allowed Watts:",{"$f":"IFERROR(ROUND(D124*D125,0),\"\")","v":0},"This will calculate"]
[null,null,"New System Installed Watts:",null,"On COMcheck add all wattage installed in Area 24"]
[]
["Area 25:",null,"Total Sq. Ft:",null,"Found on COMcheck as \"Floor Area (ft2)\""]
[null,null,"Allowed Watts/ft2:",null,"Found on COMcheck as \"Allowed Watts / ft2\""]
[null,null,"Total Allowed Watts:",{"$f":"IFERROR(ROUND(D129*D130,0),\"\")","v":0},"This will calculate"]
[null,null,"New System Installed Watts:",null,"On COMcheck add all wattage installed in Area 25"]
[{"$nulls":13},"2021 IECC Lighting Power Density (LPD) Reference Table:"]
[{"$nulls":13},"LIGHTING POWER DENSITY (AREA METHOD) - 2021 IECC"]
["Insert pdf of As-Built COMcheck here:"]
[{"$nulls":13},"Automotive Facility",{"$nulls":4},0.75]
[{"$nulls":13},"Convention Center",{"$nulls":4},0.64]
[{"$nulls":13},"Court House",{"$nulls":4},0.79]
[{"$nulls":13},"Dining: Bar Lounge/Leisure",{"$nulls":4},0.8]
[{"$nulls":13},"Dining: Cafeteria/Fast Food",{"$nulls":4},0.76]
[{"$nulls":13},"Dining: Family",{"$nulls":4},0.71]
[{"$nulls":13},"Dormitory",{"$nulls":4},0.53]
[{"$nulls":13},"Exercise Center",{"$nulls":4},0.72]
[{"$nulls":13},"Fire Station",{"$nulls":4},0.56]
[{"$nulls":13},"Gymnasium",{"$nulls":4},0.76]
[{"$nulls":13},"Healthcare Clinic",{"$nulls":4},0.81]
[{"$nulls":13},"Hospital",{"$nulls":4},0.96]
[{"$nulls":13},"Hotel/Motel",{"$nulls":4},0.56]
[{"$nulls":13},"Library",{"$nulls":4},0.83]
["Insert pdf of fixture invoices here:",{"$nulls":12},"Manufacturing Facility",{"$nulls":4},0.82]
[{"$nulls":13},"Motion Picture Theater",{"$nulls":4},0.44]
[{"$nulls":13},"Multifamily",{"$nulls":4},0.45]
[{"$nulls":13},"Museum",{"$nulls":4},0.55]
[{"$nulls":13},"Office",{"$nulls":4},0.64]
[{"$nulls":13},"Parking Garage",{"$nulls":4},0.18]
[{"$nulls":13},"Penitentiary",{"$nulls":4},0.69]
[{"$nulls":13},"Performing Arts Theater",{"$nulls":4},0.84]
[{"$nulls":13},"Police Station",{"$nulls":4},0.66]
[{"$nulls":13},"Post Office",{"$nulls":4},0.65]
[{"$nulls":13},"Religious Building",{"$nulls":4},0.67]
[{"$nulls":13},"Retail",{"$nulls":4},0.84]
[{"$nulls":13},"School/University",{"$nulls":4},0.72]
[{"$nulls":13},"Sports Arena",{"$nulls":4},0.76]
[{"$nulls":13},"Town Hall",{"$nulls":4},0.69]
[{"$nulls":13},"Transportation",{"$nulls":4},0.5]
[{"$nulls":13},"Warehouse",{"$nulls":4},0.45]
[{"$nulls":13},"Workshop",{"$nulls":4},0.91]

{"sheet":" Requirements Individual Files","index":3,"n_rows":0,"n_cols":0,"rows_kept":0,"hidden":true}

{"sheet":"Sq. Ft. Area Individual Files","index":4,"n_rows":33,"n_cols":9,"rows_kept":33,"hidden":true,"merged":[[0,0,4,3],[7,5,10,9],[13,5,14,9],[15,5,20,9]]}
["Documentation Showing As-Built Square Footage\n - Floorplan layout must include dimensions\n - Include multiple files if appropriate\n - Supply as separate document attachment(s) if file size is prohibitive\n - See Helpful Tips tab for help inserting files"]
[]
[]
[]
[]
[]
[null,null,"Sq. Ft.","Describe Area",null,"Insert floorplan PDF(s) here:"]
[null,null,"Verified by floorplan layout"," (ex.: Warehouse, Offices, etc.)"]
[null,"Area 1:"]
[null,"Area 2:"]
[null,"Area 3:"]
[null,"Area 4:"]
[null,"Area 5:"]
[null,"Area 6:",{"$nulls":3},"For Projects with Multiple Area Use Types\n   Ex.: Warehouse (Area 1), Showroom (Area 2) and Offices (Area 3) within same facility\n"]
[null,"Area 7:"]
[null,"Area 8:",{"$nulls":3},"1. Enter description of each Area\n2. Combine all of facility's common Use Type Areas within one area calculation\n       Example: Office spaces on Floor 1 (956 sq. ft.) + Floor 2 (5,110 sq. ft.) + Floor 3 \n       (554 sq. ft.) = 6,620 sq. ft. for the \"office\" area type \n3. Be sure all area types are clearly marked on building layout pdf "]
[null,"Area 9:"]
[null,"Area 10:"]
[null,"Area 11:"]
[null,"Area 12:"]
[null,"Area 13:"]
[null,"Area 14:",{"$nulls":3},"Example:",null,"Sq. Ft.","Describe Area"]
[null,"Area 15:",{"$nulls":5},"Verified by pdf layout"," (ex.: Warehouse, Offices, etc.):"]
[null,"Area 16:",{"$nulls":4},"Area 1:",{"v":42412,"d":"42,412"},"Manufacturing"]
[null,"Area 17:",{"$nulls":4},"Area 2:",{"v":6620,"d":"6,620"},"Offices on Floors 1, 2 & 3"]
[null,"Area 18:",{"$nulls":4},"Area 3:",{"v":5625,"d":"5,625"},"Showroom"]
[null,"Area 19:"]
[null,"Area 20:"]
[null,"Area 21:"]
[null,"Area 22:"]
[null,"Area 23:"]
[null,"Area 24:"]
[null,"Area 25:"]

{"sheet":"Fixture List Individual Files","index":5,"n_rows":63,"n_cols":17,"rows_kept":63,"hidden":true,"merged":[[0,5,0,9],[1,1,1,4],[1,5,2,9],[2,1,2,4],[3,1,3,4],[3,5,3,9],[4,5,4,9],[5,5,5,9],[6,5,6,9],[7,5,10,9],[9,1,9,4],[10,1,10,4],[11,12,11,16]]}
["List of ALL Interior fixtures installed, along with documentation of installed fixture wattage. ",{"$nulls":4},"Invoices to Support Fixtures Installed"]
["-","Acceptable forms of wattage documentation: ",{"$nulls":3}," - Include invoices for all interior fixtures installed (indicate any items \n   on invoice that are not part of the LPD offering)"]
[null,"ENERGY STAR or DLC SSL QPL listings and/or Manufacturer's specs.\n"]
["-","Do not include Exterior fixtures, or emergency / exit lights.\n",{"$nulls":3}," - Provide itemized invoices showing quantity and make/model number\n - Include multiple files if appropriate"]
["-","For fixture wattage, enter wattage to 1 or 2 decimals, however it is shown on the spec sheet. ",{"$nulls":3}," - Supply as separate document attachment(s) if file size is prohibitive"]
["-","All data should be per As-Built conditions. "]
[null,"If discrepancies are found in review (fixtures listed, invoicing, in-person inspection), will use higher value.",{"$nulls":3},"Insert shared spec sheet, DLC/ENERGY STAR, and Invoice PDFs here:"]
["-","Installed lamps purchased at participating instant discount retailers disqualify the LPD measure."]
["-","See Helpful Tips tab for help inserting files"]
[]
[]
[{"$nulls":12},"Example"]
[null,"Fixture Mark","Fixture Name","Fixture Watts","Spec Sheet","DLC or ENERGY STAR Listing (If Applicable)","Invoice","Total Fixture Count (All Spaces)",{"$nulls":4},"Fixture Mark","Fixture\nName",null,"Fixture Watts","Fixture\nCount"]
[{"$nulls":7},{"$f":"SUMIF('FixturesByArea Individual Files'!$B$10:$B$563,B14,'FixturesByArea Individual Files'!$D$10:$D$563)+SUMIF('FixturesByArea Individual Files'!$J$10:$J$563,B14,'FixturesByArea Individual Files'!$L$10:$L$563)","v":0},{"$nulls":4},"HB","Lithonia High Bay IBG 24000 LM SEF AFL",null,150,4]
[{"$nulls":7},{"$f":"SUMIF('FixturesByArea Individual Files'!$B$10:$B$563,B15,'FixturesByArea Individual Files'!$D$10:$D$563)+SUMIF('FixturesByArea Individual Files'!$J$10:$J$563,B15,'FixturesByArea Individual Files'!$L$10:$L$563)","v":0},{"$nulls":4},"SC","Lithonia CLX L96 6000LM SEF RDL ",null,49,10]
[null," ",{"$nulls":5},{"$f":"SUMIF('FixturesByArea Individual Files'!$B$10:$B$563,B16,'FixturesByArea Individual Files'!$D$10:$D$563)+SUMIF('FixturesByArea Individual Files'!$J$10:$J$563,B16,'FixturesByArea Individual Files'!$L$10:$L$563)","v":0},{"$nulls":4},"LS4.64","Lithonia Surface Mounted",null,55,251]
[null," ",{"$nulls":5},{"$f":"SUMIF('FixturesByArea Individual Files'!$B$10:$B$563,B17,'FixturesByArea Individual Files'!$D$10:$D$563)+SUMIF('FixturesByArea Individual Files'!$J$10:$J$563,B17,'FixturesByArea Individual Files'!$L$10:$L$563)","v":0},{"$nulls":4},"LS4.47","Lithonia Surface Mounted",null,43,359]
[{"$nulls":7},{"$f":"SUMIF('FixturesByArea Individual Files'!$B$10:$B$563,B18,'FixturesByArea Individual Files'!$D$10:$D$563)+SUMIF('FixturesByArea Individual Files'!$J$10:$J$563,B18,'FixturesByArea Individual Files'!$L$10:$L$563)","v":0},{"$nulls":4},"LS4.5","Lithonia Surface Mounted",null,43,1]
[null," ",{"$nulls":5},{"$f":"SUMIF('FixturesByArea Individual Files'!$B$10:$B$563,B19,'FixturesByArea Individual Files'!$D$10:$D$563)+SUMIF('FixturesByArea Individual Files'!$J$10:$J$563,B19,'FixturesByArea Individual Files'!$L$10:$L$563)","v":0},{"$nulls":4},"LSW4","GE Wall Mounted",null,48,2]
[null," ",{"$nulls":5},{"$f":"SUMIF('FixturesByArea Individual Files'!$B$10:$B$563,B20,'FixturesByArea Individual Files'!$D$10:$D$563)+SUMIF('FixturesByArea Individual Files'!$J$10:$J$563,B20,'FixturesByArea Individual Files'!$L$10:$L$563)","v":0}]
[null," ",{"$nulls":5},{"$f":"SUMIF('FixturesByArea Individual Files'!$B$10:$B$563,B21,'FixturesByArea Individual Files'!$D$10:$D$563)+SUMIF('FixturesByArea Individual Files'!$J$10:$J$563,B21,'FixturesByArea Individual Files'!$L$10:$L$563)","v":0}]
[null," ",{"$nulls":5},{"$f":"SUMIF('FixturesByArea Individual Files'!$B$10:$B$563,B22,'FixturesByArea Individual Files'!$D$10:$D$563)+SUMIF('FixturesByArea Individual Files'!$J$10:$J$563,B22,'FixturesByArea Individual Files'!$L$10:$L$563)","v":0}]
[null," ",{"$nulls":5},{"$f":"SUMIF('FixturesByArea Individual Files'!$B$10:$B$563,B23,'FixturesByArea Individual Files'!$D$10:$D$563)+SUMIF('FixturesByArea Individual Files'!$J$10:$J$563,B23,'FixturesByArea Individual Files'!$L$10:$L$563)","v":0}]
[null," ",{"$nulls":5},{"$f":"SUMIF('FixturesByArea Individual Files'!$B$10:$B$563,B24,'FixturesByArea Individual Files'!$D$10:$D$563)+SUMIF('FixturesByArea Individual Files'!$J$10:$J$563,B24,'FixturesByArea Individual Files'!$L$10:$L$563)","v":0}]
[null," ",{"$nulls":5},{"$f":"SUMIF('FixturesByArea Individual Files'!$B$10:$B$563,B25,'FixturesByArea Individual Files'!$D$10:$D$563)+SUMIF('FixturesByArea Individual Files'!$J$10:$J$563,B25,'FixturesByArea Individual Files'!$L$10:$L$563)","v":0}]
[null," ",{"$nulls":5},{"$f":"SUMIF('FixturesByArea Individual Files'!$B$10:$B$563,B26,'FixturesByArea Individual Files'!$D$10:$D$563)+SUMIF('FixturesByArea Individual Files'!$J$10:$J$563,B26,'FixturesByArea Individual Files'!$L$10:$L$563)","v":0}]
[{"$nulls":7},{"$f":"SUMIF('FixturesByArea Individual Files'!$B$10:$B$563,B27,'FixturesByArea Individual Files'!$D$10:$D$563)+SUMIF('FixturesByArea Individual Files'!$J$10:$J$563,B27,'FixturesByArea Individual Files'!$L$10:$L$563)","v":0}]
[null," ",{"$nulls":5},{"$f":"SUMIF('FixturesByArea Individual Files'!$B$10:$B$563,B28,'FixturesByArea Individual Files'!$D$10:$D$563)+SUMIF('FixturesByArea Individual Files'!$J$10:$J$563,B28,'FixturesByArea Individual Files'!$L$10:$L$563)","v":0}]
[null," ",{"$nulls":5},{"$f":"SUMIF('FixturesByArea Individual Files'!$B$10:$B$563,B29,'FixturesByArea Individual Files'!$D$10:$D$563)+SUMIF('FixturesByArea Individual Files'!$J$10:$J$563,B29,'FixturesByArea Individual Files'!$L$10:$L$563)","v":0}]
[null," ",{"$nulls":5},{"$f":"SUMIF('FixturesByArea Individual Files'!$B$10:$B$563,B30,'FixturesByArea Individual Files'!$D$10:$D$563)+SUMIF('FixturesByArea Individual Files'!$J$10:$J$563,B30,'FixturesByArea Individual Files'!$L$10:$L$563)","v":0}]
[null," ",{"$nulls":5},{"$f":"SUMIF('FixturesByArea Individual Files'!$B$10:$B$563,B31,'FixturesByArea Individual Files'!$D$10:$D$563)+SUMIF('FixturesByArea Individual Files'!$J$10:$J$563,B31,'FixturesByArea Individual Files'!$L$10:$L$563)","v":0}]
[null," ",{"$nulls":5},{"$f":"SUMIF('FixturesByArea Individual Files'!$B$10:$B$563,B32,'FixturesByArea Individual Files'!$D$10:$D$563)+SUMIF('FixturesByArea Individual Files'!$J$10:$J$563,B32,'FixturesByArea Individual Files'!$L$10:$L$563)","v":0}]
[null," ",{"$nulls":5},{"$f":"SUMIF('FixturesByArea Individual Files'!$B$10:$B$563,B33,'FixturesByArea Individual Files'!$D$10:$D$563)+SUMIF('FixturesByArea Individual Files'!$J$10:$J$563,B33,'FixturesByArea Individual Files'!$L$10:$L$563)","v":0}]
[null," ",{"$nulls":5},{"$f":"SUMIF('FixturesByArea Individual Files'!$B$10:$B$563,B34,'FixturesByArea Individual Files'!$D$10:$D$563)+SUMIF('FixturesByArea Individual Files'!$J$10:$J$563,B34,'FixturesByArea Individual Files'!$L$10:$L$563)","v":0}]
[null," ",{"$nulls":5},{"$f":"SUMIF('FixturesByArea Individual Files'!$B$10:$B$563,B35,'FixturesByArea Individual Files'!$D$10:$D$563)+SUMIF('FixturesByArea Individual Files'!$J$10:$J$563,B35,'FixturesByArea Individual Files'!$L$10:$L$563)","v":0}]
[null," ",{"$nulls":5},{"$f":"SUMIF('FixturesByArea Individual Files'!$B$10:$B$563,B36,'FixturesByArea Individual Files'!$D$10:$D$563)+SUMIF('FixturesByArea Individual Files'!$J$10:$J$563,B36,'FixturesByArea Individual Files'!$L$10:$L$563)","v":0}]
[null," ",{"$nulls":5},{"$f":"SUMIF('FixturesByArea Individual Files'!$B$10:$B$563,B37,'FixturesByArea Individual Files'!$D$10:$D$563)+SUMIF('FixturesByArea Individual Files'!$J$10:$J$563,B37,'FixturesByArea Individual Files'!$L$10:$L$563)","v":0}]
[null," ",{"$nulls":5},{"$f":"SUMIF('FixturesByArea Individual Files'!$B$10:$B$563,B38,'FixturesByArea Individual Files'!$D$10:$D$563)+SUMIF('FixturesByArea Individual Files'!$J$10:$J$563,B38,'FixturesByArea Individual Files'!$L$10:$L$563)","v":0}]
[null," ",{"$nulls":5},{"$f":"SUMIF('FixturesByArea Individual Files'!$B$10:$B$563,B39,'FixturesByArea Individual Files'!$D$10:$D$563)+SUMIF('FixturesByArea Individual Files'!$J$10:$J$563,B39,'FixturesByArea Individual Files'!$L$10:$L$563)","v":0}]
[null," ",{"$nulls":5},{"$f":"SUMIF('FixturesByArea Individual Files'!$B$10:$B$563,B40,'FixturesByArea Individual Files'!$D$10:$D$563)+SUMIF('FixturesByArea Individual Files'!$J$10:$J$563,B40,'FixturesByArea Individual Files'!$L$10:$L$563)","v":0}]
[null," ",{"$nulls":5},{"$f":"SUMIF('FixturesByArea Individual Files'!$B$10:$B$563,B41,'FixturesByArea Individual Files'!$D$10:$D$563)+SUMIF('FixturesByArea Individual Files'!$J$10:$J$563,B41,'FixturesByArea Individual Files'!$L$10:$L$563)","v":0}]
[null," ",{"$nulls":5},{"$f":"SUMIF('FixturesByArea Individual Files'!$B$10:$B$563,B42,'FixturesByArea Individual Files'!$D$10:$D$563)+SUMIF('FixturesByArea Individual Files'!$J$10:$J$563,B42,'FixturesByArea Individual Files'!$L$10:$L$563)","v":0}]
[null," ",{"$nulls":5},{"$f":"SUMIF('FixturesByArea Individual Files'!$B$10:$B$563,B43,'FixturesByArea Individual Files'!$D$10:$D$563)+SUMIF('FixturesByArea Individual Files'!$J$10:$J$563,B43,'FixturesByArea Individual Files'!$L$10:$L$563)","v":0}]
[null," ",{"$nulls":5},{"$f":"SUMIF('FixturesByArea Individual Files'!$B$10:$B$563,B44,'FixturesByArea Individual Files'!$D$10:$D$563)+SUMIF('FixturesByArea Individual Files'!$J$10:$J$563,B44,'FixturesByArea Individual Files'!$L$10:$L$563)","v":0}]
[null," ",{"$nulls":5},{"$f":"SUMIF('FixturesByArea Individual Files'!$B$10:$B$563,B45,'FixturesByArea Individual Files'!$D$10:$D$563)+SUMIF('FixturesByArea Individual Files'!$J$10:$J$563,B45,'FixturesByArea Individual Files'!$L$10:$L$563)","v":0}]
[null," ",{"$nulls":5},{"$f":"SUMIF('FixturesByArea Individual Files'!$B$10:$B$563,B46,'FixturesByArea Individual Files'!$D$10:$D$563)+SUMIF('FixturesByArea Individual Files'!$J$10:$J$563,B46,'FixturesByArea Individual Files'!$L$10:$L$563)","v":0}]
[null," ",{"$nulls":5},{"$f":"SUMIF('FixturesByArea Individual Files'!$B$10:$B$563,B47,'FixturesByArea Individual Files'!$D$10:$D$563)+SUMIF('FixturesByArea Individual Files'!$J$10:$J$563,B47,'FixturesByArea Individual Files'!$L$10:$L$563)","v":0}]
[null," ",{"$nulls":5},{"$f":"SUMIF('FixturesByArea Individual Files'!$B$10:$B$563,B48,'FixturesByArea Individual Files'!$D$10:$D$563)+SUMIF('FixturesByArea Individual Files'!$J$10:$J$563,B48,'FixturesByArea Individual Files'!$L$10:$L$563)","v":0}]
[null," ",{"$nulls":5},{"$f":"SUMIF('FixturesByArea Individual Files'!$B$10:$B$563,B49,'FixturesByArea Individual Files'!$D$10:$D$563)+SUMIF('FixturesByArea Individual Files'!$J$10:$J$563,B49,'FixturesByArea Individual Files'!$L$10:$L$563)","v":0}]
[null," ",{"$nulls":5},{"$f":"SUMIF('FixturesByArea Individual Files'!$B$10:$B$563,B50,'FixturesByArea Individual Files'!$D$10:$D$563)+SUMIF('FixturesByArea Individual Files'!$J$10:$J$563,B50,'FixturesByArea Individual Files'!$L$10:$L$563)","v":0}]
[null," ",{"$nulls":5},{"$f":"SUMIF('FixturesByArea Individual Files'!$B$10:$B$563,B51,'FixturesByArea Individual Files'!$D$10:$D$563)+SUMIF('FixturesByArea Individual Files'!$J$10:$J$563,B51,'FixturesByArea Individual Files'!$L$10:$L$563)","v":0}]
[null," ",{"$nulls":5},{"$f":"SUMIF('FixturesByArea Individual Files'!$B$10:$B$563,B52,'FixturesByArea Individual Files'!$D$10:$D$563)+SUMIF('FixturesByArea Individual Files'!$J$10:$J$563,B52,'FixturesByArea Individual Files'!$L$10:$L$563)","v":0}]
[null," ",{"$nulls":5},{"$f":"SUMIF('FixturesByArea Individual Files'!$B$10:$B$563,B53,'FixturesByArea Individual Files'!$D$10:$D$563)+SUMIF('FixturesByArea Individual Files'!$J$10:$J$563,B53,'FixturesByArea Individual Files'!$L$10:$L$563)","v":0}]
[null," ",{"$nulls":5},{"$f":"SUMIF('FixturesByArea Individual Files'!$B$10:$B$563,B54,'FixturesByArea Individual Files'!$D$10:$D$563)+SUMIF('FixturesByArea Individual Files'!$J$10:$J$563,B54,'FixturesByArea Individual Files'!$L$10:$L$563)","v":0}]
[null," ",{"$nulls":5},{"$f":"SUMIF('FixturesByArea Individual Files'!$B$10:$B$563,B55,'FixturesByArea Individual Files'!$D$10:$D$563)+SUMIF('FixturesByArea Individual Files'!$J$10:$J$563,B55,'FixturesByArea Individual Files'!$L$10:$L$563)","v":0}]
[null," ",{"$nulls":5},{"$f":"SUMIF('FixturesByArea Individual Files'!$B$10:$B$563,B56,'FixturesByArea Individual Files'!$D$10:$D$563)+SUMIF('FixturesByArea Individual Files'!$J$10:$J$563,B56,'FixturesByArea Individual Files'!$L$10:$L$563)","v":0}]
[null," ",{"$nulls":5},{"$f":"SUMIF('FixturesByArea Individual Files'!$B$10:$B$563,B57,'FixturesByArea Individual Files'!$D$10:$D$563)+SUMIF('FixturesByArea Individual Files'!$J$10:$J$563,B57,'FixturesByArea Individual Files'!$L$10:$L$563)","v":0}]
[null," ",{"$nulls":5},{"$f":"SUMIF('FixturesByArea Individual Files'!$B$10:$B$563,B58,'FixturesByArea Individual Files'!$D$10:$D$563)+SUMIF('FixturesByArea Individual Files'!$J$10:$J$563,B58,'FixturesByArea Individual Files'!$L$10:$L$563)","v":0}]
[null," ",{"$nulls":5},{"$f":"SUMIF('FixturesByArea Individual Files'!$B$10:$B$563,B59,'FixturesByArea Individual Files'!$D$10:$D$563)+SUMIF('FixturesByArea Individual Files'!$J$10:$J$563,B59,'FixturesByArea Individual Files'!$L$10:$L$563)","v":0}]
[null," ",{"$nulls":5},{"$f":"SUMIF('FixturesByArea Individual Files'!$B$10:$B$563,B60,'FixturesByArea Individual Files'!$D$10:$D$563)+SUMIF('FixturesByArea Individual Files'!$J$10:$J$563,B60,'FixturesByArea Individual Files'!$L$10:$L$563)","v":0}]
[null," ",{"$nulls":5},{"$f":"SUMIF('FixturesByArea Individual Files'!$B$10:$B$563,B61,'FixturesByArea Individual Files'!$D$10:$D$563)+SUMIF('FixturesByArea Individual Files'!$J$10:$J$563,B61,'FixturesByArea Individual Files'!$L$10:$L$563)","v":0}]
[null," ",{"$nulls":5},{"$f":"SUMIF('FixturesByArea Individual Files'!$B$10:$B$563,B62,'FixturesByArea Individual Files'!$D$10:$D$563)+SUMIF('FixturesByArea Individual Files'!$J$10:$J$563,B62,'FixturesByArea Individual Files'!$L$10:$L$563)","v":0}]
[{"$nulls":7},{"$f":"SUMIF('FixturesByArea Individual Files'!$B$10:$B$563,B63,'FixturesByArea Individual Files'!$D$10:$D$563)+SUMIF('FixturesByArea Individual Files'!$J$10:$J$563,B63,'FixturesByArea Individual Files'!$L$10:$L$563)","v":0}]

{"sheet":"FixturesByArea Individual Files","index":6,"n_rows":564,"n_cols":20,"rows_kept":564,"hidden":true,"merged":[[6,1,6,5],[6,9,6,13],[7,15,8,15],[7,16,8,16],[7,17,8,17],[7,18,8,18],[7,19,8,19],[8,2,8,5],[8,10,8,13],[9,1,10,1],[9,2,10,2],[9,3,10,3],[9,4,10,4],[9,5,10,5],[9,9,10,9],[9,10,10,10],[9,11,10,11],[9,12,10,12],[9,13,10,13],[49,1,49,5],[49,9,49,13],[51,2,51,5],[51,10,51,13],[52,1,53,1],[52,2,53,2],[52,3,53,3],[52,4,53,4],[52,5,53,5],[52,9,53,9],[52,10,53,10],[52,11,53,11],[52,12,53,12],[52,13,53,13],[92,1,92,5],[92,9,92,13],[94,2,94,5],[94,10,94,13],[95,1,96,1],[95,2,96,2],[95,3,96,3],[95,4,96,4],[95,5,96,5],[95,9,96,9],[95,10,96,10],[95,11,96,11],[95,12,96,12],[95,13,96,13],[135,1,135,5],[135,9,135,13],[137,2,137,5],[137,10,137,13],[138,1,139,1],[138,2,139,2],[138,3,139,3],[138,4,139,4],[138,5,139,5],[138,9,139,9],[138,10,139,10],[138,11,139,11],[138,12,139,12],[138,13,139,13],[178,1,178,5],[178,9,178,13],[180,2,180,5],[180,10,180,13],[181,1,182,1],[181,2,182,2],[181,3,182,3],[181,4,182,4],[181,5,182,5],[181,9,182,9],[181,10,182,10],[181,11,182,11],[181,12,182,12],[181,13,182,13],[221,1,221,5],[221,9,221,13],[223,2,223,5],[223,10,223,13],[224,1,225,1],[224,2,225,2],[224,3,225,3],[224,4,225,4],[224,5,225,5],[224,9,225,9],[224,10,225,10],[224,11,225,11],[224,12,225,12],[224,13,225,13],[264,1,264,5],[264,9,264,13],[266,2,266,5],[266,10,266,13],[267,1,268,1],[267,2,268,2],[267,3,268,3],[267,4,268,4],[267,5,268,5],[267,9,268,9],[267,10,268,10],[267,11,268,11],[267,12,268,12],[267,13,268,13],[307,1,307,5],[307,9,307,13],[309,2,309,5],[309,10,309,13],[310,1,311,1],[310,2,311,2],[310,3,311,3],[310,4,311,4],[310,5,311,5],[310,9,311,9],[310,10,311,10],[310,11,311,11],[310,12,311,12],[310,13,311,13],[350,1,350,5],[350,9,350,13],[352,2,352,5],[352,10,352,13],[353,1,354,1],[353,2,354,2],[353,3,354,3],[353,4,354,4],[353,5,354,5],[353,9,354,9],[353,10,354,10],[353,11,354,11],[353,12,354,12],[353,13,354,13],[393,1,393,5],[393,9,393,13],[395,2,395,5],[395,10,395,13],[396,1,397,1],[396,2,397,2],[396,3,397,3],[396,4,397,4],[396,5,397,5],[396,9,397,9],[396,10,397,10],[396,11,397,11],[396,12,397,12],[396,13,397,13],[436,1,436,5],[436,9,436,13],[438,2,438,5],[438,10,438,13],[439,1,440,1],[439,2,440,2],[439,3,440,3],[439,4,440,4],[439,5,440,5],[439,9,440,9],[439,10,440,10],[439,11,440,11],[439,12,440,12],[439,13,440,13],[479,1,479,5],[479,9,479,13],[481,2,481,5],[481,10,481,13],[482,1,483,1],[482,2,483,2],[482,3,483,3],[482,4,483,4],[482,5,483,5],[482,9,483,9],[482,10,483,10],[482,11,483,11],[482,12,483,12],[482,13,483,13],[522,1,522,5],[524,2,524,5],[526,1,527,1],[526,2,527,2],[526,3,527,3],[526,4,527,4],[526,5,527,5]]}
["List of ALL Interior fixtures (including quantity) in the area(s) where they were installed. "]
["-","Do not include Exterior fixtures, or emergency / exit lights."]
["-","All data should be per As-Built conditions. If discrepancies are found in review (fixtures listed, invoicing, in-person inspection), will use higher value."]
["-","Choose Area Type(s) best describing the use of space."]
["-","If \"Other-Identify\" is chosen, note on Start Here! Tab in \"Project Notes\"- The LPD calculation/incentive will be calculated upon review."]
[{"$nulls":15},"Example"]
[null,"Area 1",{"$nulls":7},"Area 2",{"$nulls":5},"Type:","Warehouse",null,null,0.66]
[null,"Type:","Choose from Drop-down",null,null,{"$f":"IFERROR(VLOOKUP(C8,Admin_Lists!$A$9:$B$41,2,FALSE),\"\")","v":0},"W/sq ft",null,null,"Type:","Choose from Drop-down",null,null,{"$f":"IFERROR(VLOOKUP(K8,Admin_Lists!$A$9:$B$41,2,FALSE),\"\")","v":0},"W/sq ft","Fixture Mark","Fixture\nName","Fixture\nCount","Fixture Watts","Total Watts \n(Fixt Count x Fixt Watts)"]
[null,null,{"$f":"\"Area Description: \"&'Sq. Ft. Area Individual Files'!D9","v":"Area Description: "},{"$nulls":7},{"$f":"\"Area Description: \"&'Sq. Ft. Area Individual Files'!D10","v":"Area Description: "}]
[null,"Fixture Mark","Fixture\nName","Fixture\nCount","Fixture Watts","Total Watts \n(Fixt Count x Fixt Watts)",{"$nulls":3},"Fixture Mark","Fixture\nName","Fixture\nCount","Fixture Watts","Total Watts \n(Fixt Count x Fixt Watts)",null,"HB","Lithonia High Bay IBG 240000 LM SEF AFL",4,150,{"$f":"R10*S10","v":600}]
[{"$nulls":15},"SC","Lithonia CLX L96 6000LM SEF RDL ",10,49,490]
[null,null,{"$f":"IF(B12=\"\",\"\",VLOOKUP(B12,'Fixture List Individual Files'!$B$14:$D$63,2,FALSE))","v":""},null,{"$f":"IF(B12=\"\",\"\",VLOOKUP(B12,'Fixture List Individual Files'!$B$14:$D$63,3,FALSE))","v":""},{"$f":"IF(E12=\"\",\"\",D12*E12)","v":""},{"$nulls":4},{"$f":"IF(J12=\"\",\"\",VLOOKUP(J12,'Fixture List Individual Files'!$B$14:$D$63,2,FALSE))","v":""},null,{"$f":"IF(J12=\"\",\"\",VLOOKUP(J12,'Fixture List Individual Files'!$B$14:$D$63,3,FALSE))","v":""},{"$f":"IF(M12=\"\",\"\",L12*M12)","v":""},null,"LS4.64","Lithonia Surface Mounted",251,55,13805]
[null,null,{"$f":"IF(B13=\"\",\"\",VLOOKUP(B13,'Fixture List Individual Files'!$B$14:$D$63,2,FALSE))","v":""},null,{"$f":"IF(B13=\"\",\"\",VLOOKUP(B13,'Fixture List Individual Files'!$B$14:$D$63,3,FALSE))","v":""},{"$f":"IF(E13=\"\",\"\",D13*E13)","v":""},{"$nulls":4},{"$f":"IF(J13=\"\",\"\",VLOOKUP(J13,'Fixture List Individual Files'!$B$14:$D$63,2,FALSE))","v":""},null,{"$f":"IF(J13=\"\",\"\",VLOOKUP(J13,'Fixture List Individual Files'!$B$14:$D$63,3,FALSE))","v":""},{"$f":"IF(M13=\"\",\"\",L13*M13)","v":""},null,"LS4.47","Lithonia Surface Mounted",359,43,15437]
[null,null,{"$f":"IF(B14=\"\",\"\",VLOOKUP(B14,'Fixture List Individual Files'!$B$14:$D$63,2,FALSE))","v":""},null,{"$f":"IF(B14=\"\",\"\",VLOOKUP(B14,'Fixture List Individual Files'!$B$14:$D$63,3,FALSE))","v":""},"",{"$nulls":4},{"$f":"IF(J14=\"\",\"\",VLOOKUP(J14,'Fixture List Individual Files'!$B$14:$D$63,2,FALSE))","v":""},null,{"$f":"IF(J14=\"\",\"\",VLOOKUP(J14,'Fixture List Individual Files'!$B$14:$D$63,3,FALSE))","v":""},"",null,"LS4.5","Lithonia Surface Mounted",1,43,43]
[null,null,{"$f":"IF(B15=\"\",\"\",VLOOKUP(B15,'Fixture List Individual Files'!$B$14:$D$63,2,FALSE))","v":""},null,{"$f":"IF(B15=\"\",\"\",VLOOKUP(B15,'Fixture List Individual Files'!$B$14:$D$63,3,FALSE))","v":""},"",{"$nulls":4},{"$f":"IF(J15=\"\",\"\",VLOOKUP(J15,'Fixture List Individual Files'!$B$14:$D$63,2,FALSE))","v":""},null,{"$f":"IF(J15=\"\",\"\",VLOOKUP(J15,'Fixture List Individual Files'!$B$14:$D$63,3,FALSE))","v":""},"",null,"LSW4","GE Wall Mounted",2,48,96]
[null,null,{"$f":"IF(B16=\"\",\"\",VLOOKUP(B16,'Fixture List Individual Files'!$B$14:$D$63,2,FALSE))","v":""},null,{"$f":"IF(B16=\"\",\"\",VLOOKUP(B16,'Fixture List Individual Files'!$B$14:$D$63,3,FALSE))","v":""},"",{"$nulls":4},{"$f":"IF(J16=\"\",\"\",VLOOKUP(J16,'Fixture List Individual Files'!$B$14:$D$63,2,FALSE))","v":""},null,{"$f":"IF(J16=\"\",\"\",VLOOKUP(J16,'Fixture List Individual Files'!$B$14:$D$63,3,FALSE))","v":""},""]
[null,null,{"$f":"IF(B17=\"\",\"\",VLOOKUP(B17,'Fixture List Individual Files'!$B$14:$D$63,2,FALSE))","v":""},null,{"$f":"IF(B17=\"\",\"\",VLOOKUP(B17,'Fixture List Individual Files'!$B$14:$D$63,3,FALSE))","v":""},"",{"$nulls":4},{"$f":"IF(J17=\"\",\"\",VLOOKUP(J17,'Fixture List Individual Files'!$B$14:$D$63,2,FALSE))","v":""},null,{"$f":"IF(J17=\"\",\"\",VLOOKUP(J17,'Fixture List Individual Files'!$B$14:$D$63,3,FALSE))","v":""},""]
[null,null,{"$f":"IF(B18=\"\",\"\",VLOOKUP(B18,'Fixture List Individual Files'!$B$14:$D$63,2,FALSE))","v":""},null,{"$f":"IF(B18=\"\",\"\",VLOOKUP(B18,'Fixture List Individual Files'!$B$14:$D$63,3,FALSE))","v":""},"",{"$nulls":4},{"$f":"IF(J18=\"\",\"\",VLOOKUP(J18,'Fixture List Individual Files'!$B$14:$D$63,2,FALSE))","v":""},null,{"$f":"IF(J18=\"\",\"\",VLOOKUP(J18,'Fixture List Individual Files'!$B$14:$D$63,3,FALSE))","v":""},""]
[null,null,{"$f":"IF(B19=\"\",\"\",VLOOKUP(B19,'Fixture List Individual Files'!$B$14:$D$63,2,FALSE))","v":""},null,{"$f":"IF(B19=\"\",\"\",VLOOKUP(B19,'Fixture List Individual Files'!$B$14:$D$63,3,FALSE))","v":""},"",{"$nulls":4},{"$f":"IF(J19=\"\",\"\",VLOOKUP(J19,'Fixture List Individual Files'!$B$14:$D$63,2,FALSE))","v":""},null,{"$f":"IF(J19=\"\",\"\",VLOOKUP(J19,'Fixture List Individual Files'!$B$14:$D$63,3,FALSE))","v":""},""]
[null,null,{"$f":"IF(B20=\"\",\"\",VLOOKUP(B20,'Fixture List Individual Files'!$B$14:$D$63,2,FALSE))","v":""},null,{"$f":"IF(B20=\"\",\"\",VLOOKUP(B20,'Fixture List Individual Files'!$B$14:$D$63,3,FALSE))","v":""},"",{"$nulls":4},{"$f":"IF(J20=\"\",\"\",VLOOKUP(J20,'Fixture List Individual Files'!$B$14:$D$63,2,FALSE))","v":""},null,{"$f":"IF(J20=\"\",\"\",VLOOKUP(J20,'Fixture List Individual Files'!$B$14:$D$63,3,FALSE))","v":""},""]
[null,null,{"$f":"IF(B21=\"\",\"\",VLOOKUP(B21,'Fixture List Individual Files'!$B$14:$D$63,2,FALSE))","v":""},null,{"$f":"IF(B21=\"\",\"\",VLOOKUP(B21,'Fixture List Individual Files'!$B$14:$D$63,3,FALSE))","v":""},"",{"$nulls":4},{"$f":"IF(J21=\"\",\"\",VLOOKUP(J21,'Fixture List Individual Files'!$B$14:$D$63,2,FALSE))","v":""},null,{"$f":"IF(J21=\"\",\"\",VLOOKUP(J21,'Fixture List Individual Files'!$B$14:$D$63,3,FALSE))","v":""},""]
[null,null,{"$f":"IF(B22=\"\",\"\",VLOOKUP(B22,'Fixture List Individual Files'!$B$14:$D$63,2,FALSE))","v":""},null,{"$f":"IF(B22=\"\",\"\",VLOOKUP(B22,'Fixture List Individual Files'!$B$14:$D$63,3,FALSE))","v":""},"",{"$nulls":4},{"$f":"IF(J22=\"\",\"\",VLOOKUP(J22,'Fixture List Individual Files'!$B$14:$D$63,2,FALSE))","v":""},null,{"$f":"IF(J22=\"\",\"\",VLOOKUP(J22,'Fixture List Individual Files'!$B$14:$D$63,3,FALSE))","v":""},""]
[null,null,{"$f":"IF(B23=\"\",\"\",VLOOKUP(B23,'Fixture List Individual Files'!$B$14:$D$63,2,FALSE))","v":""},null,{"$f":"IF(B23=\"\",\"\",VLOOKUP(B23,'Fixture List Individual Files'!$B$14:$D$63,3,FALSE))","v":""},"",{"$nulls":4},{"$f":"IF(J23=\"\",\"\",VLOOKUP(J23,'Fixture List Individual Files'!$B$14:$D$63,2,FALSE))","v":""},null,{"$f":"IF(J23=\"\",\"\",VLOOKUP(J23,'Fixture List Individual Files'!$B$14:$D$63,3,FALSE))","v":""},""]
[null,null,{"$f":"IF(B24=\"\",\"\",VLOOKUP(B24,'Fixture List Individual Files'!$B$14:$D$63,2,FALSE))","v":""},null,{"$f":"IF(B24=\"\",\"\",VLOOKUP(B24,'Fixture List Individual Files'!$B$14:$D$63,3,FALSE))","v":""},"",{"$nulls":4},{"$f":"IF(J24=\"\",\"\",VLOOKUP(J24,'Fixture List Individual Files'!$B$14:$D$63,2,FALSE))","v":""},null,{"$f":"IF(J24=\"\",\"\",VLOOKUP(J24,'Fixture List Individual Files'!$B$14:$D$63,3,FALSE))","v":""},""]
[null,null,{"$f":"IF(B25=\"\",\"\",VLOOKUP(B25,'Fixture List Individual Files'!$B$14:$D$63,2,FALSE))","v":""},null,{"$f":"IF(B25=\"\",\"\",VLOOKUP(B25,'Fixture List Individual Files'!$B$14:$D$63,3,FALSE))","v":""},"",{"$nulls":4},{"$f":"IF(J25=\"\",\"\",VLOOKUP(J25,'Fixture List Individual Files'!$B$14:$D$63,2,FALSE))","v":""},null,{"$f":"IF(J25=\"\",\"\",VLOOKUP(J25,'Fixture List Individual Files'!$B$14:$D$63,3,FALSE))","v":""},""]
[null,null,{"$f":"IF(B26=\"\",\"\",VLOOKUP(B26,'Fixture List Individual Files'!$B$14:$D$63,2,FALSE))","v":""},null,{"$f":"IF(B26=\"\",\"\",VLOOKUP(B26,'Fixture List Individual Files'!$B$14:$D$63,3,FALSE))","v":""},"",{"$nulls":4},{"$f":"IF(J26=\"\",\"\",VLOOKUP(J26,'Fixture List Individual Files'!$B$14:$D$63,2,FALSE))","v":""},null,{"$f":"IF(J26=\"\",\"\",VLOOKUP(J26,'Fixture List Individual Files'!$B$14:$D$63,3,FALSE))","v":""},""]
[null,null,{"$f":"IF(B27=\"\",\"\",VLOOKUP(B27,'Fixture List Individual Files'!$B$14:$D$63,2,FALSE))","v":""},null,{"$f":"IF(B27=\"\",\"\",VLOOKUP(B27,'Fixture List Individual Files'!$B$14:$D$63,3,FALSE))","v":""},"",{"$nulls":4},{"$f":"IF(J27=\"\",\"\",VLOOKUP(J27,'Fixture List Individual Files'!$B$14:$D$63,2,FALSE))","v":""},null,{"$f":"IF(J27=\"\",\"\",VLOOKUP(J27,'Fixture List Individual Files'!$B$14:$D$63,3,FALSE))","v":""},""]
[null,null,{"$f":"IF(B28=\"\",\"\",VLOOKUP(B28,'Fixture List Individual Files'!$B$14:$D$63,2,FALSE))","v":""},null,{"$f":"IF(B28=\"\",\"\",VLOOKUP(B28,'Fixture List Individual Files'!$B$14:$D$63,3,FALSE))","v":""},"",{"$nulls":4},{"$f":"IF(J28=\"\",\"\",VLOOKUP(J28,'Fixture List Individual Files'!$B$14:$D$63,2,FALSE))","v":""},null,{"$f":"IF(J28=\"\",\"\",VLOOKUP(J28,'Fixture List Individual Files'!$B$14:$D$63,3,FALSE))","v":""},""]
[null,null,{"$f":"IF(B29=\"\",\"\",VLOOKUP(B29,'Fixture List Individual Files'!$B$14:$D$63,2,FALSE))","v":""},null,{"$f":"IF(B29=\"\",\"\",VLOOKUP(B29,'Fixture List Individual Files'!$B$14:$D$63,3,FALSE))","v":""},"",{"$nulls":4},{"$f":"IF(J29=\"\",\"\",VLOOKUP(J29,'Fixture List Individual Files'!$B$14:$D$63,2,FALSE))","v":""},null,{"$f":"IF(J29=\"\",\"\",VLOOKUP(J29,'Fixture List Individual Files'!$B$14:$D$63,3,FALSE))","v":""},""]
[null,null,{"$f":"IF(B30=\"\",\"\",VLOOKUP(B30,'Fixture List Individual Files'!$B$14:$D$63,2,FALSE))","v":""},null,{"$f":"IF(B30=\"\",\"\",VLOOKUP(B30,'Fixture List Individual Files'!$B$14:$D$63,3,FALSE))","v":""},"",{"$nulls":4},{"$f":"IF(J30=\"\",\"\",VLOOKUP(J30,'Fixture List Individual Files'!$B$14:$D$63,2,FALSE))","v":""},null,{"$f":"IF(J30=\"\",\"\",VLOOKUP(J30,'Fixture List Individual Files'!$B$14:$D$63,3,FALSE))","v":""},""]
[null,null,{"$f":"IF(B31=\"\",\"\",VLOOKUP(B31,'Fixture List Individual Files'!$B$14:$D$63,2,FALSE))","v":""},null,{"$f":"IF(B31=\"\",\"\",VLOOKUP(B31,'Fixture List Individual Files'!$B$14:$D$63,3,FALSE))","v":""},"",{"$nulls":4},{"$f":"IF(J31=\"\",\"\",VLOOKUP(J31,'Fixture List Individual Files'!$B$14:$D$63,2,FALSE))","v":""},null,{"$f":"IF(J31=\"\",\"\",VLOOKUP(J31,'Fixture List Individual Files'!$B$14:$D$63,3,FALSE))","v":""},""]
[null,null,{"$f":"IF(B32=\"\",\"\",VLOOKUP(B32,'Fixture List Individual Files'!$B$14:$D$63,2,FALSE))","v":""},null,{"$f":"IF(B32=\"\",\"\",VLOOKUP(B32,'Fixture List Individual Files'!$B$14:$D$63,3,FALSE))","v":""},"",{"$nulls":4},{"$f":"IF(J32=\"\",\"\",VLOOKUP(J32,'Fixture List Individual Files'!$B$14:$D$63,2,FALSE))","v":""},null,{"$f":"IF(J32=\"\",\"\",VLOOKUP(J32,'Fixture List Individual Files'!$B$14:$D$63,3,FALSE))","v":""},""]
[null,null,{"$f":"IF(B33=\"\",\"\",VLOOKUP(B33,'Fixture List Individual Files'!$B$14:$D$63,2,FALSE))","v":""},null,{"$f":"IF(B33=\"\",\"\",VLOOKUP(B33,'Fixture List Individual Files'!$B$14:$D$63,3,FALSE))","v":""},"",{"$nulls":4},{"$f":"IF(J33=\"\",\"\",VLOOKUP(J33,'Fixture List Individual Files'!$B$14:$D$63,2,FALSE))","v":""},null,{"$f":"IF(J33=\"\",\"\",VLOOKUP(J33,'Fixture List Individual Files'!$B$14:$D$63,3,FALSE))","v":""},""]
[null,null,{"$f":"IF(B34=\"\",\"\",VLOOKUP(B34,'Fixture List Individual Files'!$B$14:$D$63,2,FALSE))","v":""},null,{"$f":"IF(B34=\"\",\"\",VLOOKUP(B34,'Fixture List Individual Files'!$B$14:$D$63,3,FALSE))","v":""},"",{"$nulls":4},{"$f":"IF(J34=\"\",\"\",VLOOKUP(J34,'Fixture List Individual Files'!$B$14:$D$63,2,FALSE))","v":""},null,{"$f":"IF(J34=\"\",\"\",VLOOKUP(J34,'Fixture List Individual Files'!$B$14:$D$63,3,FALSE))","v":""},""]
[null,null,{"$f":"IF(B35=\"\",\"\",VLOOKUP(B35,'Fixture List Individual Files'!$B$14:$D$63,2,FALSE))","v":""},null,{"$f":"IF(B35=\"\",\"\",VLOOKUP(B35,'Fixture List Individual Files'!$B$14:$D$63,3,FALSE))","v":""},"",{"$nulls":4},{"$f":"IF(J35=\"\",\"\",VLOOKUP(J35,'Fixture List Individual Files'!$B$14:$D$63,2,FALSE))","v":""},null,{"$f":"IF(J35=\"\",\"\",VLOOKUP(J35,'Fixture List Individual Files'!$B$14:$D$63,3,FALSE))","v":""},""]
[null,null,{"$f":"IF(B36=\"\",\"\",VLOOKUP(B36,'Fixture List Individual Files'!$B$14:$D$63,2,FALSE))","v":""},null,{"$f":"IF(B36=\"\",\"\",VLOOKUP(B36,'Fixture List Individual Files'!$B$14:$D$63,3,FALSE))","v":""},"",{"$nulls":4},{"$f":"IF(J36=\"\",\"\",VLOOKUP(J36,'Fixture List Individual Files'!$B$14:$D$63,2,FALSE))","v":""},null,{"$f":"IF(J36=\"\",\"\",VLOOKUP(J36,'Fixture List Individual Files'!$B$14:$D$63,3,FALSE))","v":""},""]
[null,null,{"$f":"IF(B37=\"\",\"\",VLOOKUP(B37,'Fixture List Individual Files'!$B$14:$D$63,2,FALSE))","v":""},null,{"$f":"IF(B37=\"\",\"\",VLOOKUP(B37,'Fixture List Individual Files'!$B$14:$D$63,3,FALSE))","v":""},"",{"$nulls":4},{"$f":"IF(J37=\"\",\"\",VLOOKUP(J37,'Fixture List Individual Files'!$B$14:$D$63,2,FALSE))","v":""},null,{"$f":"IF(J37=\"\",\"\",VLOOKUP(J37,'Fixture List Individual Files'!$B$14:$D$63,3,FALSE))","v":""},""]
[null,null,{"$f":"IF(B38=\"\",\"\",VLOOKUP(B38,'Fixture List Individual Files'!$B$14:$D$63,2,FALSE))","v":""},null,{"$f":"IF(B38=\"\",\"\",VLOOKUP(B38,'Fixture List Individual Files'!$B$14:$D$63,3,FALSE))","v":""},"",{"$nulls":4},{"$f":"IF(J38=\"\",\"\",VLOOKUP(J38,'Fixture List Individual Files'!$B$14:$D$63,2,FALSE))","v":""},null,{"$f":"IF(J38=\"\",\"\",VLOOKUP(J38,'Fixture List Individual Files'!$B$14:$D$63,3,FALSE))","v":""},""]
[null,null,{"$f":"IF(B39=\"\",\"\",VLOOKUP(B39,'Fixture List Individual Files'!$B$14:$D$63,2,FALSE))","v":""},null,{"$f":"IF(B39=\"\",\"\",VLOOKUP(B39,'Fixture List Individual Files'!$B$14:$D$63,3,FALSE))","v":""},"",{"$nulls":4},{"$f":"IF(J39=\"\",\"\",VLOOKUP(J39,'Fixture List Individual Files'!$B$14:$D$63,2,FALSE))","v":""},null,{"$f":"IF(J39=\"\",\"\",VLOOKUP(J39,'Fixture List Individual Files'!$B$14:$D$63,3,FALSE))","v":""},""]
[null,null,{"$f":"IF(B40=\"\",\"\",VLOOKUP(B40,'Fixture List Individual Files'!$B$14:$D$63,2,FALSE))","v":""},null,{"$f":"IF(B40=\"\",\"\",VLOOKUP(B40,'Fixture List Individual Files'!$B$14:$D$63,3,FALSE))","v":""},"",{"$nulls":4},{"$f":"IF(J40=\"\",\"\",VLOOKUP(J40,'Fixture List Individual Files'!$B$14:$D$63,2,FALSE))","v":""},null,{"$f":"IF(J40=\"\",\"\",VLOOKUP(J40,'Fixture List Individual Files'!$B$14:$D$63,3,FALSE))","v":""},""]
[null,null,{"$f":"IF(B41=\"\",\"\",VLOOKUP(B41,'Fixture List Individual Files'!$B$14:$D$63,2,FALSE))","v":""},null,{"$f":"IF(B41=\"\",\"\",VLOOKUP(B41,'Fixture List Individual Files'!$B$14:$D$63,3,FALSE))","v":""},"",{"$nulls":4},{"$f":"IF(J41=\"\",\"\",VLOOKUP(J41,'Fixture List Individual Files'!$B$14:$D$63,2,FALSE))","v":""},null,{"$f":"IF(J41=\"\",\"\",VLOOKUP(J41,'Fixture List Individual Files'!$B$14:$D$63,3,FALSE))","v":""},""]
[null,null,{"$f":"IF(B42=\"\",\"\",VLOOKUP(B42,'Fixture List Individual Files'!$B$14:$D$63,2,FALSE))","v":""},null,{"$f":"IF(B42=\"\",\"\",VLOOKUP(B42,'Fixture List Individual Files'!$B$14:$D$63,3,FALSE))","v":""},"",{"$nulls":4},{"$f":"IF(J42=\"\",\"\",VLOOKUP(J42,'Fixture List Individual Files'!$B$14:$D$63,2,FALSE))","v":""},null,{"$f":"IF(J42=\"\",\"\",VLOOKUP(J42,'Fixture List Individual Files'!$B$14:$D$63,3,FALSE))","v":""},""]
[null,null,{"$f":"IF(B43=\"\",\"\",VLOOKUP(B43,'Fixture List Individual Files'!$B$14:$D$63,2,FALSE))","v":""},null,{"$f":"IF(B43=\"\",\"\",VLOOKUP(B43,'Fixture List Individual Files'!$B$14:$D$63,3,FALSE))","v":""},"",{"$nulls":4},{"$f":"IF(J43=\"\",\"\",VLOOKUP(J43,'Fixture List Individual Files'!$B$14:$D$63,2,FALSE))","v":""},null,{"$f":"IF(J43=\"\",\"\",VLOOKUP(J43,'Fixture List Individual Files'!$B$14:$D$63,3,FALSE))","v":""},""]
[null,null,{"$f":"IF(B44=\"\",\"\",VLOOKUP(B44,'Fixture List Individual Files'!$B$14:$D$63,2,FALSE))","v":""},null,{"$f":"IF(B44=\"\",\"\",VLOOKUP(B44,'Fixture List Individual Files'!$B$14:$D$63,3,FALSE))","v":""},"",{"$nulls":4},{"$f":"IF(J44=\"\",\"\",VLOOKUP(J44,'Fixture List Individual Files'!$B$14:$D$63,2,FALSE))","v":""},null,{"$f":"IF(J44=\"\",\"\",VLOOKUP(J44,'Fixture List Individual Files'!$B$14:$D$63,3,FALSE))","v":""},""]
[null,null,{"$f":"IF(B45=\"\",\"\",VLOOKUP(B45,'Fixture List Individual Files'!$B$14:$D$63,2,FALSE))","v":""},null,{"$f":"IF(B45=\"\",\"\",VLOOKUP(B45,'Fixture List Individual Files'!$B$14:$D$63,3,FALSE))","v":""},"",{"$nulls":4},{"$f":"IF(J45=\"\",\"\",VLOOKUP(J45,'Fixture List Individual Files'!$B$14:$D$63,2,FALSE))","v":""},null,{"$f":"IF(J45=\"\",\"\",VLOOKUP(J45,'Fixture List Individual Files'!$B$14:$D$63,3,FALSE))","v":""},""]
[null,null,{"$f":"IF(B46=\"\",\"\",VLOOKUP(B46,'Fixture List Individual Files'!$B$14:$D$63,2,FALSE))","v":""},null,{"$f":"IF(B46=\"\",\"\",VLOOKUP(B46,'Fixture List Individual Files'!$B$14:$D$63,3,FALSE))","v":""},"",{"$nulls":4},{"$f":"IF(J46=\"\",\"\",VLOOKUP(J46,'Fixture List Individual Files'!$B$14:$D$63,2,FALSE))","v":""},null,{"$f":"IF(J46=\"\",\"\",VLOOKUP(J46,'Fixture List Individual Files'!$B$14:$D$63,3,FALSE))","v":""},""]
[null,null,{"$f":"IF(B47=\"\",\"\",VLOOKUP(B47,'Fixture List Individual Files'!$B$14:$D$63,2,FALSE))","v":""},null,{"$f":"IF(B47=\"\",\"\",VLOOKUP(B47,'Fixture List Individual Files'!$B$14:$D$63,3,FALSE))","v":""},"",{"$nulls":4},{"$f":"IF(J47=\"\",\"\",VLOOKUP(J47,'Fixture List Individual Files'!$B$14:$D$63,2,FALSE))","v":""},null,{"$f":"IF(J47=\"\",\"\",VLOOKUP(J47,'Fixture List Individual Files'!$B$14:$D$63,3,FALSE))","v":""},""]
[null,null,"Totals:",{"$f":"SUM(D12:D47)","v":0},null,{"$f":"SUM(F12:F47)","v":0},{"$nulls":4},"Totals:",{"$f":"SUM(L12:L47)","v":0},null,{"$f":"SUM(N12:N47)","v":0}]
[]
[null,"Area 3",{"$nulls":7},"Area 4"]
[null,"Type:","Choose from Drop-down",null,null,{"$f":"IFERROR(VLOOKUP(C51,Admin_Lists!$A$9:$B$41,2,FALSE),\"\")","v":0},"W/sq ft",null,null,"Type:","Choose from Drop-down",null,null,{"$f":"IFERROR(VLOOKUP(K51,Admin_Lists!$A$9:$B$41,2,FALSE),\"\")","v":0},"W/sq ft"]
[null,null,{"$f":"\"Area Description: \"&'Sq. Ft. Area Individual Files'!D11","v":"Area Description: "},{"$nulls":7},{"$f":"\"Area Description: \"&'Sq. Ft. Area Individual Files'!D12","v":"Area Description: "}]
[null,"Fixture Mark","Fixture\nName","Fixture\nCount","Fixture Watts","Total Watts \n(Fixt Count x Fixt Watts)",{"$nulls":3},"Fixture Mark","Fixture\nName","Fixture\nCount","Fixture Watts","Total Watts \n(Fixt Count x Fixt Watts)"]
[]
[null,null,{"$f":"IF(B55=\"\",\"\",VLOOKUP(B55,'Fixture List Individual Files'!$B$14:$D$63,2,FALSE))","v":""},null,{"$f":"IF(B55=\"\",\"\",VLOOKUP(B55,'Fixture List Individual Files'!$B$14:$D$63,3,FALSE))","v":""},{"$f":"IF(E55=\"\",\"\",D55*E55)","v":""},{"$nulls":4},{"$f":"IF(J55=\"\",\"\",VLOOKUP(J55,'Fixture List Individual Files'!$B$14:$D$63,2,FALSE))","v":""},null,{"$f":"IF(J55=\"\",\"\",VLOOKUP(J55,'Fixture List Individual Files'!$B$14:$D$63,3,FALSE))","v":""},{"$f":"IF(M55=\"\",\"\",L55*M55)","v":""}]
[null,null,{"$f":"IF(B56=\"\",\"\",VLOOKUP(B56,'Fixture List Individual Files'!$B$14:$D$63,2,FALSE))","v":""},null,{"$f":"IF(B56=\"\",\"\",VLOOKUP(B56,'Fixture List Individual Files'!$B$14:$D$63,3,FALSE))","v":""},{"$f":"IF(E56=\"\",\"\",D56*E56)","v":""},{"$nulls":4},{"$f":"IF(J56=\"\",\"\",VLOOKUP(J56,'Fixture List Individual Files'!$B$14:$D$63,2,FALSE))","v":""},null,{"$f":"IF(J56=\"\",\"\",VLOOKUP(J56,'Fixture List Individual Files'!$B$14:$D$63,3,FALSE))","v":""},{"$f":"IF(M56=\"\",\"\",L56*M56)","v":""}]
[null,null,{"$f":"IF(B57=\"\",\"\",VLOOKUP(B57,'Fixture List Individual Files'!$B$14:$D$63,2,FALSE))","v":""},null,{"$f":"IF(B57=\"\",\"\",VLOOKUP(B57,'Fixture List Individual Files'!$B$14:$D$63,3,FALSE))","v":""},"",{"$nulls":4},{"$f":"IF(J57=\"\",\"\",VLOOKUP(J57,'Fixture List Individual Files'!$B$14:$D$63,2,FALSE))","v":""},null,{"$f":"IF(J57=\"\",\"\",VLOOKUP(J57,'Fixture List Individual Files'!$B$14:$D$63,3,FALSE))","v":""},""]
[null,null,{"$f":"IF(B58=\"\",\"\",VLOOKUP(B58,'Fixture List Individual Files'!$B$14:$D$63,2,FALSE))","v":""},null,{"$f":"IF(B58=\"\",\"\",VLOOKUP(B58,'Fixture List Individual Files'!$B$14:$D$63,3,FALSE))","v":""},"",{"$nulls":4},{"$f":"IF(J58=\"\",\"\",VLOOKUP(J58,'Fixture List Individual Files'!$B$14:$D$63,2,FALSE))","v":""},null,{"$f":"IF(J58=\"\",\"\",VLOOKUP(J58,'Fixture List Individual Files'!$B$14:$D$63,3,FALSE))","v":""},""]
[null,null,{"$f":"IF(B59=\"\",\"\",VLOOKUP(B59,'Fixture List Individual Files'!$B$14:$D$63,2,FALSE))","v":""},null,{"$f":"IF(B59=\"\",\"\",VLOOKUP(B59,'Fixture List Individual Files'!$B$14:$D$63,3,FALSE))","v":""},"",{"$nulls":4},{"$f":"IF(J59=\"\",\"\",VLOOKUP(J59,'Fixture List Individual Files'!$B$14:$D$63,2,FALSE))","v":""},null,{"$f":"IF(J59=\"\",\"\",VLOOKUP(J59,'Fixture List Individual Files'!$B$14:$D$63,3,FALSE))","v":""},""]
[null,null,{"$f":"IF(B60=\"\",\"\",VLOOKUP(B60,'Fixture List Individual Files'!$B$14:$D$63,2,FALSE))","v":""},null,{"$f":"IF(B60=\"\",\"\",VLOOKUP(B60,'Fixture List Individual Files'!$B$14:$D$63,3,FALSE))","v":""},"",{"$nulls":4},{"$f":"IF(J60=\"\",\"\",VLOOKUP(J60,'Fixture List Individual Files'!$B$14:$D$63,2,FALSE))","v":""},null,{"$f":"IF(J60=\"\",\"\",VLOOKUP(J60,'Fixture List Individual Files'!$B$14:$D$63,3,FALSE))","v":""},""]
[null,null,{"$f":"IF(B61=\"\",\"\",VLOOKUP(B61,'Fixture List Individual Files'!$B$14:$D$63,2,FALSE))","v":""},null,{"$f":"IF(B61=\"\",\"\",VLOOKUP(B61,'Fixture List Individual Files'!$B$14:$D$63,3,FALSE))","v":""},"",{"$nulls":4},{"$f":"IF(J61=\"\",\"\",VLOOKUP(J61,'Fixture List Individual Files'!$B$14:$D$63,2,FALSE))","v":""},null,{"$f":"IF(J61=\"\",\"\",VLOOKUP(J61,'Fixture List Individual Files'!$B$14:$D$63,3,FALSE))","v":""},""]
[null,null,{"$f":"IF(B62=\"\",\"\",VLOOKUP(B62,'Fixture List Individual Files'!$B$14:$D$63,2,FALSE))","v":""},null,{"$f":"IF(B62=\"\",\"\",VLOOKUP(B62,'Fixture List Individual Files'!$B$14:$D$63,3,FALSE))","v":""},"",{"$nulls":4},{"$f":"IF(J62=\"\",\"\",VLOOKUP(J62,'Fixture List Individual Files'!$B$14:$D$63,2,FALSE))","v":""},null,{"$f":"IF(J62=\"\",\"\",VLOOKUP(J62,'Fixture List Individual Files'!$B$14:$D$63,3,FALSE))","v":""},""]
[null,null,{"$f":"IF(B63=\"\",\"\",VLOOKUP(B63,'Fixture List Individual Files'!$B$14:$D$63,2,FALSE))","v":""},null,{"$f":"IF(B63=\"\",\"\",VLOOKUP(B63,'Fixture List Individual Files'!$B$14:$D$63,3,FALSE))","v":""},"",{"$nulls":4},{"$f":"IF(J63=\"\",\"\",VLOOKUP(J63,'Fixture List Individual Files'!$B$14:$D$63,2,FALSE))","v":""},null,{"$f":"IF(J63=\"\",\"\",VLOOKUP(J63,'Fixture List Individual Files'!$B$14:$D$63,3,FALSE))","v":""},""]
[null,null,{"$f":"IF(B64=\"\",\"\",VLOOKUP(B64,'Fixture List Individual Files'!$B$14:$D$63,2,FALSE))","v":""},null,{"$f":"IF(B64=\"\",\"\",VLOOKUP(B64,'Fixture List Individual Files'!$B$14:$D$63,3,FALSE))","v":""},"",{"$nulls":4},{"$f":"IF(J64=\"\",\"\",VLOOKUP(J64,'Fixture List Individual Files'!$B$14:$D$63,2,FALSE))","v":""},null,{"$f":"IF(J64=\"\",\"\",VLOOKUP(J64,'Fixture List Individual Files'!$B$14:$D$63,3,FALSE))","v":""},""]
[null,null,{"$f":"IF(B65=\"\",\"\",VLOOKUP(B65,'Fixture List Individual Files'!$B$14:$D$63,2,FALSE))","v":""},null,{"$f":"IF(B65=\"\",\"\",VLOOKUP(B65,'Fixture List Individual Files'!$B$14:$D$63,3,FALSE))","v":""},"",{"$nulls":4},{"$f":"IF(J65=\"\",\"\",VLOOKUP(J65,'Fixture List Individual Files'!$B$14:$D$63,2,FALSE))","v":""},null,{"$f":"IF(J65=\"\",\"\",VLOOKUP(J65,'Fixture List Individual Files'!$B$14:$D$63,3,FALSE))","v":""},""]
[null,null,{"$f":"IF(B66=\"\",\"\",VLOOKUP(B66,'Fixture List Individual Files'!$B$14:$D$63,2,FALSE))","v":""},null,{"$f":"IF(B66=\"\",\"\",VLOOKUP(B66,'Fixture List Individual Files'!$B$14:$D$63,3,FALSE))","v":""},"",{"$nulls":4},{"$f":"IF(J66=\"\",\"\",VLOOKUP(J66,'Fixture List Individual Files'!$B$14:$D$63,2,FALSE))","v":""},null,{"$f":"IF(J66=\"\",\"\",VLOOKUP(J66,'Fixture List Individual Files'!$B$14:$D$63,3,FALSE))","v":""},""]
[null,null,{"$f":"IF(B67=\"\",\"\",VLOOKUP(B67,'Fixture List Individual Files'!$B$14:$D$63,2,FALSE))","v":""},null,{"$f":"IF(B67=\"\",\"\",VLOOKUP(B67,'Fixture List Individual Files'!$B$14:$D$63,3,FALSE))","v":""},"",{"$nulls":4},{"$f":"IF(J67=\"\",\"\",VLOOKUP(J67,'Fixture List Individual Files'!$B$14:$D$63,2,FALSE))","v":""},null,{"$f":"IF(J67=\"\",\"\",VLOOKUP(J67,'Fixture List Individual Files'!$B$14:$D$63,3,FALSE))","v":""},""]
[null,null,{"$f":"IF(B68=\"\",\"\",VLOOKUP(B68,'Fixture List Individual Files'!$B$14:$D$63,2,FALSE))","v":""},null,{"$f":"IF(B68=\"\",\"\",VLOOKUP(B68,'Fixture List Individual Files'!$B$14:$D$63,3,FALSE))","v":""},"",{"$nulls":4},{"$f":"IF(J68=\"\",\"\",VLOOKUP(J68,'Fixture List Individual Files'!$B$14:$D$63,2,FALSE))","v":""},null,{"$f":"IF(J68=\"\",\"\",VLOOKUP(J68,'Fixture List Individual Files'!$B$14:$D$63,3,FALSE))","v":""},""]
[null,null,{"$f":"IF(B69=\"\",\"\",VLOOKUP(B69,'Fixture List Individual Files'!$B$14:$D$63,2,FALSE))","v":""},null,{"$f":"IF(B69=\"\",\"\",VLOOKUP(B69,'Fixture List Individual Files'!$B$14:$D$63,3,FALSE))","v":""},"",{"$nulls":4},{"$f":"IF(J69=\"\",\"\",VLOOKUP(J69,'Fixture List Individual Files'!$B$14:$D$63,2,FALSE))","v":""},null,{"$f":"IF(J69=\"\",\"\",VLOOKUP(J69,'Fixture List Individual Files'!$B$14:$D$63,3,FALSE))","v":""},""]
[null,null,{"$f":"IF(B70=\"\",\"\",VLOOKUP(B70,'Fixture List Individual Files'!$B$14:$D$63,2,FALSE))","v":""},null,{"$f":"IF(B70=\"\",\"\",VLOOKUP(B70,'Fixture List Individual Files'!$B$14:$D$63,3,FALSE))","v":""},"",{"$nulls":4},{"$f":"IF(J70=\"\",\"\",VLOOKUP(J70,'Fixture List Individual Files'!$B$14:$D$63,2,FALSE))","v":""},null,{"$f":"IF(J70=\"\",\"\",VLOOKUP(J70,'Fixture List Individual Files'!$B$14:$D$63,3,FALSE))","v":""},""]
[null,null,{"$f":"IF(B71=\"\",\"\",VLOOKUP(B71,'Fixture List Individual Files'!$B$14:$D$63,2,FALSE))","v":""},null,{"$f":"IF(B71=\"\",\"\",VLOOKUP(B71,'Fixture List Individual Files'!$B$14:$D$63,3,FALSE))","v":""},"",{"$nulls":4},{"$f":"IF(J71=\"\",\"\",VLOOKUP(J71,'Fixture List Individual Files'!$B$14:$D$63,2,FALSE))","v":""},null,{"$f":"IF(J71=\"\",\"\",VLOOKUP(J71,'Fixture List Individual Files'!$B$14:$D$63,3,FALSE))","v":""},""]
[null,null,{"$f":"IF(B72=\"\",\"\",VLOOKUP(B72,'Fixture List Individual Files'!$B$14:$D$63,2,FALSE))","v":""},null,{"$f":"IF(B72=\"\",\"\",VLOOKUP(B72,'Fixture List Individual Files'!$B$14:$D$63,3,FALSE))","v":""},"",{"$nulls":4},{"$f":"IF(J72=\"\",\"\",VLOOKUP(J72,'Fixture List Individual Files'!$B$14:$D$63,2,FALSE))","v":""},null,{"$f":"IF(J72=\"\",\"\",VLOOKUP(J72,'Fixture List Individual Files'!$B$14:$D$63,3,FALSE))","v":""},""]
[null,null,{"$f":"IF(B73=\"\",\"\",VLOOKUP(B73,'Fixture List Individual Files'!$B$14:$D$63,2,FALSE))","v":""},null,{"$f":"IF(B73=\"\",\"\",VLOOKUP(B73,'Fixture List Individual Files'!$B$14:$D$63,3,FALSE))","v":""},"",{"$nulls":4},{"$f":"IF(J73=\"\",\"\",VLOOKUP(J73,'Fixture List Individual Files'!$B$14:$D$63,2,FALSE))","v":""},null,{"$f":"IF(J73=\"\",\"\",VLOOKUP(J73,'Fixture List Individual Files'!$B$14:$D$63,3,FALSE))","v":""},""]
[null,null,{"$f":"IF(B74=\"\",\"\",VLOOKUP(B74,'Fixture List Individual Files'!$B$14:$D$63,2,FALSE))","v":""},null,{"$f":"IF(B74=\"\",\"\",VLOOKUP(B74,'Fixture List Individual Files'!$B$14:$D$63,3,FALSE))","v":""},"",{"$nulls":4},{"$f":"IF(J74=\"\",\"\",VLOOKUP(J74,'Fixture List Individual Files'!$B$14:$D$63,2,FALSE))","v":""},null,{"$f":"IF(J74=\"\",\"\",VLOOKUP(J74,'Fixture List Individual Files'!$B$14:$D$63,3,FALSE))","v":""},""]
[null,null,{"$f":"IF(B75=\"\",\"\",VLOOKUP(B75,'Fixture List Individual Files'!$B$14:$D$63,2,FALSE))","v":""},null,{"$f":"IF(B75=\"\",\"\",VLOOKUP(B75,'Fixture List Individual Files'!$B$14:$D$63,3,FALSE))","v":""},"",{"$nulls":4},{"$f":"IF(J75=\"\",\"\",VLOOKUP(J75,'Fixture List Individual Files'!$B$14:$D$63,2,FALSE))","v":""},null,{"$f":"IF(J75=\"\",\"\",VLOOKUP(J75,'Fixture List Individual Files'!$B$14:$D$63,3,FALSE))","v":""},""]
[null,null,{"$f":"IF(B76=\"\",\"\",VLOOKUP(B76,'Fixture List Individual Files'!$B$14:$D$63,2,FALSE))","v":""},null,{"$f":"IF(B76=\"\",\"\",VLOOKUP(B76,'Fixture List Individual Files'!$B$14:$D$63,3,FALSE))","v":""},"",{"$nulls":4},{"$f":"IF(J76=\"\",\"\",VLOOKUP(J76,'Fixture List Individual Files'!$B$14:$D$63,2,FALSE))","v":""},null,{"$f":"IF(J76=\"\",\"\",VLOOKUP(J76,'Fixture List Individual Files'!$B$14:$D$63,3,FALSE))","v":""},""]
[null,null,{"$f":"IF(B77=\"\",\"\",VLOOKUP(B77,'Fixture List Individual Files'!$B$14:$D$63,2,FALSE))","v":""},null,{"$f":"IF(B77=\"\",\"\",VLOOKUP(B77,'Fixture List Individual Files'!$B$14:$D$63,3,FALSE))","v":""},"",{"$nulls":4},{"$f":"IF(J77=\"\",\"\",VLOOKUP(J77,'Fixture List Individual Files'!$B$14:$D$63,2,FALSE))","v":""},null,{"$f":"IF(J77=\"\",\"\",VLOOKUP(J77,'Fixture List Individual Files'!$B$14:$D$63,3,FALSE))","v":""},""]
[null,null,{"$f":"IF(B78=\"\",\"\",VLOOKUP(B78,'Fixture List Individual Files'!$B$14:$D$63,2,FALSE))","v":""},null,{"$f":"IF(B78=\"\",\"\",VLOOKUP(B78,'Fixture List Individual Files'!$B$14:$D$63,3,FALSE))","v":""},"",{"$nulls":4},{"$f":"IF(J78=\"\",\"\",VLOOKUP(J78,'Fixture List Individual Files'!$B$14:$D$63,2,FALSE))","v":""},null,{"$f":"IF(J78=\"\",\"\",VLOOKUP(J78,'Fixture List Individual Files'!$B$14:$D$63,3,FALSE))","v":""},""]
[null,null,{"$f":"IF(B79=\"\",\"\",VLOOKUP(B79,'Fixture List Individual Files'!$B$14:$D$63,2,FALSE))","v":""},null,{"$f":"IF(B79=\"\",\"\",VLOOKUP(B79,'Fixture List Individual Files'!$B$14:$D$63,3,FALSE))","v":""},"",{"$nulls":4},{"$f":"IF(J79=\"\",\"\",VLOOKUP(J79,'Fixture List Individual Files'!$B$14:$D$63,2,FALSE))","v":""},null,{"$f":"IF(J79=\"\",\"\",VLOOKUP(J79,'Fixture List Individual Files'!$B$14:$D$63,3,FALSE))","v":""},""]
[null,null,{"$f":"IF(B80=\"\",\"\",VLOOKUP(B80,'Fixture List Individual Files'!$B$14:$D$63,2,FALSE))","v":""},null,{"$f":"IF(B80=\"\",\"\",VLOOKUP(B80,'Fixture List Individual Files'!$B$14:$D$63,3,FALSE))","v":""},"",{"$nulls":4},{"$f":"IF(J80=\"\",\"\",VLOOKUP(J80,'Fixture List Individual Files'!$B$14:$D$63,2,FALSE))","v":""},null,{"$f":"IF(J80=\"\",\"\",VLOOKUP(J80,'Fixture List Individual Files'!$B$14:$D$63,3,FALSE))","v":""},""]
[null,null,{"$f":"IF(B81=\"\",\"\",VLOOKUP(B81,'Fixture List Individual Files'!$B$14:$D$63,2,FALSE))","v":""},null,{"$f":"IF(B81=\"\",\"\",VLOOKUP(B81,'Fixture List Individual Files'!$B$14:$D$63,3,FALSE))","v":""},"",{"$nulls":4},{"$f":"IF(J81=\"\",\"\",VLOOKUP(J81,'Fixture List Individual Files'!$B$14:$D$63,2,FALSE))","v":""},null,{"$f":"IF(J81=\"\",\"\",VLOOKUP(J81,'Fixture List Individual Files'!$B$14:$D$63,3,FALSE))","v":""},""]
[null,null,{"$f":"IF(B82=\"\",\"\",VLOOKUP(B82,'Fixture List Individual Files'!$B$14:$D$63,2,FALSE))","v":""},null,{"$f":"IF(B82=\"\",\"\",VLOOKUP(B82,'Fixture List Individual Files'!$B$14:$D$63,3,FALSE))","v":""},"",{"$nulls":4},{"$f":"IF(J82=\"\",\"\",VLOOKUP(J82,'Fixture List Individual Files'!$B$14:$D$63,2,FALSE))","v":""},null,{"$f":"IF(J82=\"\",\"\",VLOOKUP(J82,'Fixture List Individual Files'!$B$14:$D$63,3,FALSE))","v":""},""]
[null,null,{"$f":"IF(B83=\"\",\"\",VLOOKUP(B83,'Fixture List Individual Files'!$B$14:$D$63,2,FALSE))","v":""},null,{"$f":"IF(B83=\"\",\"\",VLOOKUP(B83,'Fixture List Individual Files'!$B$14:$D$63,3,FALSE))","v":""},"",{"$nulls":4},{"$f":"IF(J83=\"\",\"\",VLOOKUP(J83,'Fixture List Individual Files'!$B$14:$D$63,2,FALSE))","v":""},null,{"$f":"IF(J83=\"\",\"\",VLOOKUP(J83,'Fixture List Individual Files'!$B$14:$D$63,3,FALSE))","v":""},""]
[null,null,{"$f":"IF(B84=\"\",\"\",VLOOKUP(B84,'Fixture List Individual Files'!$B$14:$D$63,2,FALSE))","v":""},null,{"$f":"IF(B84=\"\",\"\",VLOOKUP(B84,'Fixture List Individual Files'!$B$14:$D$63,3,FALSE))","v":""},"",{"$nulls":4},{"$f":"IF(J84=\"\",\"\",VLOOKUP(J84,'Fixture List Individual Files'!$B$14:$D$63,2,FALSE))","v":""},null,{"$f":"IF(J84=\"\",\"\",VLOOKUP(J84,'Fixture List Individual Files'!$B$14:$D$63,3,FALSE))","v":""},""]
[null,null,{"$f":"IF(B85=\"\",\"\",VLOOKUP(B85,'Fixture List Individual Files'!$B$14:$D$63,2,FALSE))","v":""},null,{"$f":"IF(B85=\"\",\"\",VLOOKUP(B85,'Fixture List Individual Files'!$B$14:$D$63,3,FALSE))","v":""},"",{"$nulls":4},{"$f":"IF(J85=\"\",\"\",VLOOKUP(J85,'Fixture List Individual Files'!$B$14:$D$63,2,FALSE))","v":""},null,{"$f":"IF(J85=\"\",\"\",VLOOKUP(J85,'Fixture List Individual Files'!$B$14:$D$63,3,FALSE))","v":""},""]
[null,null,{"$f":"IF(B86=\"\",\"\",VLOOKUP(B86,'Fixture List Individual Files'!$B$14:$D$63,2,FALSE))","v":""},null,{"$f":"IF(B86=\"\",\"\",VLOOKUP(B86,'Fixture List Individual Files'!$B$14:$D$63,3,FALSE))","v":""},"",{"$nulls":4},{"$f":"IF(J86=\"\",\"\",VLOOKUP(J86,'Fixture List Individual Files'!$B$14:$D$63,2,FALSE))","v":""},null,{"$f":"IF(J86=\"\",\"\",VLOOKUP(J86,'Fixture List Individual Files'!$B$14:$D$63,3,FALSE))","v":""},""]
[null,null,{"$f":"IF(B87=\"\",\"\",VLOOKUP(B87,'Fixture List Individual Files'!$B$14:$D$63,2,FALSE))","v":""},null,{"$f":"IF(B87=\"\",\"\",VLOOKUP(B87,'Fixture List Individual Files'!$B$14:$D$63,3,FALSE))","v":""},"",{"$nulls":4},{"$f":"IF(J87=\"\",\"\",VLOOKUP(J87,'Fixture List Individual Files'!$B$14:$D$63,2,FALSE))","v":""},null,{"$f":"IF(J87=\"\",\"\",VLOOKUP(J87,'Fixture List Individual Files'!$B$14:$D$63,3,FALSE))","v":""},""]
[null,null,{"$f":"IF(B88=\"\",\"\",VLOOKUP(B88,'Fixture List Individual Files'!$B$14:$D$63,2,FALSE))","v":""},null,{"$f":"IF(B88=\"\",\"\",VLOOKUP(B88,'Fixture List Individual Files'!$B$14:$D$63,3,FALSE))","v":""},"",{"$nulls":4},{"$f":"IF(J88=\"\",\"\",VLOOKUP(J88,'Fixture List Individual Files'!$B$14:$D$63,2,FALSE))","v":""},null,{"$f":"IF(J88=\"\",\"\",VLOOKUP(J88,'Fixture List Individual Files'!$B$14:$D$63,3,FALSE))","v":""},""]
[null,null,{"$f":"IF(B89=\"\",\"\",VLOOKUP(B89,'Fixture List Individual Files'!$B$14:$D$63,2,FALSE))","v":""},null,{"$f":"IF(B89=\"\",\"\",VLOOKUP(B89,'Fixture List Individual Files'!$B$14:$D$63,3,FALSE))","v":""},"",{"$nulls":4},{"$f":"IF(J89=\"\",\"\",VLOOKUP(J89,'Fixture List Individual Files'!$B$14:$D$63,2,FALSE))","v":""},null,{"$f":"IF(J89=\"\",\"\",VLOOKUP(J89,'Fixture List Individual Files'!$B$14:$D$63,3,FALSE))","v":""},""]
[null,null,{"$f":"IF(B90=\"\",\"\",VLOOKUP(B90,'Fixture List Individual Files'!$B$14:$D$63,2,FALSE))","v":""},null,{"$f":"IF(B90=\"\",\"\",VLOOKUP(B90,'Fixture List Individual Files'!$B$14:$D$63,3,FALSE))","v":""},"",{"$nulls":4},{"$f":"IF(J90=\"\",\"\",VLOOKUP(J90,'Fixture List Individual Files'!$B$14:$D$63,2,FALSE))","v":""},null,{"$f":"IF(J90=\"\",\"\",VLOOKUP(J90,'Fixture List Individual Files'!$B$14:$D$63,3,FALSE))","v":""},""]
[null,null,"Totals:",{"$f":"SUM(D55:D90)","v":0},null,{"$f":"SUM(F55:F90)","v":0},{"$nulls":4},"Totals:",{"$f":"SUM(L55:L90)","v":0},null,{"$f":"SUM(N55:N90)","v":0}]
[]
[null,"Area 5",{"$nulls":7},"Area 6"]
[null,"Type:","Choose from Drop-down",null,null,{"$f":"IFERROR(VLOOKUP(C94,Admin_Lists!$A$9:$B$41,2,FALSE),\"\")","v":0},"W/sq ft",null,null,"Type:","Choose from Drop-down",null,null,{"$f":"IFERROR(VLOOKUP(K94,Admin_Lists!$A$9:$B$41,2,FALSE),\"\")","v":0},"W/sq ft"]
[null,null,{"$f":"\"Area Description: \"&'Sq. Ft. Area Individual Files'!D13","v":"Area Description: "},{"$nulls":7},{"$f":"\"Area Description: \"&'Sq. Ft. Area Individual Files'!D14","v":"Area Description: "}]
[null,"Fixture Mark","Fixture\nName","Fixture\nCount","Fixture Watts","Total Watts \n(Fixt Count x Fixt Watts)",{"$nulls":3},"Fixture Mark","Fixture\nName","Fixture\nCount","Fixture Watts","Total Watts \n(Fixt Count x Fixt Watts)"]
[]
[null,null,{"$f":"IF(B98=\"\",\"\",VLOOKUP(B98,'Fixture List Individual Files'!$B$14:$D$63,2,FALSE))","v":""},null,{"$f":"IF(B98=\"\",\"\",VLOOKUP(B98,'Fixture List Individual Files'!$B$14:$D$63,3,FALSE))","v":""},{"$f":"IF(E98=\"\",\"\",D98*E98)","v":""},{"$nulls":4},{"$f":"IF(J98=\"\",\"\",VLOOKUP(J98,'Fixture List Individual Files'!$B$14:$D$63,2,FALSE))","v":""},null,{"$f":"IF(J98=\"\",\"\",VLOOKUP(J98,'Fixture List Individual Files'!$B$14:$D$63,3,FALSE))","v":""},{"$f":"IF(M98=\"\",\"\",L98*M98)","v":""}]
[null,null,{"$f":"IF(B99=\"\",\"\",VLOOKUP(B99,'Fixture List Individual Files'!$B$14:$D$63,2,FALSE))","v":""},null,{"$f":"IF(B99=\"\",\"\",VLOOKUP(B99,'Fixture List Individual Files'!$B$14:$D$63,3,FALSE))","v":""},{"$f":"IF(E99=\"\",\"\",D99*E99)","v":""},{"$nulls":4},{"$f":"IF(J99=\"\",\"\",VLOOKUP(J99,'Fixture List Individual Files'!$B$14:$D$63,2,FALSE))","v":""},null,{"$f":"IF(J99=\"\",\"\",VLOOKUP(J99,'Fixture List Individual Files'!$B$14:$D$63,3,FALSE))","v":""},{"$f":"IF(M99=\"\",\"\",L99*M99)","v":""}]
[null,null,{"$f":"IF(B100=\"\",\"\",VLOOKUP(B100,'Fixture List Individual Files'!$B$14:$D$63,2,FALSE))","v":""},null,{"$f":"IF(B100=\"\",\"\",VLOOKUP(B100,'Fixture List Individual Files'!$B$14:$D$63,3,FALSE))","v":""},"",{"$nulls":4},{"$f":"IF(J100=\"\",\"\",VLOOKUP(J100,'Fixture List Individual Files'!$B$14:$D$63,2,FALSE))","v":""},null,{"$f":"IF(J100=\"\",\"\",VLOOKUP(J100,'Fixture List Individual Files'!$B$14:$D$63,3,FALSE))","v":""},""]
[null,null,{"$f":"IF(B101=\"\",\"\",VLOOKUP(B101,'Fixture List Individual Files'!$B$14:$D$63,2,FALSE))","v":""},null,{"$f":"IF(B101=\"\",\"\",VLOOKUP(B101,'Fixture List Individual Files'!$B$14:$D$63,3,FALSE))","v":""},"",{"$nulls":4},{"$f":"IF(J101=\"\",\"\",VLOOKUP(J101,'Fixture List Individual Files'!$B$14:$D$63,2,FALSE))","v":""},null,{"$f":"IF(J101=\"\",\"\",VLOOKUP(J101,'Fixture List Individual Files'!$B$14:$D$63,3,FALSE))","v":""},""]
[null,null,{"$f":"IF(B102=\"\",\"\",VLOOKUP(B102,'Fixture List Individual Files'!$B$14:$D$63,2,FALSE))","v":""},null,{"$f":"IF(B102=\"\",\"\",VLOOKUP(B102,'Fixture List Individual Files'!$B$14:$D$63,3,FALSE))","v":""},"",{"$nulls":4},{"$f":"IF(J102=\"\",\"\",VLOOKUP(J102,'Fixture List Individual Files'!$B$14:$D$63,2,FALSE))","v":""},null,{"$f":"IF(J102=\"\",\"\",VLOOKUP(J102,'Fixture List Individual Files'!$B$14:$D$63,3,FALSE))","v":""},""]
[null,null,{"$f":"IF(B103=\"\",\"\",VLOOKUP(B103,'Fixture List Individual Files'!$B$14:$D$63,2,FALSE))","v":""},null,{"$f":"IF(B103=\"\",\"\",VLOOKUP(B103,'Fixture List Individual Files'!$B$14:$D$63,3,FALSE))","v":""},"",{"$nulls":4},{"$f":"IF(J103=\"\",\"\",VLOOKUP(J103,'Fixture List Individual Files'!$B$14:$D$63,2,FALSE))","v":""},null,{"$f":"IF(J103=\"\",\"\",VLOOKUP(J103,'Fixture List Individual Files'!$B$14:$D$63,3,FALSE))","v":""},""]
[null,null,{"$f":"IF(B104=\"\",\"\",VLOOKUP(B104,'Fixture List Individual Files'!$B$14:$D$63,2,FALSE))","v":""},null,{"$f":"IF(B104=\"\",\"\",VLOOKUP(B104,'Fixture List Individual Files'!$B$14:$D$63,3,FALSE))","v":""},"",{"$nulls":4},{"$f":"IF(J104=\"\",\"\",VLOOKUP(J104,'Fixture List Individual Files'!$B$14:$D$63,2,FALSE))","v":""},null,{"$f":"IF(J104=\"\",\"\",VLOOKUP(J104,'Fixture List Individual Files'!$B$14:$D$63,3,FALSE))","v":""},""]
[null,null,{"$f":"IF(B105=\"\",\"\",VLOOKUP(B105,'Fixture List Individual Files'!$B$14:$D$63,2,FALSE))","v":""},null,{"$f":"IF(B105=\"\",\"\",VLOOKUP(B105,'Fixture List Individual Files'!$B$14:$D$63,3,FALSE))","v":""},"",{"$nulls":4},{"$f":"IF(J105=\"\",\"\",VLOOKUP(J105,'Fixture List Individual Files'!$B$14:$D$63,2,FALSE))","v":""},null,{"$f":"IF(J105=\"\",\"\",VLOOKUP(J105,'Fixture List Individual Files'!$B$14:$D$63,3,FALSE))","v":""},""]
[null,null,{"$f":"IF(B106=\"\",\"\",VLOOKUP(B106,'Fixture List Individual Files'!$B$14:$D$63,2,FALSE))","v":""},null,{"$f":"IF(B106=\"\",\"\",VLOOKUP(B106,'Fixture List Individual Files'!$B$14:$D$63,3,FALSE))","v":""},"",{"$nulls":4},{"$f":"IF(J106=\"\",\"\",VLOOKUP(J106,'Fixture List Individual Files'!$B$14:$D$63,2,FALSE))","v":""},null,{"$f":"IF(J106=\"\",\"\",VLOOKUP(J106,'Fixture List Individual Files'!$B$14:$D$63,3,FALSE))","v":""},""]
[null,null,{"$f":"IF(B107=\"\",\"\",VLOOKUP(B107,'Fixture List Individual Files'!$B$14:$D$63,2,FALSE))","v":""},null,{"$f":"IF(B107=\"\",\"\",VLOOKUP(B107,'Fixture List Individual Files'!$B$14:$D$63,3,FALSE))","v":""},"",{"$nulls":4},{"$f":"IF(J107=\"\",\"\",VLOOKUP(J107,'Fixture List Individual Files'!$B$14:$D$63,2,FALSE))","v":""},null,{"$f":"IF(J107=\"\",\"\",VLOOKUP(J107,'Fixture List Individual Files'!$B$14:$D$63,3,FALSE))","v":""},""]
[null,null,{"$f":"IF(B108=\"\",\"\",VLOOKUP(B108,'Fixture List Individual Files'!$B$14:$D$63,2,FALSE))","v":""},null,{"$f":"IF(B108=\"\",\"\",VLOOKUP(B108,'Fixture List Individual Files'!$B$14:$D$63,3,FALSE))","v":""},"",{"$nulls":4},{"$f":"IF(J108=\"\",\"\",VLOOKUP(J108,'Fixture List Individual Files'!$B$14:$D$63,2,FALSE))","v":""},null,{"$f":"IF(J108=\"\",\"\",VLOOKUP(J108,'Fixture List Individual Files'!$B$14:$D$63,3,FALSE))","v":""},""]
[null,null,{"$f":"IF(B109=\"\",\"\",VLOOKUP(B109,'Fixture List Individual Files'!$B$14:$D$63,2,FALSE))","v":""},null,{"$f":"IF(B109=\"\",\"\",VLOOKUP(B109,'Fixture List Individual Files'!$B$14:$D$63,3,FALSE))","v":""},"",{"$nulls":4},{"$f":"IF(J109=\"\",\"\",VLOOKUP(J109,'Fixture List Individual Files'!$B$14:$D$63,2,FALSE))","v":""},null,{"$f":"IF(J109=\"\",\"\",VLOOKUP(J109,'Fixture List Individual Files'!$B$14:$D$63,3,FALSE))","v":""},""]
[null,null,{"$f":"IF(B110=\"\",\"\",VLOOKUP(B110,'Fixture List Individual Files'!$B$14:$D$63,2,FALSE))","v":""},null,{"$f":"IF(B110=\"\",\"\",VLOOKUP(B110,'Fixture List Individual Files'!$B$14:$D$63,3,FALSE))","v":""},"",{"$nulls":4},{"$f":"IF(J110=\"\",\"\",VLOOKUP(J110,'Fixture List Individual Files'!$B$14:$D$63,2,FALSE))","v":""},null,{"$f":"IF(J110=\"\",\"\",VLOOKUP(J110,'Fixture List Individual Files'!$B$14:$D$63,3,FALSE))","v":""},""]
[null,null,{"$f":"IF(B111=\"\",\"\",VLOOKUP(B111,'Fixture List Individual Files'!$B$14:$D$63,2,FALSE))","v":""},null,{"$f":"IF(B111=\"\",\"\",VLOOKUP(B111,'Fixture List Individual Files'!$B$14:$D$63,3,FALSE))","v":""},"",{"$nulls":4},{"$f":"IF(J111=\"\",\"\",VLOOKUP(J111,'Fixture List Individual Files'!$B$14:$D$63,2,FALSE))","v":""},null,{"$f":"IF(J111=\"\",\"\",VLOOKUP(J111,'Fixture List Individual Files'!$B$14:$D$63,3,FALSE))","v":""},""]
[null,null,{"$f":"IF(B112=\"\",\"\",VLOOKUP(B112,'Fixture List Individual Files'!$B$14:$D$63,2,FALSE))","v":""},null,{"$f":"IF(B112=\"\",\"\",VLOOKUP(B112,'Fixture List Individual Files'!$B$14:$D$63,3,FALSE))","v":""},"",{"$nulls":4},{"$f":"IF(J112=\"\",\"\",VLOOKUP(J112,'Fixture List Individual Files'!$B$14:$D$63,2,FALSE))","v":""},null,{"$f":"IF(J112=\"\",\"\",VLOOKUP(J112,'Fixture List Individual Files'!$B$14:$D$63,3,FALSE))","v":""},""]
[null,null,{"$f":"IF(B113=\"\",\"\",VLOOKUP(B113,'Fixture List Individual Files'!$B$14:$D$63,2,FALSE))","v":""},null,{"$f":"IF(B113=\"\",\"\",VLOOKUP(B113,'Fixture List Individual Files'!$B$14:$D$63,3,FALSE))","v":""},"",{"$nulls":4},{"$f":"IF(J113=\"\",\"\",VLOOKUP(J113,'Fixture List Individual Files'!$B$14:$D$63,2,FALSE))","v":""},null,{"$f":"IF(J113=\"\",\"\",VLOOKUP(J113,'Fixture List Individual Files'!$B$14:$D$63,3,FALSE))","v":""},""]
[null,null,{"$f":"IF(B114=\"\",\"\",VLOOKUP(B114,'Fixture List Individual Files'!$B$14:$D$63,2,FALSE))","v":""},null,{"$f":"IF(B114=\"\",\"\",VLOOKUP(B114,'Fixture List Individual Files'!$B$14:$D$63,3,FALSE))","v":""},"",{"$nulls":4},{"$f":"IF(J114=\"\",\"\",VLOOKUP(J114,'Fixture List Individual Files'!$B$14:$D$63,2,FALSE))","v":""},null,{"$f":"IF(J114=\"\",\"\",VLOOKUP(J114,'Fixture List Individual Files'!$B$14:$D$63,3,FALSE))","v":""},""]
[null,null,{"$f":"IF(B115=\"\",\"\",VLOOKUP(B115,'Fixture List Individual Files'!$B$14:$D$63,2,FALSE))","v":""},null,{"$f":"IF(B115=\"\",\"\",VLOOKUP(B115,'Fixture List Individual Files'!$B$14:$D$63,3,FALSE))","v":""},"",{"$nulls":4},{"$f":"IF(J115=\"\",\"\",VLOOKUP(J115,'Fixture List Individual Files'!$B$14:$D$63,2,FALSE))","v":""},null,{"$f":"IF(J115=\"\",\"\",VLOOKUP(J115,'Fixture List Individual Files'!$B$14:$D$63,3,FALSE))","v":""},""]
[null,null,{"$f":"IF(B116=\"\",\"\",VLOOKUP(B116,'Fixture List Individual Files'!$B$14:$D$63,2,FALSE))","v":""},null,{"$f":"IF(B116=\"\",\"\",VLOOKUP(B116,'Fixture List Individual Files'!$B$14:$D$63,3,FALSE))","v":""},"",{"$nulls":4},{"$f":"IF(J116=\"\",\"\",VLOOKUP(J116,'Fixture List Individual Files'!$B$14:$D$63,2,FALSE))","v":""},null,{"$f":"IF(J116=\"\",\"\",VLOOKUP(J116,'Fixture List Individual Files'!$B$14:$D$63,3,FALSE))","v":""},""]
[null,null,{"$f":"IF(B117=\"\",\"\",VLOOKUP(B117,'Fixture List Individual Files'!$B$14:$D$63,2,FALSE))","v":""},null,{"$f":"IF(B117=\"\",\"\",VLOOKUP(B117,'Fixture List Individual Files'!$B$14:$D$63,3,FALSE))","v":""},"",{"$nulls":4},{"$f":"IF(J117=\"\",\"\",VLOOKUP(J117,'Fixture List Individual Files'!$B$14:$D$63,2,FALSE))","v":""},null,{"$f":"IF(J117=\"\",\"\",VLOOKUP(J117,'Fixture List Individual Files'!$B$14:$D$63,3,FALSE))","v":""},""]
[null,null,{"$f":"IF(B118=\"\",\"\",VLOOKUP(B118,'Fixture List Individual Files'!$B$14:$D$63,2,FALSE))","v":""},null,{"$f":"IF(B118=\"\",\"\",VLOOKUP(B118,'Fixture List Individual Files'!$B$14:$D$63,3,FALSE))","v":""},"",{"$nulls":4},{"$f":"IF(J118=\"\",\"\",VLOOKUP(J118,'Fixture List Individual Files'!$B$14:$D$63,2,FALSE))","v":""},null,{"$f":"IF(J118=\"\",\"\",VLOOKUP(J118,'Fixture List Individual Files'!$B$14:$D$63,3,FALSE))","v":""},""]
[null,null,{"$f":"IF(B119=\"\",\"\",VLOOKUP(B119,'Fixture List Individual Files'!$B$14:$D$63,2,FALSE))","v":""},null,{"$f":"IF(B119=\"\",\"\",VLOOKUP(B119,'Fixture List Individual Files'!$B$14:$D$63,3,FALSE))","v":""},"",{"$nulls":4},{"$f":"IF(J119=\"\",\"\",VLOOKUP(J119,'Fixture List Individual Files'!$B$14:$D$63,2,FALSE))","v":""},null,{"$f":"IF(J119=\"\",\"\",VLOOKUP(J119,'Fixture List Individual Files'!$B$14:$D$63,3,FALSE))","v":""},""]
[null,null,{"$f":"IF(B120=\"\",\"\",VLOOKUP(B120,'Fixture List Individual Files'!$B$14:$D$63,2,FALSE))","v":""},null,{"$f":"IF(B120=\"\",\"\",VLOOKUP(B120,'Fixture List Individual Files'!$B$14:$D$63,3,FALSE))","v":""},"",{"$nulls":4},{"$f":"IF(J120=\"\",\"\",VLOOKUP(J120,'Fixture List Individual Files'!$B$14:$D$63,2,FALSE))","v":""},null,{"$f":"IF(J120=\"\",\"\",VLOOKUP(J120,'Fixture List Individual Files'!$B$14:$D$63,3,FALSE))","v":""},""]
[null,null,{"$f":"IF(B121=\"\",\"\",VLOOKUP(B121,'Fixture List Individual Files'!$B$14:$D$63,2,FALSE))","v":""},null,{"$f":"IF(B121=\"\",\"\",VLOOKUP(B121,'Fixture List Individual Files'!$B$14:$D$63,3,FALSE))","v":""},"",{"$nulls":4},{"$f":"IF(J121=\"\",\"\",VLOOKUP(J121,'Fixture List Individual Files'!$B$14:$D$63,2,FALSE))","v":""},null,{"$f":"IF(J121=\"\",\"\",VLOOKUP(J121,'Fixture List Individual Files'!$B$14:$D$63,3,FALSE))","v":""},""]
[null,null,{"$f":"IF(B122=\"\",\"\",VLOOKUP(B122,'Fixture List Individual Files'!$B$14:$D$63,2,FALSE))","v":""},null,{"$f":"IF(B122=\"\",\"\",VLOOKUP(B122,'Fixture List Individual Files'!$B$14:$D$63,3,FALSE))","v":""},"",{"$nulls":4},{"$f":"IF(J122=\"\",\"\",VLOOKUP(J122,'Fixture List Individual Files'!$B$14:$D$63,2,FALSE))","v":""},null,{"$f":"IF(J122=\"\",\"\",VLOOKUP(J122,'Fixture List Individual Files'!$B$14:$D$63,3,FALSE))","v":""},""]
[null,null,{"$f":"IF(B123=\"\",\"\",VLOOKUP(B123,'Fixture List Individual Files'!$B$14:$D$63,2,FALSE))","v":""},null,{"$f":"IF(B123=\"\",\"\",VLOOKUP(B123,'Fixture List Individual Files'!$B$14:$D$63,3,FALSE))","v":""},"",{"$nulls":4},{"$f":"IF(J123=\"\",\"\",VLOOKUP(J123,'Fixture List Individual Files'!$B$14:$D$63,2,FALSE))","v":""},null,{"$f":"IF(J123=\"\",\"\",VLOOKUP(J123,'Fixture List Individual Files'!$B$14:$D$63,3,FALSE))","v":""},""]
[null,null,{"$f":"IF(B124=\"\",\"\",VLOOKUP(B124,'Fixture List Individual Files'!$B$14:$D$63,2,FALSE))","v":""},null,{"$f":"IF(B124=\"\",\"\",VLOOKUP(B124,'Fixture List Individual Files'!$B$14:$D$63,3,FALSE))","v":""},"",{"$nulls":4},{"$f":"IF(J124=\"\",\"\",VLOOKUP(J124,'Fixture List Individual Files'!$B$14:$D$63,2,FALSE))","v":""},null,{"$f":"IF(J124=\"\",\"\",VLOOKUP(J124,'Fixture List Individual Files'!$B$14:$D$63,3,FALSE))","v":""},""]
[null,null,{"$f":"IF(B125=\"\",\"\",VLOOKUP(B125,'Fixture List Individual Files'!$B$14:$D$63,2,FALSE))","v":""},null,{"$f":"IF(B125=\"\",\"\",VLOOKUP(B125,'Fixture List Individual Files'!$B$14:$D$63,3,FALSE))","v":""},"",{"$nulls":4},{"$f":"IF(J125=\"\",\"\",VLOOKUP(J125,'Fixture List Individual Files'!$B$14:$D$63,2,FALSE))","v":""},null,{"$f":"IF(J125=\"\",\"\",VLOOKUP(J125,'Fixture List Individual Files'!$B$14:$D$63,3,FALSE))","v":""},""]
[null,null,{"$f":"IF(B126=\"\",\"\",VLOOKUP(B126,'Fixture List Individual Files'!$B$14:$D$63,2,FALSE))","v":""},null,{"$f":"IF(B126=\"\",\"\",VLOOKUP(B126,'Fixture List Individual Files'!$B$14:$D$63,3,FALSE))","v":""},"",{"$nulls":4},{"$f":"IF(J126=\"\",\"\",VLOOKUP(J126,'Fixture List Individual Files'!$B$14:$D$63,2,FALSE))","v":""},null,{"$f":"IF(J126=\"\",\"\",VLOOKUP(J126,'Fixture List Individual Files'!$B$14:$D$63,3,FALSE))","v":""},""]
[null,null,{"$f":"IF(B127=\"\",\"\",VLOOKUP(B127,'Fixture List Individual Files'!$B$14:$D$63,2,FALSE))","v":""},null,{"$f":"IF(B127=\"\",\"\",VLOOKUP(B127,'Fixture List Individual Files'!$B$14:$D$63,3,FALSE))","v":""},"",{"$nulls":4},{"$f":"IF(J127=\"\",\"\",VLOOKUP(J127,'Fixture List Individual Files'!$B$14:$D$63,2,FALSE))","v":""},null,{"$f":"IF(J127=\"\",\"\",VLOOKUP(J127,'Fixture List Individual Files'!$B$14:$D$63,3,FALSE))","v":""},""]
[null,null,{"$f":"IF(B128=\"\",\"\",VLOOKUP(B128,'Fixture List Individual Files'!$B$14:$D$63,2,FALSE))","v":""},null,{"$f":"IF(B128=\"\",\"\",VLOOKUP(B128,'Fixture List Individual Files'!$B$14:$D$63,3,FALSE))","v":""},"",{"$nulls":4},{"$f":"IF(J128=\"\",\"\",VLOOKUP(J128,'Fixture List Individual Files'!$B$14:$D$63,2,FALSE))","v":""},null,{"$f":"IF(J128=\"\",\"\",VLOOKUP(J128,'Fixture List Individual Files'!$B$14:$D$63,3,FALSE))","v":""},""]
[null,null,{"$f":"IF(B129=\"\",\"\",VLOOKUP(B129,'Fixture List Individual Files'!$B$14:$D$63,2,FALSE))","v":""},null,{"$f":"IF(B129=\"\",\"\",VLOOKUP(B129,'Fixture List Individual Files'!$B$14:$D$63,3,FALSE))","v":""},"",{"$nulls":4},{"$f":"IF(J129=\"\",\"\",VLOOKUP(J129,'Fixture List Individual Files'!$B$14:$D$63,2,FALSE))","v":""},null,{"$f":"IF(J129=\"\",\"\",VLOOKUP(J129,'Fixture List Individual Files'!$B$14:$D$63,3,FALSE))","v":""},""]
[null,null,{"$f":"IF(B130=\"\",\"\",VLOOKUP(B130,'Fixture List Individual Files'!$B$14:$D$63,2,FALSE))","v":""},null,{"$f":"IF(B130=\"\",\"\",VLOOKUP(B130,'Fixture List Individual Files'!$B$14:$D$63,3,FALSE))","v":""},"",{"$nulls":4},{"$f":"IF(J130=\"\",\"\",VLOOKUP(J130,'Fixture List Individual Files'!$B$14:$D$63,2,FALSE))","v":""},null,{"$f":"IF(J130=\"\",\"\",VLOOKUP(J130,'Fixture List Individual Files'!$B$14:$D$63,3,FALSE))","v":""},""]
[null,null,{"$f":"IF(B131=\"\",\"\",VLOOKUP(B131,'Fixture List Individual Files'!$B$14:$D$63,2,FALSE))","v":""},null,{"$f":"IF(B131=\"\",\"\",VLOOKUP(B131,'Fixture List Individual Files'!$B$14:$D$63,3,FALSE))","v":""},"",{"$nulls":4},{"$f":"IF(J131=\"\",\"\",VLOOKUP(J131,'Fixture List Individual Files'!$B$14:$D$63,2,FALSE))","v":""},null,{"$f":"IF(J131=\"\",\"\",VLOOKUP(J131,'Fixture List Individual Files'!$B$14:$D$63,3,FALSE))","v":""},""]
[null,null,{"$f":"IF(B132=\"\",\"\",VLOOKUP(B132,'Fixture List Individual Files'!$B$14:$D$63,2,FALSE))","v":""},null,{"$f":"IF(B132=\"\",\"\",VLOOKUP(B132,'Fixture List Individual Files'!$B$14:$D$63,3,FALSE))","v":""},"",{"$nulls":4},{"$f":"IF(J132=\"\",\"\",VLOOKUP(J132,'Fixture List Individual Files'!$B$14:$D$63,2,FALSE))","v":""},null,{"$f":"IF(J132=\"\",\"\",VLOOKUP(J132,'Fixture List Individual Files'!$B$14:$D$63,3,FALSE))","v":""},""]
[null,null,{"$f":"IF(B133=\"\",\"\",VLOOKUP(B133,'Fixture List Individual Files'!$B$14:$D$63,2,FALSE))","v":""},null,{"$f":"IF(B133=\"\",\"\",VLOOKUP(B133,'Fixture List Individual Files'!$B$14:$D$63,3,FALSE))","v":""},"",{"$nulls":4},{"$f":"IF(J133=\"\",\"\",VLOOKUP(J133,'Fixture List Individual Files'!$B$14:$D$63,2,FALSE))","v":""},null,{"$f":"IF(J133=\"\",\"\",VLOOKUP(J133,'Fixture List Individual Files'!$B$14:$D$63,3,FALSE))","v":""},""]
[null,null,"Totals:",{"$f":"SUM(D98:D133)","v":0},null,{"$f":"SUM(F98:F133)","v":0},{"$nulls":4},"Totals:",{"$f":"SUM(L98:L133)","v":0},null,{"$f":"SUM(N98:N133)","v":0}]
[]
[null,"Area 7",{"$nulls":7},"Area 8"]
[null,"Type:","Choose from Drop-down",null,null,{"$f":"IFERROR(VLOOKUP(C137,Admin_Lists!$A$9:$B$41,2,FALSE),\"\")","v":0},"W/sq ft",null,null,"Type:","Choose from Drop-down",null,null,{"$f":"IFERROR(VLOOKUP(K137,Admin_Lists!$A$9:$B$41,2,FALSE),\"\")","v":0},"W/sq ft"]
[null,null,{"$f":"\"Area Description: \"&'Sq. Ft. Area Individual Files'!D15","v":"Area Description: "},{"$nulls":7},{"$f":"\"Area Description: \"&'Sq. Ft. Area Individual Files'!D16","v":"Area Description: "}]
[null,"Fixture Mark","Fixture\nName","Fixture\nCount","Fixture Watts","Total Watts \n(Fixt Count x Fixt Watts)",{"$nulls":3},"Fixture Mark","Fixture\nName","Fixture\nCount","Fixture Watts","Total Watts \n(Fixt Count x Fixt Watts)"]
[]
[null,null,{"$f":"IF(B141=\"\",\"\",VLOOKUP(B141,'Fixture List Individual Files'!$B$14:$D$63,2,FALSE))","v":""},null,{"$f":"IF(B141=\"\",\"\",VLOOKUP(B141,'Fixture List Individual Files'!$B$14:$D$63,3,FALSE))","v":""},{"$f":"IF(E141=\"\",\"\",D141*E141)","v":""},{"$nulls":4},{"$f":"IF(J141=\"\",\"\",VLOOKUP(J141,'Fixture List Individual Files'!$B$14:$D$63,2,FALSE))","v":""},null,{"$f":"IF(J141=\"\",\"\",VLOOKUP(J141,'Fixture List Individual Files'!$B$14:$D$63,3,FALSE))","v":""},{"$f":"IF(M141=\"\",\"\",L141*M141)","v":""}]
[null,null,{"$f":"IF(B142=\"\",\"\",VLOOKUP(B142,'Fixture List Individual Files'!$B$14:$D$63,2,FALSE))","v":""},null,{"$f":"IF(B142=\"\",\"\",VLOOKUP(B142,'Fixture List Individual Files'!$B$14:$D$63,3,FALSE))","v":""},{"$f":"IF(E142=\"\",\"\",D142*E142)","v":""},{"$nulls":4},{"$f":"IF(J142=\"\",\"\",VLOOKUP(J142,'Fixture List Individual Files'!$B$14:$D$63,2,FALSE))","v":""},null,{"$f":"IF(J142=\"\",\"\",VLOOKUP(J142,'Fixture List Individual Files'!$B$14:$D$63,3,FALSE))","v":""},{"$f":"IF(M142=\"\",\"\",L142*M142)","v":""}]
[null,null,{"$f":"IF(B143=\"\",\"\",VLOOKUP(B143,'Fixture List Individual Files'!$B$14:$D$63,2,FALSE))","v":""},null,{"$f":"IF(B143=\"\",\"\",VLOOKUP(B143,'Fixture List Individual Files'!$B$14:$D$63,3,FALSE))","v":""},"",{"$nulls":4},{"$f":"IF(J143=\"\",\"\",VLOOKUP(J143,'Fixture List Individual Files'!$B$14:$D$63,2,FALSE))","v":""},null,{"$f":"IF(J143=\"\",\"\",VLOOKUP(J143,'Fixture List Individual Files'!$B$14:$D$63,3,FALSE))","v":""},""]
[null,null,{"$f":"IF(B144=\"\",\"\",VLOOKUP(B144,'Fixture List Individual Files'!$B$14:$D$63,2,FALSE))","v":""},null,{"$f":"IF(B144=\"\",\"\",VLOOKUP(B144,'Fixture List Individual Files'!$B$14:$D$63,3,FALSE))","v":""},"",{"$nulls":4},{"$f":"IF(J144=\"\",\"\",VLOOKUP(J144,'Fixture List Individual Files'!$B$14:$D$63,2,FALSE))","v":""},null,{"$f":"IF(J144=\"\",\"\",VLOOKUP(J144,'Fixture List Individual Files'!$B$14:$D$63,3,FALSE))","v":""},""]
[null,null,{"$f":"IF(B145=\"\",\"\",VLOOKUP(B145,'Fixture List Individual Files'!$B$14:$D$63,2,FALSE))","v":""},null,{"$f":"IF(B145=\"\",\"\",VLOOKUP(B145,'Fixture List Individual Files'!$B$14:$D$63,3,FALSE))","v":""},"",{"$nulls":4},{"$f":"IF(J145=\"\",\"\",VLOOKUP(J145,'Fixture List Individual Files'!$B$14:$D$63,2,FALSE))","v":""},null,{"$f":"IF(J145=\"\",\"\",VLOOKUP(J145,'Fixture List Individual Files'!$B$14:$D$63,3,FALSE))","v":""},""]
[null,null,{"$f":"IF(B146=\"\",\"\",VLOOKUP(B146,'Fixture List Individual Files'!$B$14:$D$63,2,FALSE))","v":""},null,{"$f":"IF(B146=\"\",\"\",VLOOKUP(B146,'Fixture List Individual Files'!$B$14:$D$63,3,FALSE))","v":""},"",{"$nulls":4},{"$f":"IF(J146=\"\",\"\",VLOOKUP(J146,'Fixture List Individual Files'!$B$14:$D$63,2,FALSE))","v":""},null,{"$f":"IF(J146=\"\",\"\",VLOOKUP(J146,'Fixture List Individual Files'!$B$14:$D$63,3,FALSE))","v":""},""]
[null,null,{"$f":"IF(B147=\"\",\"\",VLOOKUP(B147,'Fixture List Individual Files'!$B$14:$D$63,2,FALSE))","v":""},null,{"$f":"IF(B147=\"\",\"\",VLOOKUP(B147,'Fixture List Individual Files'!$B$14:$D$63,3,FALSE))","v":""},"",{"$nulls":4},{"$f":"IF(J147=\"\",\"\",VLOOKUP(J147,'Fixture List Individual Files'!$B$14:$D$63,2,FALSE))","v":""},null,{"$f":"IF(J147=\"\",\"\",VLOOKUP(J147,'Fixture List Individual Files'!$B$14:$D$63,3,FALSE))","v":""},""]
[null,null,{"$f":"IF(B148=\"\",\"\",VLOOKUP(B148,'Fixture List Individual Files'!$B$14:$D$63,2,FALSE))","v":""},null,{"$f":"IF(B148=\"\",\"\",VLOOKUP(B148,'Fixture List Individual Files'!$B$14:$D$63,3,FALSE))","v":""},"",{"$nulls":4},{"$f":"IF(J148=\"\",\"\",VLOOKUP(J148,'Fixture List Individual Files'!$B$14:$D$63,2,FALSE))","v":""},null,{"$f":"IF(J148=\"\",\"\",VLOOKUP(J148,'Fixture List Individual Files'!$B$14:$D$63,3,FALSE))","v":""},""]
[null,null,{"$f":"IF(B149=\"\",\"\",VLOOKUP(B149,'Fixture List Individual Files'!$B$14:$D$63,2,FALSE))","v":""},null,{"$f":"IF(B149=\"\",\"\",VLOOKUP(B149,'Fixture List Individual Files'!$B$14:$D$63,3,FALSE))","v":""},"",{"$nulls":4},{"$f":"IF(J149=\"\",\"\",VLOOKUP(J149,'Fixture List Individual Files'!$B$14:$D$63,2,FALSE))","v":""},null,{"$f":"IF(J149=\"\",\"\",VLOOKUP(J149,'Fixture List Individual Files'!$B$14:$D$63,3,FALSE))","v":""},""]
[null,null,{"$f":"IF(B150=\"\",\"\",VLOOKUP(B150,'Fixture List Individual Files'!$B$14:$D$63,2,FALSE))","v":""},null,{"$f":"IF(B150=\"\",\"\",VLOOKUP(B150,'Fixture List Individual Files'!$B$14:$D$63,3,FALSE))","v":""},"",{"$nulls":4},{"$f":"IF(J150=\"\",\"\",VLOOKUP(J150,'Fixture List Individual Files'!$B$14:$D$63,2,FALSE))","v":""},null,{"$f":"IF(J150=\"\",\"\",VLOOKUP(J150,'Fixture List Individual Files'!$B$14:$D$63,3,FALSE))","v":""},""]
[null,null,{"$f":"IF(B151=\"\",\"\",VLOOKUP(B151,'Fixture List Individual Files'!$B$14:$D$63,2,FALSE))","v":""},null,{"$f":"IF(B151=\"\",\"\",VLOOKUP(B151,'Fixture List Individual Files'!$B$14:$D$63,3,FALSE))","v":""},"",{"$nulls":4},{"$f":"IF(J151=\"\",\"\",VLOOKUP(J151,'Fixture List Individual Files'!$B$14:$D$63,2,FALSE))","v":""},null,{"$f":"IF(J151=\"\",\"\",VLOOKUP(J151,'Fixture List Individual Files'!$B$14:$D$63,3,FALSE))","v":""},""]
[null,null,{"$f":"IF(B152=\"\",\"\",VLOOKUP(B152,'Fixture List Individual Files'!$B$14:$D$63,2,FALSE))","v":""},null,{"$f":"IF(B152=\"\",\"\",VLOOKUP(B152,'Fixture List Individual Files'!$B$14:$D$63,3,FALSE))","v":""},"",{"$nulls":4},{"$f":"IF(J152=\"\",\"\",VLOOKUP(J152,'Fixture List Individual Files'!$B$14:$D$63,2,FALSE))","v":""},null,{"$f":"IF(J152=\"\",\"\",VLOOKUP(J152,'Fixture List Individual Files'!$B$14:$D$63,3,FALSE))","v":""},""]
[null,null,{"$f":"IF(B153=\"\",\"\",VLOOKUP(B153,'Fixture List Individual Files'!$B$14:$D$63,2,FALSE))","v":""},null,{"$f":"IF(B153=\"\",\"\",VLOOKUP(B153,'Fixture List Individual Files'!$B$14:$D$63,3,FALSE))","v":""},"",{"$nulls":4},{"$f":"IF(J153=\"\",\"\",VLOOKUP(J153,'Fixture List Individual Files'!$B$14:$D$63,2,FALSE))","v":""},null,{"$f":"IF(J153=\"\",\"\",VLOOKUP(J153,'Fixture List Individual Files'!$B$14:$D$63,3,FALSE))","v":""},""]
[null,null,{"$f":"IF(B154=\"\",\"\",VLOOKUP(B154,'Fixture List Individual Files'!$B$14:$D$63,2,FALSE))","v":""},null,{"$f":"IF(B154=\"\",\"\",VLOOKUP(B154,'Fixture List Individual Files'!$B$14:$D$63,3,FALSE))","v":""},"",{"$nulls":4},{"$f":"IF(J154=\"\",\"\",VLOOKUP(J154,'Fixture List Individual Files'!$B$14:$D$63,2,FALSE))","v":""},null,{"$f":"IF(J154=\"\",\"\",VLOOKUP(J154,'Fixture List Individual Files'!$B$14:$D$63,3,FALSE))","v":""},""]
[null,null,{"$f":"IF(B155=\"\",\"\",VLOOKUP(B155,'Fixture List Individual Files'!$B$14:$D$63,2,FALSE))","v":""},null,{"$f":"IF(B155=\"\",\"\",VLOOKUP(B155,'Fixture List Individual Files'!$B$14:$D$63,3,FALSE))","v":""},"",{"$nulls":4},{"$f":"IF(J155=\"\",\"\",VLOOKUP(J155,'Fixture List Individual Files'!$B$14:$D$63,2,FALSE))","v":""},null,{"$f":"IF(J155=\"\",\"\",VLOOKUP(J155,'Fixture List Individual Files'!$B$14:$D$63,3,FALSE))","v":""},""]
[null,null,{"$f":"IF(B156=\"\",\"\",VLOOKUP(B156,'Fixture List Individual Files'!$B$14:$D$63,2,FALSE))","v":""},null,{"$f":"IF(B156=\"\",\"\",VLOOKUP(B156,'Fixture List Individual Files'!$B$14:$D$63,3,FALSE))","v":""},"",{"$nulls":4},{"$f":"IF(J156=\"\",\"\",VLOOKUP(J156,'Fixture List Individual Files'!$B$14:$D$63,2,FALSE))","v":""},null,{"$f":"IF(J156=\"\",\"\",VLOOKUP(J156,'Fixture List Individual Files'!$B$14:$D$63,3,FALSE))","v":""},""]
[null,null,{"$f":"IF(B157=\"\",\"\",VLOOKUP(B157,'Fixture List Individual Files'!$B$14:$D$63,2,FALSE))","v":""},null,{"$f":"IF(B157=\"\",\"\",VLOOKUP(B157,'Fixture List Individual Files'!$B$14:$D$63,3,FALSE))","v":""},"",{"$nulls":4},{"$f":"IF(J157=\"\",\"\",VLOOKUP(J157,'Fixture List Individual Files'!$B$14:$D$63,2,FALSE))","v":""},null,{"$f":"IF(J157=\"\",\"\",VLOOKUP(J157,'Fixture List Individual Files'!$B$14:$D$63,3,FALSE))","v":""},""]
[null,null,{"$f":"IF(B158=\"\",\"\",VLOOKUP(B158,'Fixture List Individual Files'!$B$14:$D$63,2,FALSE))","v":""},null,{"$f":"IF(B158=\"\",\"\",VLOOKUP(B158,'Fixture List Individual Files'!$B$14:$D$63,3,FALSE))","v":""},"",{"$nulls":4},{"$f":"IF(J158=\"\",\"\",VLOOKUP(J158,'Fixture List Individual Files'!$B$14:$D$63,2,FALSE))","v":""},null,{"$f":"IF(J158=\"\",\"\",VLOOKUP(J158,'Fixture List Individual Files'!$B$14:$D$63,3,FALSE))","v":""},""]
[null,null,{"$f":"IF(B159=\"\",\"\",VLOOKUP(B159,'Fixture List Individual Files'!$B$14:$D$63,2,FALSE))","v":""},null,{"$f":"IF(B159=\"\",\"\",VLOOKUP(B159,'Fixture List Individual Files'!$B$14:$D$63,3,FALSE))","v":""},"",{"$nulls":4},{"$f":"IF(J159=\"\",\"\",VLOOKUP(J159,'Fixture List Individual Files'!$B$14:$D$63,2,FALSE))","v":""},null,{"$f":"IF(J159=\"\",\"\",VLOOKUP(J159,'Fixture List Individual Files'!$B$14:$D$63,3,FALSE))","v":""},""]
[null,null,{"$f":"IF(B160=\"\",\"\",VLOOKUP(B160,'Fixture List Individual Files'!$B$14:$D$63,2,FALSE))","v":""},null,{"$f":"IF(B160=\"\",\"\",VLOOKUP(B160,'Fixture List Individual Files'!$B$14:$D$63,3,FALSE))","v":""},"",{"$nulls":4},{"$f":"IF(J160=\"\",\"\",VLOOKUP(J160,'Fixture List Individual Files'!$B$14:$D$63,2,FALSE))","v":""},null,{"$f":"IF(J160=\"\",\"\",VLOOKUP(J160,'Fixture List Individual Files'!$B$14:$D$63,3,FALSE))","v":""},""]
[null,null,{"$f":"IF(B161=\"\",\"\",VLOOKUP(B161,'Fixture List Individual Files'!$B$14:$D$63,2,FALSE))","v":""},null,{"$f":"IF(B161=\"\",\"\",VLOOKUP(B161,'Fixture List Individual Files'!$B$14:$D$63,3,FALSE))","v":""},"",{"$nulls":4},{"$f":"IF(J161=\"\",\"\",VLOOKUP(J161,'Fixture List Individual Files'!$B$14:$D$63,2,FALSE))","v":""},null,{"$f":"IF(J161=\"\",\"\",VLOOKUP(J161,'Fixture List Individual Files'!$B$14:$D$63,3,FALSE))","v":""},""]
[null,null,{"$f":"IF(B162=\"\",\"\",VLOOKUP(B162,'Fixture List Individual Files'!$B$14:$D$63,2,FALSE))","v":""},null,{"$f":"IF(B162=\"\",\"\",VLOOKUP(B162,'Fixture List Individual Files'!$B$14:$D$63,3,FALSE))","v":""},"",{"$nulls":4},{"$f":"IF(J162=\"\",\"\",VLOOKUP(J162,'Fixture List Individual Files'!$B$14:$D$63,2,FALSE))","v":""},null,{"$f":"IF(J162=\"\",\"\",VLOOKUP(J162,'Fixture List Individual Files'!$B$14:$D$63,3,FALSE))","v":""},""]
[null,null,{"$f":"IF(B163=\"\",\"\",VLOOKUP(B163,'Fixture List Individual Files'!$B$14:$D$63,2,FALSE))","v":""},null,{"$f":"IF(B163=\"\",\"\",VLOOKUP(B163,'Fixture List Individual Files'!$B$14:$D$63,3,FALSE))","v":""},"",{"$nulls":4},{"$f":"IF(J163=\"\",\"\",VLOOKUP(J163,'Fixture List Individual Files'!$B$14:$D$63,2,FALSE))","v":""},null,{"$f":"IF(J163=\"\",\"\",VLOOKUP(J163,'Fixture List Individual Files'!$B$14:$D$63,3,FALSE))","v":""},""]
[null,null,{"$f":"IF(B164=\"\",\"\",VLOOKUP(B164,'Fixture List Individual Files'!$B$14:$D$63,2,FALSE))","v":""},null,{"$f":"IF(B164=\"\",\"\",VLOOKUP(B164,'Fixture List Individual Files'!$B$14:$D$63,3,FALSE))","v":""},"",{"$nulls":4},{"$f":"IF(J164=\"\",\"\",VLOOKUP(J164,'Fixture List Individual Files'!$B$14:$D$63,2,FALSE))","v":""},null,{"$f":"IF(J164=\"\",\"\",VLOOKUP(J164,'Fixture List Individual Files'!$B$14:$D$63,3,FALSE))","v":""},""]
[null,null,{"$f":"IF(B165=\"\",\"\",VLOOKUP(B165,'Fixture List Individual Files'!$B$14:$D$63,2,FALSE))","v":""},null,{"$f":"IF(B165=\"\",\"\",VLOOKUP(B165,'Fixture List Individual Files'!$B$14:$D$63,3,FALSE))","v":""},"",{"$nulls":4},{"$f":"IF(J165=\"\",\"\",VLOOKUP(J165,'Fixture List Individual Files'!$B$14:$D$63,2,FALSE))","v":""},null,{"$f":"IF(J165=\"\",\"\",VLOOKUP(J165,'Fixture List Individual Files'!$B$14:$D$63,3,FALSE))","v":""},""]
[null,null,{"$f":"IF(B166=\"\",\"\",VLOOKUP(B166,'Fixture List Individual Files'!$B$14:$D$63,2,FALSE))","v":""},null,{"$f":"IF(B166=\"\",\"\",VLOOKUP(B166,'Fixture List Individual Files'!$B$14:$D$63,3,FALSE))","v":""},"",{"$nulls":4},{"$f":"IF(J166=\"\",\"\",VLOOKUP(J166,'Fixture List Individual Files'!$B$14:$D$63,2,FALSE))","v":""},null,{"$f":"IF(J166=\"\",\"\",VLOOKUP(J166,'Fixture List Individual Files'!$B$14:$D$63,3,FALSE))","v":""},""]
[null,null,{"$f":"IF(B167=\"\",\"\",VLOOKUP(B167,'Fixture List Individual Files'!$B$14:$D$63,2,FALSE))","v":""},null,{"$f":"IF(B167=\"\",\"\",VLOOKUP(B167,'Fixture List Individual Files'!$B$14:$D$63,3,FALSE))","v":""},"",{"$nulls":4},{"$f":"IF(J167=\"\",\"\",VLOOKUP(J167,'Fixture List Individual Files'!$B$14:$D$63,2,FALSE))","v":""},null,{"$f":"IF(J167=\"\",\"\",VLOOKUP(J167,'Fixture List Individual Files'!$B$14:$D$63,3,FALSE))","v":""},""]
[null,null,{"$f":"IF(B168=\"\",\"\",VLOOKUP(B168,'Fixture List Individual Files'!$B$14:$D$63,2,FALSE))","v":""},null,{"$f":"IF(B168=\"\",\"\",VLOOKUP(B168,'Fixture List Individual Files'!$B$14:$D$63,3,FALSE))","v":""},"",{"$nulls":4},{"$f":"IF(J168=\"\",\"\",VLOOKUP(J168,'Fixture List Individual Files'!$B$14:$D$63,2,FALSE))","v":""},null,{"$f":"IF(J168=\"\",\"\",VLOOKUP(J168,'Fixture List Individual Files'!$B$14:$D$63,3,FALSE))","v":""},""]
[null,null,{"$f":"IF(B169=\"\",\"\",VLOOKUP(B169,'Fixture List Individual Files'!$B$14:$D$63,2,FALSE))","v":""},null,{"$f":"IF(B169=\"\",\"\",VLOOKUP(B169,'Fixture List Individual Files'!$B$14:$D$63,3,FALSE))","v":""},"",{"$nulls":4},{"$f":"IF(J169=\"\",\"\",VLOOKUP(J169,'Fixture List Individual Files'!$B$14:$D$63,2,FALSE))","v":""},null,{"$f":"IF(J169=\"\",\"\",VLOOKUP(J169,'Fixture List Individual Files'!$B$14:$D$63,3,FALSE))","v":""},""]
[null,null,{"$f":"IF(B170=\"\",\"\",VLOOKUP(B170,'Fixture List Individual Files'!$B$14:$D$63,2,FALSE))","v":""},null,{"$f":"IF(B170=\"\",\"\",VLOOKUP(B170,'Fixture List Individual Files'!$B$14:$D$63,3,FALSE))","v":""},"",{"$nulls":4},{"$f":"IF(J170=\"\",\"\",VLOOKUP(J170,'Fixture List Individual Files'!$B$14:$D$63,2,FALSE))","v":""},null,{"$f":"IF(J170=\"\",\"\",VLOOKUP(J170,'Fixture List Individual Files'!$B$14:$D$63,3,FALSE))","v":""},""]
[null,null,{"$f":"IF(B171=\"\",\"\",VLOOKUP(B171,'Fixture List Individual Files'!$B$14:$D$63,2,FALSE))","v":""},null,{"$f":"IF(B171=\"\",\"\",VLOOKUP(B171,'Fixture List Individual Files'!$B$14:$D$63,3,FALSE))","v":""},"",{"$nulls":4},{"$f":"IF(J171=\"\",\"\",VLOOKUP(J171,'Fixture List Individual Files'!$B$14:$D$63,2,FALSE))","v":""},null,{"$f":"IF(J171=\"\",\"\",VLOOKUP(J171,'Fixture List Individual Files'!$B$14:$D$63,3,FALSE))","v":""},""]
[null,null,{"$f":"IF(B172=\"\",\"\",VLOOKUP(B172,'Fixture List Individual Files'!$B$14:$D$63,2,FALSE))","v":""},null,{"$f":"IF(B172=\"\",\"\",VLOOKUP(B172,'Fixture List Individual Files'!$B$14:$D$63,3,FALSE))","v":""},"",{"$nulls":4},{"$f":"IF(J172=\"\",\"\",VLOOKUP(J172,'Fixture List Individual Files'!$B$14:$D$63,2,FALSE))","v":""},null,{"$f":"IF(J172=\"\",\"\",VLOOKUP(J172,'Fixture List Individual Files'!$B$14:$D$63,3,FALSE))","v":""},""]
[null,null,{"$f":"IF(B173=\"\",\"\",VLOOKUP(B173,'Fixture List Individual Files'!$B$14:$D$63,2,FALSE))","v":""},null,{"$f":"IF(B173=\"\",\"\",VLOOKUP(B173,'Fixture List Individual Files'!$B$14:$D$63,3,FALSE))","v":""},"",{"$nulls":4},{"$f":"IF(J173=\"\",\"\",VLOOKUP(J173,'Fixture List Individual Files'!$B$14:$D$63,2,FALSE))","v":""},null,{"$f":"IF(J173=\"\",\"\",VLOOKUP(J173,'Fixture List Individual Files'!$B$14:$D$63,3,FALSE))","v":""},""]
[null,null,{"$f":"IF(B174=\"\",\"\",VLOOKUP(B174,'Fixture List Individual Files'!$B$14:$D$63,2,FALSE))","v":""},null,{"$f":"IF(B174=\"\",\"\",VLOOKUP(B174,'Fixture List Individual Files'!$B$14:$D$63,3,FALSE))","v":""},"",{"$nulls":4},{"$f":"IF(J174=\"\",\"\",VLOOKUP(J174,'Fixture List Individual Files'!$B$14:$D$63,2,FALSE))","v":""},null,{"$f":"IF(J174=\"\",\"\",VLOOKUP(J174,'Fixture List Individual Files'!$B$14:$D$63,3,FALSE))","v":""},""]
[null,null,{"$f":"IF(B175=\"\",\"\",VLOOKUP(B175,'Fixture List Individual Files'!$B$14:$D$63,2,FALSE))","v":""},null,{"$f":"IF(B175=\"\",\"\",VLOOKUP(B175,'Fixture List Individual Files'!$B$14:$D$63,3,FALSE))","v":""},"",{"$nulls":4},{"$f":"IF(J175=\"\",\"\",VLOOKUP(J175,'Fixture List Individual Files'!$B$14:$D$63,2,FALSE))","v":""},null,{"$f":"IF(J175=\"\",\"\",VLOOKUP(J175,'Fixture List Individual Files'!$B$14:$D$63,3,FALSE))","v":""},""]
[null,null,{"$f":"IF(B176=\"\",\"\",VLOOKUP(B176,'Fixture List Individual Files'!$B$14:$D$63,2,FALSE))","v":""},null,{"$f":"IF(B176=\"\",\"\",VLOOKUP(B176,'Fixture List Individual Files'!$B$14:$D$63,3,FALSE))","v":""},"",{"$nulls":4},{"$f":"IF(J176=\"\",\"\",VLOOKUP(J176,'Fixture List Individual Files'!$B$14:$D$63,2,FALSE))","v":""},null,{"$f":"IF(J176=\"\",\"\",VLOOKUP(J176,'Fixture List Individual Files'!$B$14:$D$63,3,FALSE))","v":""},""]
[null,null,"Totals:",{"$f":"SUM(D141:D176)","v":0},null,{"$f":"SUM(F141:F176)","v":0},{"$nulls":4},"Totals:",{"$f":"SUM(L141:L176)","v":0},null,{"$f":"SUM(N141:N176)","v":0}]
[]
[null,"Area 9",{"$nulls":7},"Area 10"]
[null,"Type:","Choose from Drop-down",null,null,{"$f":"IFERROR(VLOOKUP(C180,Admin_Lists!$A$9:$B$41,2,FALSE),\"\")","v":0},"W/sq ft",null,null,"Type:","Choose from Drop-down",null,null,{"$f":"IFERROR(VLOOKUP(K180,Admin_Lists!$A$9:$B$41,2,FALSE),\"\")","v":0},"W/sq ft"]
[null,null,{"$f":"\"Area Description: \"&'Sq. Ft. Area Individual Files'!D17","v":"Area Description: "},{"$nulls":7},{"$f":"\"Area Description: \"&'Sq. Ft. Area Individual Files'!D18","v":"Area Description: "}]
[null,"Fixture Mark","Fixture\nName","Fixture\nCount","Fixture Watts","Total Watts \n(Fixt Count x Fixt Watts)",{"$nulls":3},"Fixture Mark","Fixture\nName","Fixture\nCount","Fixture Watts","Total Watts \n(Fixt Count x Fixt Watts)"]
[]
[null,null,{"$f":"IF(B184=\"\",\"\",VLOOKUP(B184,'Fixture List Individual Files'!$B$14:$D$63,2,FALSE))","v":""},null,{"$f":"IF(B184=\"\",\"\",VLOOKUP(B184,'Fixture List Individual Files'!$B$14:$D$63,3,FALSE))","v":""},{"$f":"IF(E184=\"\",\"\",D184*E184)","v":""},{"$nulls":4},{"$f":"IF(J184=\"\",\"\",VLOOKUP(J184,'Fixture List Individual Files'!$B$14:$D$63,2,FALSE))","v":""},null,{"$f":"IF(J184=\"\",\"\",VLOOKUP(J184,'Fixture List Individual Files'!$B$14:$D$63,3,FALSE))","v":""},{"$f":"IF(M184=\"\",\"\",L184*M184)","v":""}]
[null,null,{"$f":"IF(B185=\"\",\"\",VLOOKUP(B185,'Fixture List Individual Files'!$B$14:$D$63,2,FALSE))","v":""},null,{"$f":"IF(B185=\"\",\"\",VLOOKUP(B185,'Fixture List Individual Files'!$B$14:$D$63,3,FALSE))","v":""},{"$f":"IF(E185=\"\",\"\",D185*E185)","v":""},{"$nulls":4},{"$f":"IF(J185=\"\",\"\",VLOOKUP(J185,'Fixture List Individual Files'!$B$14:$D$63,2,FALSE))","v":""},null,{"$f":"IF(J185=\"\",\"\",VLOOKUP(J185,'Fixture List Individual Files'!$B$14:$D$63,3,FALSE))","v":""},{"$f":"IF(M185=\"\",\"\",L185*M185)","v":""}]
[null,null,{"$f":"IF(B186=\"\",\"\",VLOOKUP(B186,'Fixture List Individual Files'!$B$14:$D$63,2,FALSE))","v":""},null,{"$f":"IF(B186=\"\",\"\",VLOOKUP(B186,'Fixture List Individual Files'!$B$14:$D$63,3,FALSE))","v":""},"",{"$nulls":4},{"$f":"IF(J186=\"\",\"\",VLOOKUP(J186,'Fixture List Individual Files'!$B$14:$D$63,2,FALSE))","v":""},null,{"$f":"IF(J186=\"\",\"\",VLOOKUP(J186,'Fixture List Individual Files'!$B$14:$D$63,3,FALSE))","v":""},""]
[null,null,{"$f":"IF(B187=\"\",\"\",VLOOKUP(B187,'Fixture List Individual Files'!$B$14:$D$63,2,FALSE))","v":""},null,{"$f":"IF(B187=\"\",\"\",VLOOKUP(B187,'Fixture List Individual Files'!$B$14:$D$63,3,FALSE))","v":""},"",{"$nulls":4},{"$f":"IF(J187=\"\",\"\",VLOOKUP(J187,'Fixture List Individual Files'!$B$14:$D$63,2,FALSE))","v":""},null,{"$f":"IF(J187=\"\",\"\",VLOOKUP(J187,'Fixture List Individual Files'!$B$14:$D$63,3,FALSE))","v":""},""]
[null,null,{"$f":"IF(B188=\"\",\"\",VLOOKUP(B188,'Fixture List Individual Files'!$B$14:$D$63,2,FALSE))","v":""},null,{"$f":"IF(B188=\"\",\"\",VLOOKUP(B188,'Fixture List Individual Files'!$B$14:$D$63,3,FALSE))","v":""},"",{"$nulls":4},{"$f":"IF(J188=\"\",\"\",VLOOKUP(J188,'Fixture List Individual Files'!$B$14:$D$63,2,FALSE))","v":""},null,{"$f":"IF(J188=\"\",\"\",VLOOKUP(J188,'Fixture List Individual Files'!$B$14:$D$63,3,FALSE))","v":""},""]
[null,null,{"$f":"IF(B189=\"\",\"\",VLOOKUP(B189,'Fixture List Individual Files'!$B$14:$D$63,2,FALSE))","v":""},null,{"$f":"IF(B189=\"\",\"\",VLOOKUP(B189,'Fixture List Individual Files'!$B$14:$D$63,3,FALSE))","v":""},"",{"$nulls":4},{"$f":"IF(J189=\"\",\"\",VLOOKUP(J189,'Fixture List Individual Files'!$B$14:$D$63,2,FALSE))","v":""},null,{"$f":"IF(J189=\"\",\"\",VLOOKUP(J189,'Fixture List Individual Files'!$B$14:$D$63,3,FALSE))","v":""},""]
[null,null,{"$f":"IF(B190=\"\",\"\",VLOOKUP(B190,'Fixture List Individual Files'!$B$14:$D$63,2,FALSE))","v":""},null,{"$f":"IF(B190=\"\",\"\",VLOOKUP(B190,'Fixture List Individual Files'!$B$14:$D$63,3,FALSE))","v":""},"",{"$nulls":4},{"$f":"IF(J190=\"\",\"\",VLOOKUP(J190,'Fixture List Individual Files'!$B$14:$D$63,2,FALSE))","v":""},null,{"$f":"IF(J190=\"\",\"\",VLOOKUP(J190,'Fixture List Individual Files'!$B$14:$D$63,3,FALSE))","v":""},""]
[null,null,{"$f":"IF(B191=\"\",\"\",VLOOKUP(B191,'Fixture List Individual Files'!$B$14:$D$63,2,FALSE))","v":""},null,{"$f":"IF(B191=\"\",\"\",VLOOKUP(B191,'Fixture List Individual Files'!$B$14:$D$63,3,FALSE))","v":""},"",{"$nulls":4},{"$f":"IF(J191=\"\",\"\",VLOOKUP(J191,'Fixture List Individual Files'!$B$14:$D$63,2,FALSE))","v":""},null,{"$f":"IF(J191=\"\",\"\",VLOOKUP(J191,'Fixture List Individual Files'!$B$14:$D$63,3,FALSE))","v":""},""]
[null,null,{"$f":"IF(B192=\"\",\"\",VLOOKUP(B192,'Fixture List Individual Files'!$B$14:$D$63,2,FALSE))","v":""},null,{"$f":"IF(B192=\"\",\"\",VLOOKUP(B192,'Fixture List Individual Files'!$B$14:$D$63,3,FALSE))","v":""},"",{"$nulls":4},{"$f":"IF(J192=\"\",\"\",VLOOKUP(J192,'Fixture List Individual Files'!$B$14:$D$63,2,FALSE))","v":""},null,{"$f":"IF(J192=\"\",\"\",VLOOKUP(J192,'Fixture List Individual Files'!$B$14:$D$63,3,FALSE))","v":""},""]
[null,null,{"$f":"IF(B193=\"\",\"\",VLOOKUP(B193,'Fixture List Individual Files'!$B$14:$D$63,2,FALSE))","v":""},null,{"$f":"IF(B193=\"\",\"\",VLOOKUP(B193,'Fixture List Individual Files'!$B$14:$D$63,3,FALSE))","v":""},"",{"$nulls":4},{"$f":"IF(J193=\"\",\"\",VLOOKUP(J193,'Fixture List Individual Files'!$B$14:$D$63,2,FALSE))","v":""},null,{"$f":"IF(J193=\"\",\"\",VLOOKUP(J193,'Fixture List Individual Files'!$B$14:$D$63,3,FALSE))","v":""},""]
[null,null,{"$f":"IF(B194=\"\",\"\",VLOOKUP(B194,'Fixture List Individual Files'!$B$14:$D$63,2,FALSE))","v":""},null,{"$f":"IF(B194=\"\",\"\",VLOOKUP(B194,'Fixture List Individual Files'!$B$14:$D$63,3,FALSE))","v":""},"",{"$nulls":4},{"$f":"IF(J194=\"\",\"\",VLOOKUP(J194,'Fixture List Individual Files'!$B$14:$D$63,2,FALSE))","v":""},null,{"$f":"IF(J194=\"\",\"\",VLOOKUP(J194,'Fixture List Individual Files'!$B$14:$D$63,3,FALSE))","v":""},""]
[null,null,{"$f":"IF(B195=\"\",\"\",VLOOKUP(B195,'Fixture List Individual Files'!$B$14:$D$63,2,FALSE))","v":""},null,{"$f":"IF(B195=\"\",\"\",VLOOKUP(B195,'Fixture List Individual Files'!$B$14:$D$63,3,FALSE))","v":""},"",{"$nulls":4},{"$f":"IF(J195=\"\",\"\",VLOOKUP(J195,'Fixture List Individual Files'!$B$14:$D$63,2,FALSE))","v":""},null,{"$f":"IF(J195=\"\",\"\",VLOOKUP(J195,'Fixture List Individual Files'!$B$14:$D$63,3,FALSE))","v":""},""]
[null,null,{"$f":"IF(B196=\"\",\"\",VLOOKUP(B196,'Fixture List Individual Files'!$B$14:$D$63,2,FALSE))","v":""},null,{"$f":"IF(B196=\"\",\"\",VLOOKUP(B196,'Fixture List Individual Files'!$B$14:$D$63,3,FALSE))","v":""},"",{"$nulls":4},{"$f":"IF(J196=\"\",\"\",VLOOKUP(J196,'Fixture List Individual Files'!$B$14:$D$63,2,FALSE))","v":""},null,{"$f":"IF(J196=\"\",\"\",VLOOKUP(J196,'Fixture List Individual Files'!$B$14:$D$63,3,FALSE))","v":""},""]
[null,null,{"$f":"IF(B197=\"\",\"\",VLOOKUP(B197,'Fixture List Individual Files'!$B$14:$D$63,2,FALSE))","v":""},null,{"$f":"IF(B197=\"\",\"\",VLOOKUP(B197,'Fixture List Individual Files'!$B$14:$D$63,3,FALSE))","v":""},"",{"$nulls":4},{"$f":"IF(J197=\"\",\"\",VLOOKUP(J197,'Fixture List Individual Files'!$B$14:$D$63,2,FALSE))","v":""},null,{"$f":"IF(J197=\"\",\"\",VLOOKUP(J197,'Fixture List Individual Files'!$B$14:$D$63,3,FALSE))","v":""},""]
[null,null,{"$f":"IF(B198=\"\",\"\",VLOOKUP(B198,'Fixture List Individual Files'!$B$14:$D$63,2,FALSE))","v":""},null,{"$f":"IF(B198=\"\",\"\",VLOOKUP(B198,'Fixture List Individual Files'!$B$14:$D$63,3,FALSE))","v":""},"",{"$nulls":4},{"$f":"IF(J198=\"\",\"\",VLOOKUP(J198,'Fixture List Individual Files'!$B$14:$D$63,2,FALSE))","v":""},null,{"$f":"IF(J198=\"\",\"\",VLOOKUP(J198,'Fixture List Individual Files'!$B$14:$D$63,3,FALSE))","v":""},""]
[null,null,{"$f":"IF(B199=\"\",\"\",VLOOKUP(B199,'Fixture List Individual Files'!$B$14:$D$63,2,FALSE))","v":""},null,{"$f":"IF(B199=\"\",\"\",VLOOKUP(B199,'Fixture List Individual Files'!$B$14:$D$63,3,FALSE))","v":""},"",{"$nulls":4},{"$f":"IF(J199=\"\",\"\",VLOOKUP(J199,'Fixture List Individual Files'!$B$14:$D$63,2,FALSE))","v":""},null,{"$f":"IF(J199=\"\",\"\",VLOOKUP(J199,'Fixture List Individual Files'!$B$14:$D$63,3,FALSE))","v":""},""]
[null,null,{"$f":"IF(B200=\"\",\"\",VLOOKUP(B200,'Fixture List Individual Files'!$B$14:$D$63,2,FALSE))","v":""},null,{"$f":"IF(B200=\"\",\"\",VLOOKUP(B200,'Fixture List Individual Files'!$B$14:$D$63,3,FALSE))","v":""},"",{"$nulls":4},{"$f":"IF(J200=\"\",\"\",VLOOKUP(J200,'Fixture List Individual Files'!$B$14:$D$63,2,FALSE))","v":""},null,{"$f":"IF(J200=\"\",\"\",VLOOKUP(J200,'Fixture List Individual Files'!$B$14:$D$63,3,FALSE))","v":""},""]
[null,null,{"$f":"IF(B201=\"\",\"\",VLOOKUP(B201,'Fixture List Individual Files'!$B$14:$D$63,2,FALSE))","v":""},null,{"$f":"IF(B201=\"\",\"\",VLOOKUP(B201,'Fixture List Individual Files'!$B$14:$D$63,3,FALSE))","v":""},"",{"$nulls":4},{"$f":"IF(J201=\"\",\"\",VLOOKUP(J201,'Fixture List Individual Files'!$B$14:$D$63,2,FALSE))","v":""},null,{"$f":"IF(J201=\"\",\"\",VLOOKUP(J201,'Fixture List Individual Files'!$B$14:$D$63,3,FALSE))","v":""},""]
[null,null,{"$f":"IF(B202=\"\",\"\",VLOOKUP(B202,'Fixture List Individual Files'!$B$14:$D$63,2,FALSE))","v":""},null,{"$f":"IF(B202=\"\",\"\",VLOOKUP(B202,'Fixture List Individual Files'!$B$14:$D$63,3,FALSE))","v":""},"",{"$nulls":4},{"$f":"IF(J202=\"\",\"\",VLOOKUP(J202,'Fixture List Individual Files'!$B$14:$D$63,2,FALSE))","v":""},null,{"$f":"IF(J202=\"\",\"\",VLOOKUP(J202,'Fixture List Individual Files'!$B$14:$D$63,3,FALSE))","v":""},""]
[null,null,{"$f":"IF(B203=\"\",\"\",VLOOKUP(B203,'Fixture List Individual Files'!$B$14:$D$63,2,FALSE))","v":""},null,{"$f":"IF(B203=\"\",\"\",VLOOKUP(B203,'Fixture List Individual Files'!$B$14:$D$63,3,FALSE))","v":""},"",{"$nulls":4},{"$f":"IF(J203=\"\",\"\",VLOOKUP(J203,'Fixture List Individual Files'!$B$14:$D$63,2,FALSE))","v":""},null,{"$f":"IF(J203=\"\",\"\",VLOOKUP(J203,'Fixture List Individual Files'!$B$14:$D$63,3,FALSE))","v":""},""]
[null,null,{"$f":"IF(B204=\"\",\"\",VLOOKUP(B204,'Fixture List Individual Files'!$B$14:$D$63,2,FALSE))","v":""},null,{"$f":"IF(B204=\"\",\"\",VLOOKUP(B204,'Fixture List Individual Files'!$B$14:$D$63,3,FALSE))","v":""},"",{"$nulls":4},{"$f":"IF(J204=\"\",\"\",VLOOKUP(J204,'Fixture List Individual Files'!$B$14:$D$63,2,FALSE))","v":""},null,{"$f":"IF(J204=\"\",\"\",VLOOKUP(J204,'Fixture List Individual Files'!$B$14:$D$63,3,FALSE))","v":""},""]
[null,null,{"$f":"IF(B205=\"\",\"\",VLOOKUP(B205,'Fixture List Individual Files'!$B$14:$D$63,2,FALSE))","v":""},null,{"$f":"IF(B205=\"\",\"\",VLOOKUP(B205,'Fixture List Individual Files'!$B$14:$D$63,3,FALSE))","v":""},"",{"$nulls":4},{"$f":"IF(J205=\"\",\"\",VLOOKUP(J205,'Fixture List Individual Files'!$B$14:$D$63,2,FALSE))","v":""},null,{"$f":"IF(J205=\"\",\"\",VLOOKUP(J205,'Fixture List Individual Files'!$B$14:$D$63,3,FALSE))","v":""},""]
[null,null,{"$f":"IF(B206=\"\",\"\",VLOOKUP(B206,'Fixture List Individual Files'!$B$14:$D$63,2,FALSE))","v":""},null,{"$f":"IF(B206=\"\",\"\",VLOOKUP(B206,'Fixture List Individual Files'!$B$14:$D$63,3,FALSE))","v":""},"",{"$nulls":4},{"$f":"IF(J206=\"\",\"\",VLOOKUP(J206,'Fixture List Individual Files'!$B$14:$D$63,2,FALSE))","v":""},null,{"$f":"IF(J206=\"\",\"\",VLOOKUP(J206,'Fixture List Individual Files'!$B$14:$D$63,3,FALSE))","v":""},""]
[null,null,{"$f":"IF(B207=\"\",\"\",VLOOKUP(B207,'Fixture List Individual Files'!$B$14:$D$63,2,FALSE))","v":""},null,{"$f":"IF(B207=\"\",\"\",VLOOKUP(B207,'Fixture List Individual Files'!$B$14:$D$63,3,FALSE))","v":""},"",{"$nulls":4},{"$f":"IF(J207=\"\",\"\",VLOOKUP(J207,'Fixture List Individual Files'!$B$14:$D$63,2,FALSE))","v":""},null,{"$f":"IF(J207=\"\",\"\",VLOOKUP(J207,'Fixture List Individual Files'!$B$14:$D$63,3,FALSE))","v":""},""]
[null,null,{"$f":"IF(B208=\"\",\"\",VLOOKUP(B208,'Fixture List Individual Files'!$B$14:$D$63,2,FALSE))","v":""},null,{"$f":"IF(B208=\"\",\"\",VLOOKUP(B208,'Fixture List Individual Files'!$B$14:$D$63,3,FALSE))","v":""},"",{"$nulls":4},{"$f":"IF(J208=\"\",\"\",VLOOKUP(J208,'Fixture List Individual Files'!$B$14:$D$63,2,FALSE))","v":""},null,{"$f":"IF(J208=\"\",\"\",VLOOKUP(J208,'Fixture List Individual Files'!$B$14:$D$63,3,FALSE))","v":""},""]
[null,null,{"$f":"IF(B209=\"\",\"\",VLOOKUP(B209,'Fixture List Individual Files'!$B$14:$D$63,2,FALSE))","v":""},null,{"$f":"IF(B209=\"\",\"\",VLOOKUP(B209,'Fixture List Individual Files'!$B$14:$D$63,3,FALSE))","v":""},"",{"$nulls":4},{"$f":"IF(J209=\"\",\"\",VLOOKUP(J209,'Fixture List Individual Files'!$B$14:$D$63,2,FALSE))","v":""},null,{"$f":"IF(J209=\"\",\"\",VLOOKUP(J209,'Fixture List Individual Files'!$B$14:$D$63,3,FALSE))","v":""},""]
[null,null,{"$f":"IF(B210=\"\",\"\",VLOOKUP(B210,'Fixture List Individual Files'!$B$14:$D$63,2,FALSE))","v":""},null,{"$f":"IF(B210=\"\",\"\",VLOOKUP(B210,'Fixture List Individual Files'!$B$14:$D$63,3,FALSE))","v":""},"",{"$nulls":4},{"$f":"IF(J210=\"\",\"\",VLOOKUP(J210,'Fixture List Individual Files'!$B$14:$D$63,2,FALSE))","v":""},null,{"$f":"IF(J210=\"\",\"\",VLOOKUP(J210,'Fixture List Individual Files'!$B$14:$D$63,3,FALSE))","v":""},""]
[null,null,{"$f":"IF(B211=\"\",\"\",VLOOKUP(B211,'Fixture List Individual Files'!$B$14:$D$63,2,FALSE))","v":""},null,{"$f":"IF(B211=\"\",\"\",VLOOKUP(B211,'Fixture List Individual Files'!$B$14:$D$63,3,FALSE))","v":""},"",{"$nulls":4},{"$f":"IF(J211=\"\",\"\",VLOOKUP(J211,'Fixture List Individual Files'!$B$14:$D$63,2,FALSE))","v":""},null,{"$f":"IF(J211=\"\",\"\",VLOOKUP(J211,'Fixture List Individual Files'!$B$14:$D$63,3,FALSE))","v":""},""]
[null,null,{"$f":"IF(B212=\"\",\"\",VLOOKUP(B212,'Fixture List Individual Files'!$B$14:$D$63,2,FALSE))","v":""},null,{"$f":"IF(B212=\"\",\"\",VLOOKUP(B212,'Fixture List Individual Files'!$B$14:$D$63,3,FALSE))","v":""},"",{"$nulls":4},{"$f":"IF(J212=\"\",\"\",VLOOKUP(J212,'Fixture List Individual Files'!$B$14:$D$63,2,FALSE))","v":""},null,{"$f":"IF(J212=\"\",\"\",VLOOKUP(J212,'Fixture List Individual Files'!$B$14:$D$63,3,FALSE))","v":""},""]
[null,null,{"$f":"IF(B213=\"\",\"\",VLOOKUP(B213,'Fixture List Individual Files'!$B$14:$D$63,2,FALSE))","v":""},null,{"$f":"IF(B213=\"\",\"\",VLOOKUP(B213,'Fixture List Individual Files'!$B$14:$D$63,3,FALSE))","v":""},"",{"$nulls":4},{"$f":"IF(J213=\"\",\"\",VLOOKUP(J213,'Fixture List Individual Files'!$B$14:$D$63,2,FALSE))","v":""},null,{"$f":"IF(J213=\"\",\"\",VLOOKUP(J213,'Fixture List Individual Files'!$B$14:$D$63,3,FALSE))","v":""},""]
[null,null,{"$f":"IF(B214=\"\",\"\",VLOOKUP(B214,'Fixture List Individual Files'!$B$14:$D$63,2,FALSE))","v":""},null,{"$f":"IF(B214=\"\",\"\",VLOOKUP(B214,'Fixture List Individual Files'!$B$14:$D$63,3,FALSE))","v":""},"",{"$nulls":4},{"$f":"IF(J214=\"\",\"\",VLOOKUP(J214,'Fixture List Individual Files'!$B$14:$D$63,2,FALSE))","v":""},null,{"$f":"IF(J214=\"\",\"\",VLOOKUP(J214,'Fixture List Individual Files'!$B$14:$D$63,3,FALSE))","v":""},""]
[null,null,{"$f":"IF(B215=\"\",\"\",VLOOKUP(B215,'Fixture List Individual Files'!$B$14:$D$63,2,FALSE))","v":""},null,{"$f":"IF(B215=\"\",\"\",VLOOKUP(B215,'Fixture List Individual Files'!$B$14:$D$63,3,FALSE))","v":""},"",{"$nulls":4},{"$f":"IF(J215=\"\",\"\",VLOOKUP(J215,'Fixture List Individual Files'!$B$14:$D$63,2,FALSE))","v":""},null,{"$f":"IF(J215=\"\",\"\",VLOOKUP(J215,'Fixture List Individual Files'!$B$14:$D$63,3,FALSE))","v":""},""]
[null,null,{"$f":"IF(B216=\"\",\"\",VLOOKUP(B216,'Fixture List Individual Files'!$B$14:$D$63,2,FALSE))","v":""},null,{"$f":"IF(B216=\"\",\"\",VLOOKUP(B216,'Fixture List Individual Files'!$B$14:$D$63,3,FALSE))","v":""},"",{"$nulls":4},{"$f":"IF(J216=\"\",\"\",VLOOKUP(J216,'Fixture List Individual Files'!$B$14:$D$63,2,FALSE))","v":""},null,{"$f":"IF(J216=\"\",\"\",VLOOKUP(J216,'Fixture List Individual Files'!$B$14:$D$63,3,FALSE))","v":""},""]
[null,null,{"$f":"IF(B217=\"\",\"\",VLOOKUP(B217,'Fixture List Individual Files'!$B$14:$D$63,2,FALSE))","v":""},null,{"$f":"IF(B217=\"\",\"\",VLOOKUP(B217,'Fixture List Individual Files'!$B$14:$D$63,3,FALSE))","v":""},"",{"$nulls":4},{"$f":"IF(J217=\"\",\"\",VLOOKUP(J217,'Fixture List Individual Files'!$B$14:$D$63,2,FALSE))","v":""},null,{"$f":"IF(J217=\"\",\"\",VLOOKUP(J217,'Fixture List Individual Files'!$B$14:$D$63,3,FALSE))","v":""},""]
[null,null,{"$f":"IF(B218=\"\",\"\",VLOOKUP(B218,'Fixture List Individual Files'!$B$14:$D$63,2,FALSE))","v":""},null,{"$f":"IF(B218=\"\",\"\",VLOOKUP(B218,'Fixture List Individual Files'!$B$14:$D$63,3,FALSE))","v":""},"",{"$nulls":4},{"$f":"IF(J218=\"\",\"\",VLOOKUP(J218,'Fixture List Individual Files'!$B$14:$D$63,2,FALSE))","v":""},null,{"$f":"IF(J218=\"\",\"\",VLOOKUP(J218,'Fixture List Individual Files'!$B$14:$D$63,3,FALSE))","v":""},""]
[null,null,{"$f":"IF(B219=\"\",\"\",VLOOKUP(B219,'Fixture List Individual Files'!$B$14:$D$63,2,FALSE))","v":""},null,{"$f":"IF(B219=\"\",\"\",VLOOKUP(B219,'Fixture List Individual Files'!$B$14:$D$63,3,FALSE))","v":""},"",{"$nulls":4},{"$f":"IF(J219=\"\",\"\",VLOOKUP(J219,'Fixture List Individual Files'!$B$14:$D$63,2,FALSE))","v":""},null,{"$f":"IF(J219=\"\",\"\",VLOOKUP(J219,'Fixture List Individual Files'!$B$14:$D$63,3,FALSE))","v":""},""]
[null,null,"Totals:",{"$f":"SUM(D184:D219)","v":0},null,{"$f":"SUM(F184:F219)","v":0},{"$nulls":4},"Totals:",{"$f":"SUM(L184:L219)","v":0},null,{"$f":"SUM(N184:N219)","v":0}]
[]
[null,"Area 11",{"$nulls":7},"Area 12"]
[null,"Type:","Choose from Drop-down",null,null,{"$f":"IFERROR(VLOOKUP(C223,Admin_Lists!$A$9:$B$41,2,FALSE),\"\")","v":0},"W/sq ft",null,null,"Type:","Choose from Drop-down",null,null,{"$f":"IFERROR(VLOOKUP(K223,Admin_Lists!$A$9:$B$41,2,FALSE),\"\")","v":0},"W/sq ft"]
[null,null,{"$f":"\"Area Description: \"&'Sq. Ft. Area Individual Files'!D19","v":"Area Description: "},{"$nulls":7},{"$f":"\"Area Description: \"&'Sq. Ft. Area Individual Files'!D20","v":"Area Description: "}]
[null,"Fixture Mark","Fixture\nName","Fixture\nCount","Fixture Watts","Total Watts \n(Fixt Count x Fixt Watts)",{"$nulls":3},"Fixture Mark","Fixture\nName","Fixture\nCount","Fixture Watts","Total Watts \n(Fixt Count x Fixt Watts)"]
[]
[null,null,{"$f":"IF(B227=\"\",\"\",VLOOKUP(B227,'Fixture List Individual Files'!$B$14:$D$63,2,FALSE))","v":""},null,{"$f":"IF(B227=\"\",\"\",VLOOKUP(B227,'Fixture List Individual Files'!$B$14:$D$63,3,FALSE))","v":""},{"$f":"IF(E227=\"\",\"\",D227*E227)","v":""},{"$nulls":4},{"$f":"IF(J227=\"\",\"\",VLOOKUP(J227,'Fixture List Individual Files'!$B$14:$D$63,2,FALSE))","v":""},null,{"$f":"IF(J227=\"\",\"\",VLOOKUP(J227,'Fixture List Individual Files'!$B$14:$D$63,3,FALSE))","v":""},{"$f":"IF(M227=\"\",\"\",L227*M227)","v":""}]
[null,null,{"$f":"IF(B228=\"\",\"\",VLOOKUP(B228,'Fixture List Individual Files'!$B$14:$D$63,2,FALSE))","v":""},null,{"$f":"IF(B228=\"\",\"\",VLOOKUP(B228,'Fixture List Individual Files'!$B$14:$D$63,3,FALSE))","v":""},{"$f":"IF(E228=\"\",\"\",D228*E228)","v":""},{"$nulls":4},{"$f":"IF(J228=\"\",\"\",VLOOKUP(J228,'Fixture List Individual Files'!$B$14:$D$63,2,FALSE))","v":""},null,{"$f":"IF(J228=\"\",\"\",VLOOKUP(J228,'Fixture List Individual Files'!$B$14:$D$63,3,FALSE))","v":""},{"$f":"IF(M228=\"\",\"\",L228*M228)","v":""}]
[null,null,{"$f":"IF(B229=\"\",\"\",VLOOKUP(B229,'Fixture List Individual Files'!$B$14:$D$63,2,FALSE))","v":""},null,{"$f":"IF(B229=\"\",\"\",VLOOKUP(B229,'Fixture List Individual Files'!$B$14:$D$63,3,FALSE))","v":""},"",{"$nulls":4},{"$f":"IF(J229=\"\",\"\",VLOOKUP(J229,'Fixture List Individual Files'!$B$14:$D$63,2,FALSE))","v":""},null,{"$f":"IF(J229=\"\",\"\",VLOOKUP(J229,'Fixture List Individual Files'!$B$14:$D$63,3,FALSE))","v":""},""]
[null,null,{"$f":"IF(B230=\"\",\"\",VLOOKUP(B230,'Fixture List Individual Files'!$B$14:$D$63,2,FALSE))","v":""},null,{"$f":"IF(B230=\"\",\"\",VLOOKUP(B230,'Fixture List Individual Files'!$B$14:$D$63,3,FALSE))","v":""},"",{"$nulls":4},{"$f":"IF(J230=\"\",\"\",VLOOKUP(J230,'Fixture List Individual Files'!$B$14:$D$63,2,FALSE))","v":""},null,{"$f":"IF(J230=\"\",\"\",VLOOKUP(J230,'Fixture List Individual Files'!$B$14:$D$63,3,FALSE))","v":""},""]
[null,null,{"$f":"IF(B231=\"\",\"\",VLOOKUP(B231,'Fixture List Individual Files'!$B$14:$D$63,2,FALSE))","v":""},null,{"$f":"IF(B231=\"\",\"\",VLOOKUP(B231,'Fixture List Individual Files'!$B$14:$D$63,3,FALSE))","v":""},"",{"$nulls":4},{"$f":"IF(J231=\"\",\"\",VLOOKUP(J231,'Fixture List Individual Files'!$B$14:$D$63,2,FALSE))","v":""},null,{"$f":"IF(J231=\"\",\"\",VLOOKUP(J231,'Fixture List Individual Files'!$B$14:$D$63,3,FALSE))","v":""},""]
[null,null,{"$f":"IF(B232=\"\",\"\",VLOOKUP(B232,'Fixture List Individual Files'!$B$14:$D$63,2,FALSE))","v":""},null,{"$f":"IF(B232=\"\",\"\",VLOOKUP(B232,'Fixture List Individual Files'!$B$14:$D$63,3,FALSE))","v":""},"",{"$nulls":4},{"$f":"IF(J232=\"\",\"\",VLOOKUP(J232,'Fixture List Individual Files'!$B$14:$D$63,2,FALSE))","v":""},null,{"$f":"IF(J232=\"\",\"\",VLOOKUP(J232,'Fixture List Individual Files'!$B$14:$D$63,3,FALSE))","v":""},""]
[null,null,{"$f":"IF(B233=\"\",\"\",VLOOKUP(B233,'Fixture List Individual Files'!$B$14:$D$63,2,FALSE))","v":""},null,{"$f":"IF(B233=\"\",\"\",VLOOKUP(B233,'Fixture List Individual Files'!$B$14:$D$63,3,FALSE))","v":""},"",{"$nulls":4},{"$f":"IF(J233=\"\",\"\",VLOOKUP(J233,'Fixture List Individual Files'!$B$14:$D$63,2,FALSE))","v":""},null,{"$f":"IF(J233=\"\",\"\",VLOOKUP(J233,'Fixture List Individual Files'!$B$14:$D$63,3,FALSE))","v":""},""]
[null,null,{"$f":"IF(B234=\"\",\"\",VLOOKUP(B234,'Fixture List Individual Files'!$B$14:$D$63,2,FALSE))","v":""},null,{"$f":"IF(B234=\"\",\"\",VLOOKUP(B234,'Fixture List Individual Files'!$B$14:$D$63,3,FALSE))","v":""},"",{"$nulls":4},{"$f":"IF(J234=\"\",\"\",VLOOKUP(J234,'Fixture List Individual Files'!$B$14:$D$63,2,FALSE))","v":""},null,{"$f":"IF(J234=\"\",\"\",VLOOKUP(J234,'Fixture List Individual Files'!$B$14:$D$63,3,FALSE))","v":""},""]
[null,null,{"$f":"IF(B235=\"\",\"\",VLOOKUP(B235,'Fixture List Individual Files'!$B$14:$D$63,2,FALSE))","v":""},null,{"$f":"IF(B235=\"\",\"\",VLOOKUP(B235,'Fixture List Individual Files'!$B$14:$D$63,3,FALSE))","v":""},"",{"$nulls":4},{"$f":"IF(J235=\"\",\"\",VLOOKUP(J235,'Fixture List Individual Files'!$B$14:$D$63,2,FALSE))","v":""},null,{"$f":"IF(J235=\"\",\"\",VLOOKUP(J235,'Fixture List Individual Files'!$B$14:$D$63,3,FALSE))","v":""},""]
[null,null,{"$f":"IF(B236=\"\",\"\",VLOOKUP(B236,'Fixture List Individual Files'!$B$14:$D$63,2,FALSE))","v":""},null,{"$f":"IF(B236=\"\",\"\",VLOOKUP(B236,'Fixture List Individual Files'!$B$14:$D$63,3,FALSE))","v":""},"",{"$nulls":4},{"$f":"IF(J236=\"\",\"\",VLOOKUP(J236,'Fixture List Individual Files'!$B$14:$D$63,2,FALSE))","v":""},null,{"$f":"IF(J236=\"\",\"\",VLOOKUP(J236,'Fixture List Individual Files'!$B$14:$D$63,3,FALSE))","v":""},""]
[null,null,{"$f":"IF(B237=\"\",\"\",VLOOKUP(B237,'Fixture List Individual Files'!$B$14:$D$63,2,FALSE))","v":""},null,{"$f":"IF(B237=\"\",\"\",VLOOKUP(B237,'Fixture List Individual Files'!$B$14:$D$63,3,FALSE))","v":""},"",{"$nulls":4},{"$f":"IF(J237=\"\",\"\",VLOOKUP(J237,'Fixture List Individual Files'!$B$14:$D$63,2,FALSE))","v":""},null,{"$f":"IF(J237=\"\",\"\",VLOOKUP(J237,'Fixture List Individual Files'!$B$14:$D$63,3,FALSE))","v":""},""]
[null,null,{"$f":"IF(B238=\"\",\"\",VLOOKUP(B238,'Fixture List Individual Files'!$B$14:$D$63,2,FALSE))","v":""},null,{"$f":"IF(B238=\"\",\"\",VLOOKUP(B238,'Fixture List Individual Files'!$B$14:$D$63,3,FALSE))","v":""},"",{"$nulls":4},{"$f":"IF(J238=\"\",\"\",VLOOKUP(J238,'Fixture List Individual Files'!$B$14:$D$63,2,FALSE))","v":""},null,{"$f":"IF(J238=\"\",\"\",VLOOKUP(J238,'Fixture List Individual Files'!$B$14:$D$63,3,FALSE))","v":""},""]
[null,null,{"$f":"IF(B239=\"\",\"\",VLOOKUP(B239,'Fixture List Individual Files'!$B$14:$D$63,2,FALSE))","v":""},null,{"$f":"IF(B239=\"\",\"\",VLOOKUP(B239,'Fixture List Individual Files'!$B$14:$D$63,3,FALSE))","v":""},"",{"$nulls":4},{"$f":"IF(J239=\"\",\"\",VLOOKUP(J239,'Fixture List Individual Files'!$B$14:$D$63,2,FALSE))","v":""},null,{"$f":"IF(J239=\"\",\"\",VLOOKUP(J239,'Fixture List Individual Files'!$B$14:$D$63,3,FALSE))","v":""},""]
[null,null,{"$f":"IF(B240=\"\",\"\",VLOOKUP(B240,'Fixture List Individual Files'!$B$14:$D$63,2,FALSE))","v":""},null,{"$f":"IF(B240=\"\",\"\",VLOOKUP(B240,'Fixture List Individual Files'!$B$14:$D$63,3,FALSE))","v":""},"",{"$nulls":4},{"$f":"IF(J240=\"\",\"\",VLOOKUP(J240,'Fixture List Individual Files'!$B$14:$D$63,2,FALSE))","v":""},null,{"$f":"IF(J240=\"\",\"\",VLOOKUP(J240,'Fixture List Individual Files'!$B$14:$D$63,3,FALSE))","v":""},""]
[null,null,{"$f":"IF(B241=\"\",\"\",VLOOKUP(B241,'Fixture List Individual Files'!$B$14:$D$63,2,FALSE))","v":""},null,{"$f":"IF(B241=\"\",\"\",VLOOKUP(B241,'Fixture List Individual Files'!$B$14:$D$63,3,FALSE))","v":""},"",{"$nulls":4},{"$f":"IF(J241=\"\",\"\",VLOOKUP(J241,'Fixture List Individual Files'!$B$14:$D$63,2,FALSE))","v":""},null,{"$f":"IF(J241=\"\",\"\",VLOOKUP(J241,'Fixture List Individual Files'!$B$14:$D$63,3,FALSE))","v":""},""]
[null,null,{"$f":"IF(B242=\"\",\"\",VLOOKUP(B242,'Fixture List Individual Files'!$B$14:$D$63,2,FALSE))","v":""},null,{"$f":"IF(B242=\"\",\"\",VLOOKUP(B242,'Fixture List Individual Files'!$B$14:$D$63,3,FALSE))","v":""},"",{"$nulls":4},{"$f":"IF(J242=\"\",\"\",VLOOKUP(J242,'Fixture List Individual Files'!$B$14:$D$63,2,FALSE))","v":""},null,{"$f":"IF(J242=\"\",\"\",VLOOKUP(J242,'Fixture List Individual Files'!$B$14:$D$63,3,FALSE))","v":""},""]
[null,null,{"$f":"IF(B243=\"\",\"\",VLOOKUP(B243,'Fixture List Individual Files'!$B$14:$D$63,2,FALSE))","v":""},null,{"$f":"IF(B243=\"\",\"\",VLOOKUP(B243,'Fixture List Individual Files'!$B$14:$D$63,3,FALSE))","v":""},"",{"$nulls":4},{"$f":"IF(J243=\"\",\"\",VLOOKUP(J243,'Fixture List Individual Files'!$B$14:$D$63,2,FALSE))","v":""},null,{"$f":"IF(J243=\"\",\"\",VLOOKUP(J243,'Fixture List Individual Files'!$B$14:$D$63,3,FALSE))","v":""},""]
[null,null,{"$f":"IF(B244=\"\",\"\",VLOOKUP(B244,'Fixture List Individual Files'!$B$14:$D$63,2,FALSE))","v":""},null,{"$f":"IF(B244=\"\",\"\",VLOOKUP(B244,'Fixture List Individual Files'!$B$14:$D$63,3,FALSE))","v":""},"",{"$nulls":4},{"$f":"IF(J244=\"\",\"\",VLOOKUP(J244,'Fixture List Individual Files'!$B$14:$D$63,2,FALSE))","v":""},null,{"$f":"IF(J244=\"\",\"\",VLOOKUP(J244,'Fixture List Individual Files'!$B$14:$D$63,3,FALSE))","v":""},""]
[null,null,{"$f":"IF(B245=\"\",\"\",VLOOKUP(B245,'Fixture List Individual Files'!$B$14:$D$63,2,FALSE))","v":""},null,{"$f":"IF(B245=\"\",\"\",VLOOKUP(B245,'Fixture List Individual Files'!$B$14:$D$63,3,FALSE))","v":""},"",{"$nulls":4},{"$f":"IF(J245=\"\",\"\",VLOOKUP(J245,'Fixture List Individual Files'!$B$14:$D$63,2,FALSE))","v":""},null,{"$f":"IF(J245=\"\",\"\",VLOOKUP(J245,'Fixture List Individual Files'!$B$14:$D$63,3,FALSE))","v":""},""]
[null,null,{"$f":"IF(B246=\"\",\"\",VLOOKUP(B246,'Fixture List Individual Files'!$B$14:$D$63,2,FALSE))","v":""},null,{"$f":"IF(B246=\"\",\"\",VLOOKUP(B246,'Fixture List Individual Files'!$B$14:$D$63,3,FALSE))","v":""},"",{"$nulls":4},{"$f":"IF(J246=\"\",\"\",VLOOKUP(J246,'Fixture List Individual Files'!$B$14:$D$63,2,FALSE))","v":""},null,{"$f":"IF(J246=\"\",\"\",VLOOKUP(J246,'Fixture List Individual Files'!$B$14:$D$63,3,FALSE))","v":""},""]
[null,null,{"$f":"IF(B247=\"\",\"\",VLOOKUP(B247,'Fixture List Individual Files'!$B$14:$D$63,2,FALSE))","v":""},null,{"$f":"IF(B247=\"\",\"\",VLOOKUP(B247,'Fixture List Individual Files'!$B$14:$D$63,3,FALSE))","v":""},"",{"$nulls":4},{"$f":"IF(J247=\"\",\"\",VLOOKUP(J247,'Fixture List Individual Files'!$B$14:$D$63,2,FALSE))","v":""},null,{"$f":"IF(J247=\"\",\"\",VLOOKUP(J247,'Fixture List Individual Files'!$B$14:$D$63,3,FALSE))","v":""},""]
[null,null,{"$f":"IF(B248=\"\",\"\",VLOOKUP(B248,'Fixture List Individual Files'!$B$14:$D$63,2,FALSE))","v":""},null,{"$f":"IF(B248=\"\",\"\",VLOOKUP(B248,'Fixture List Individual Files'!$B$14:$D$63,3,FALSE))","v":""},"",{"$nulls":4},{"$f":"IF(J248=\"\",\"\",VLOOKUP(J248,'Fixture List Individual Files'!$B$14:$D$63,2,FALSE))","v":""},null,{"$f":"IF(J248=\"\",\"\",VLOOKUP(J248,'Fixture List Individual Files'!$B$14:$D$63,3,FALSE))","v":""},""]
[null,null,{"$f":"IF(B249=\"\",\"\",VLOOKUP(B249,'Fixture List Individual Files'!$B$14:$D$63,2,FALSE))","v":""},null,{"$f":"IF(B249=\"\",\"\",VLOOKUP(B249,'Fixture List Individual Files'!$B$14:$D$63,3,FALSE))","v":""},"",{"$nulls":4},{"$f":"IF(J249=\"\",\"\",VLOOKUP(J249,'Fixture List Individual Files'!$B$14:$D$63,2,FALSE))","v":""},null,{"$f":"IF(J249=\"\",\"\",VLOOKUP(J249,'Fixture List Individual Files'!$B$14:$D$63,3,FALSE))","v":""},""]
[null,null,{"$f":"IF(B250=\"\",\"\",VLOOKUP(B250,'Fixture List Individual Files'!$B$14:$D$63,2,FALSE))","v":""},null,{"$f":"IF(B250=\"\",\"\",VLOOKUP(B250,'Fixture List Individual Files'!$B$14:$D$63,3,FALSE))","v":""},"",{"$nulls":4},{"$f":"IF(J250=\"\",\"\",VLOOKUP(J250,'Fixture List Individual Files'!$B$14:$D$63,2,FALSE))","v":""},null,{"$f":"IF(J250=\"\",\"\",VLOOKUP(J250,'Fixture List Individual Files'!$B$14:$D$63,3,FALSE))","v":""},""]
[null,null,{"$f":"IF(B251=\"\",\"\",VLOOKUP(B251,'Fixture List Individual Files'!$B$14:$D$63,2,FALSE))","v":""},null,{"$f":"IF(B251=\"\",\"\",VLOOKUP(B251,'Fixture List Individual Files'!$B$14:$D$63,3,FALSE))","v":""},"",{"$nulls":4},{"$f":"IF(J251=\"\",\"\",VLOOKUP(J251,'Fixture List Individual Files'!$B$14:$D$63,2,FALSE))","v":""},null,{"$f":"IF(J251=\"\",\"\",VLOOKUP(J251,'Fixture List Individual Files'!$B$14:$D$63,3,FALSE))","v":""},""]
[null,null,{"$f":"IF(B252=\"\",\"\",VLOOKUP(B252,'Fixture List Individual Files'!$B$14:$D$63,2,FALSE))","v":""},null,{"$f":"IF(B252=\"\",\"\",VLOOKUP(B252,'Fixture List Individual Files'!$B$14:$D$63,3,FALSE))","v":""},"",{"$nulls":4},{"$f":"IF(J252=\"\",\"\",VLOOKUP(J252,'Fixture List Individual Files'!$B$14:$D$63,2,FALSE))","v":""},null,{"$f":"IF(J252=\"\",\"\",VLOOKUP(J252,'Fixture List Individual Files'!$B$14:$D$63,3,FALSE))","v":""},""]
[null,null,{"$f":"IF(B253=\"\",\"\",VLOOKUP(B253,'Fixture List Individual Files'!$B$14:$D$63,2,FALSE))","v":""},null,{"$f":"IF(B253=\"\",\"\",VLOOKUP(B253,'Fixture List Individual Files'!$B$14:$D$63,3,FALSE))","v":""},"",{"$nulls":4},{"$f":"IF(J253=\"\",\"\",VLOOKUP(J253,'Fixture List Individual Files'!$B$14:$D$63,2,FALSE))","v":""},null,{"$f":"IF(J253=\"\",\"\",VLOOKUP(J253,'Fixture List Individual Files'!$B$14:$D$63,3,FALSE))","v":""},""]
[null,null,{"$f":"IF(B254=\"\",\"\",VLOOKUP(B254,'Fixture List Individual Files'!$B$14:$D$63,2,FALSE))","v":""},null,{"$f":"IF(B254=\"\",\"\",VLOOKUP(B254,'Fixture List Individual Files'!$B$14:$D$63,3,FALSE))","v":""},"",{"$nulls":4},{"$f":"IF(J254=\"\",\"\",VLOOKUP(J254,'Fixture List Individual Files'!$B$14:$D$63,2,FALSE))","v":""},null,{"$f":"IF(J254=\"\",\"\",VLOOKUP(J254,'Fixture List Individual Files'!$B$14:$D$63,3,FALSE))","v":""},""]
[null,null,{"$f":"IF(B255=\"\",\"\",VLOOKUP(B255,'Fixture List Individual Files'!$B$14:$D$63,2,FALSE))","v":""},null,{"$f":"IF(B255=\"\",\"\",VLOOKUP(B255,'Fixture List Individual Files'!$B$14:$D$63,3,FALSE))","v":""},"",{"$nulls":4},{"$f":"IF(J255=\"\",\"\",VLOOKUP(J255,'Fixture List Individual Files'!$B$14:$D$63,2,FALSE))","v":""},null,{"$f":"IF(J255=\"\",\"\",VLOOKUP(J255,'Fixture List Individual Files'!$B$14:$D$63,3,FALSE))","v":""},""]
[null,null,{"$f":"IF(B256=\"\",\"\",VLOOKUP(B256,'Fixture List Individual Files'!$B$14:$D$63,2,FALSE))","v":""},null,{"$f":"IF(B256=\"\",\"\",VLOOKUP(B256,'Fixture List Individual Files'!$B$14:$D$63,3,FALSE))","v":""},"",{"$nulls":4},{"$f":"IF(J256=\"\",\"\",VLOOKUP(J256,'Fixture List Individual Files'!$B$14:$D$63,2,FALSE))","v":""},null,{"$f":"IF(J256=\"\",\"\",VLOOKUP(J256,'Fixture List Individual Files'!$B$14:$D$63,3,FALSE))","v":""},""]
[null,null,{"$f":"IF(B257=\"\",\"\",VLOOKUP(B257,'Fixture List Individual Files'!$B$14:$D$63,2,FALSE))","v":""},null,{"$f":"IF(B257=\"\",\"\",VLOOKUP(B257,'Fixture List Individual Files'!$B$14:$D$63,3,FALSE))","v":""},"",{"$nulls":4},{"$f":"IF(J257=\"\",\"\",VLOOKUP(J257,'Fixture List Individual Files'!$B$14:$D$63,2,FALSE))","v":""},null,{"$f":"IF(J257=\"\",\"\",VLOOKUP(J257,'Fixture List Individual Files'!$B$14:$D$63,3,FALSE))","v":""},""]
[null,null,{"$f":"IF(B258=\"\",\"\",VLOOKUP(B258,'Fixture List Individual Files'!$B$14:$D$63,2,FALSE))","v":""},null,{"$f":"IF(B258=\"\",\"\",VLOOKUP(B258,'Fixture List Individual Files'!$B$14:$D$63,3,FALSE))","v":""},"",{"$nulls":4},{"$f":"IF(J258=\"\",\"\",VLOOKUP(J258,'Fixture List Individual Files'!$B$14:$D$63,2,FALSE))","v":""},null,{"$f":"IF(J258=\"\",\"\",VLOOKUP(J258,'Fixture List Individual Files'!$B$14:$D$63,3,FALSE))","v":""},""]
[null,null,{"$f":"IF(B259=\"\",\"\",VLOOKUP(B259,'Fixture List Individual Files'!$B$14:$D$63,2,FALSE))","v":""},null,{"$f":"IF(B259=\"\",\"\",VLOOKUP(B259,'Fixture List Individual Files'!$B$14:$D$63,3,FALSE))","v":""},"",{"$nulls":4},{"$f":"IF(J259=\"\",\"\",VLOOKUP(J259,'Fixture List Individual Files'!$B$14:$D$63,2,FALSE))","v":""},null,{"$f":"IF(J259=\"\",\"\",VLOOKUP(J259,'Fixture List Individual Files'!$B$14:$D$63,3,FALSE))","v":""},""]
[null,null,{"$f":"IF(B260=\"\",\"\",VLOOKUP(B260,'Fixture List Individual Files'!$B$14:$D$63,2,FALSE))","v":""},null,{"$f":"IF(B260=\"\",\"\",VLOOKUP(B260,'Fixture List Individual Files'!$B$14:$D$63,3,FALSE))","v":""},"",{"$nulls":4},{"$f":"IF(J260=\"\",\"\",VLOOKUP(J260,'Fixture List Individual Files'!$B$14:$D$63,2,FALSE))","v":""},null,{"$f":"IF(J260=\"\",\"\",VLOOKUP(J260,'Fixture List Individual Files'!$B$14:$D$63,3,FALSE))","v":""},""]
[null,null,{"$f":"IF(B261=\"\",\"\",VLOOKUP(B261,'Fixture List Individual Files'!$B$14:$D$63,2,FALSE))","v":""},null,{"$f":"IF(B261=\"\",\"\",VLOOKUP(B261,'Fixture List Individual Files'!$B$14:$D$63,3,FALSE))","v":""},"",{"$nulls":4},{"$f":"IF(J261=\"\",\"\",VLOOKUP(J261,'Fixture List Individual Files'!$B$14:$D$63,2,FALSE))","v":""},null,{"$f":"IF(J261=\"\",\"\",VLOOKUP(J261,'Fixture List Individual Files'!$B$14:$D$63,3,FALSE))","v":""},""]
[null,null,{"$f":"IF(B262=\"\",\"\",VLOOKUP(B262,'Fixture List Individual Files'!$B$14:$D$63,2,FALSE))","v":""},null,{"$f":"IF(B262=\"\",\"\",VLOOKUP(B262,'Fixture List Individual Files'!$B$14:$D$63,3,FALSE))","v":""},"",{"$nulls":4},{"$f":"IF(J262=\"\",\"\",VLOOKUP(J262,'Fixture List Individual Files'!$B$14:$D$63,2,FALSE))","v":""},null,{"$f":"IF(J262=\"\",\"\",VLOOKUP(J262,'Fixture List Individual Files'!$B$14:$D$63,3,FALSE))","v":""},""]
[null,null,"Totals:",{"$f":"SUM(D227:D262)","v":0},null,{"$f":"SUM(F227:F262)","v":0},{"$nulls":4},"Totals:",{"$f":"SUM(L227:L262)","v":0},null,{"$f":"SUM(N227:N262)","v":0}]
[]
[null,"Area 13",{"$nulls":7},"Area 14"]
[null,"Type:","Choose from Drop-down",null,null,{"$f":"IFERROR(VLOOKUP(C266,Admin_Lists!$A$9:$B$41,2,FALSE),\"\")","v":0},"W/sq ft",null,null,"Type:","Choose from Drop-down",null,null,{"$f":"IFERROR(VLOOKUP(K266,Admin_Lists!$A$9:$B$41,2,FALSE),\"\")","v":0},"W/sq ft"]
[null,null,{"$f":"\"Area Description: \"&'Sq. Ft. Area Individual Files'!D21","v":"Area Description: "},{"$nulls":7},{"$f":"\"Area Description: \"&'Sq. Ft. Area Individual Files'!D22","v":"Area Description: "}]
[null,"Fixture Mark","Fixture\nName","Fixture\nCount","Fixture Watts","Total Watts \n(Fixt Count x Fixt Watts)",{"$nulls":3},"Fixture Mark","Fixture\nName","Fixture\nCount","Fixture Watts","Total Watts \n(Fixt Count x Fixt Watts)"]
[]
[null,null,{"$f":"IF(B270=\"\",\"\",VLOOKUP(B270,'Fixture List Individual Files'!$B$14:$D$63,2,FALSE))","v":""},null,{"$f":"IF(B270=\"\",\"\",VLOOKUP(B270,'Fixture List Individual Files'!$B$14:$D$63,3,FALSE))","v":""},{"$f":"IF(E270=\"\",\"\",D270*E270)","v":""},{"$nulls":4},{"$f":"IF(J270=\"\",\"\",VLOOKUP(J270,'Fixture List Individual Files'!$B$14:$D$63,2,FALSE))","v":""},null,{"$f":"IF(J270=\"\",\"\",VLOOKUP(J270,'Fixture List Individual Files'!$B$14:$D$63,3,FALSE))","v":""},{"$f":"IF(M270=\"\",\"\",L270*M270)","v":""}]
[null,null,{"$f":"IF(B271=\"\",\"\",VLOOKUP(B271,'Fixture List Individual Files'!$B$14:$D$63,2,FALSE))","v":""},null,{"$f":"IF(B271=\"\",\"\",VLOOKUP(B271,'Fixture List Individual Files'!$B$14:$D$63,3,FALSE))","v":""},{"$f":"IF(E271=\"\",\"\",D271*E271)","v":""},{"$nulls":4},{"$f":"IF(J271=\"\",\"\",VLOOKUP(J271,'Fixture List Individual Files'!$B$14:$D$63,2,FALSE))","v":""},null,{"$f":"IF(J271=\"\",\"\",VLOOKUP(J271,'Fixture List Individual Files'!$B$14:$D$63,3,FALSE))","v":""},{"$f":"IF(M271=\"\",\"\",L271*M271)","v":""}]
[null,null,{"$f":"IF(B272=\"\",\"\",VLOOKUP(B272,'Fixture List Individual Files'!$B$14:$D$63,2,FALSE))","v":""},null,{"$f":"IF(B272=\"\",\"\",VLOOKUP(B272,'Fixture List Individual Files'!$B$14:$D$63,3,FALSE))","v":""},"",{"$nulls":4},{"$f":"IF(J272=\"\",\"\",VLOOKUP(J272,'Fixture List Individual Files'!$B$14:$D$63,2,FALSE))","v":""},null,{"$f":"IF(J272=\"\",\"\",VLOOKUP(J272,'Fixture List Individual Files'!$B$14:$D$63,3,FALSE))","v":""},""]
[null,null,{"$f":"IF(B273=\"\",\"\",VLOOKUP(B273,'Fixture List Individual Files'!$B$14:$D$63,2,FALSE))","v":""},null,{"$f":"IF(B273=\"\",\"\",VLOOKUP(B273,'Fixture List Individual Files'!$B$14:$D$63,3,FALSE))","v":""},"",{"$nulls":4},{"$f":"IF(J273=\"\",\"\",VLOOKUP(J273,'Fixture List Individual Files'!$B$14:$D$63,2,FALSE))","v":""},null,{"$f":"IF(J273=\"\",\"\",VLOOKUP(J273,'Fixture List Individual Files'!$B$14:$D$63,3,FALSE))","v":""},""]
[null,null,{"$f":"IF(B274=\"\",\"\",VLOOKUP(B274,'Fixture List Individual Files'!$B$14:$D$63,2,FALSE))","v":""},null,{"$f":"IF(B274=\"\",\"\",VLOOKUP(B274,'Fixture List Individual Files'!$B$14:$D$63,3,FALSE))","v":""},"",{"$nulls":4},{"$f":"IF(J274=\"\",\"\",VLOOKUP(J274,'Fixture List Individual Files'!$B$14:$D$63,2,FALSE))","v":""},null,{"$f":"IF(J274=\"\",\"\",VLOOKUP(J274,'Fixture List Individual Files'!$B$14:$D$63,3,FALSE))","v":""},""]
[null,null,{"$f":"IF(B275=\"\",\"\",VLOOKUP(B275,'Fixture List Individual Files'!$B$14:$D$63,2,FALSE))","v":""},null,{"$f":"IF(B275=\"\",\"\",VLOOKUP(B275,'Fixture List Individual Files'!$B$14:$D$63,3,FALSE))","v":""},"",{"$nulls":4},{"$f":"IF(J275=\"\",\"\",VLOOKUP(J275,'Fixture List Individual Files'!$B$14:$D$63,2,FALSE))","v":""},null,{"$f":"IF(J275=\"\",\"\",VLOOKUP(J275,'Fixture List Individual Files'!$B$14:$D$63,3,FALSE))","v":""},""]
[null,null,{"$f":"IF(B276=\"\",\"\",VLOOKUP(B276,'Fixture List Individual Files'!$B$14:$D$63,2,FALSE))","v":""},null,{"$f":"IF(B276=\"\",\"\",VLOOKUP(B276,'Fixture List Individual Files'!$B$14:$D$63,3,FALSE))","v":""},"",{"$nulls":4},{"$f":"IF(J276=\"\",\"\",VLOOKUP(J276,'Fixture List Individual Files'!$B$14:$D$63,2,FALSE))","v":""},null,{"$f":"IF(J276=\"\",\"\",VLOOKUP(J276,'Fixture List Individual Files'!$B$14:$D$63,3,FALSE))","v":""},""]
[null,null,{"$f":"IF(B277=\"\",\"\",VLOOKUP(B277,'Fixture List Individual Files'!$B$14:$D$63,2,FALSE))","v":""},null,{"$f":"IF(B277=\"\",\"\",VLOOKUP(B277,'Fixture List Individual Files'!$B$14:$D$63,3,FALSE))","v":""},"",{"$nulls":4},{"$f":"IF(J277=\"\",\"\",VLOOKUP(J277,'Fixture List Individual Files'!$B$14:$D$63,2,FALSE))","v":""},null,{"$f":"IF(J277=\"\",\"\",VLOOKUP(J277,'Fixture List Individual Files'!$B$14:$D$63,3,FALSE))","v":""},""]
[null,null,{"$f":"IF(B278=\"\",\"\",VLOOKUP(B278,'Fixture List Individual Files'!$B$14:$D$63,2,FALSE))","v":""},null,{"$f":"IF(B278=\"\",\"\",VLOOKUP(B278,'Fixture List Individual Files'!$B$14:$D$63,3,FALSE))","v":""},"",{"$nulls":4},{"$f":"IF(J278=\"\",\"\",VLOOKUP(J278,'Fixture List Individual Files'!$B$14:$D$63,2,FALSE))","v":""},null,{"$f":"IF(J278=\"\",\"\",VLOOKUP(J278,'Fixture List Individual Files'!$B$14:$D$63,3,FALSE))","v":""},""]
[null,null,{"$f":"IF(B279=\"\",\"\",VLOOKUP(B279,'Fixture List Individual Files'!$B$14:$D$63,2,FALSE))","v":""},null,{"$f":"IF(B279=\"\",\"\",VLOOKUP(B279,'Fixture List Individual Files'!$B$14:$D$63,3,FALSE))","v":""},"",{"$nulls":4},{"$f":"IF(J279=\"\",\"\",VLOOKUP(J279,'Fixture List Individual Files'!$B$14:$D$63,2,FALSE))","v":""},null,{"$f":"IF(J279=\"\",\"\",VLOOKUP(J279,'Fixture List Individual Files'!$B$14:$D$63,3,FALSE))","v":""},""]
[null,null,{"$f":"IF(B280=\"\",\"\",VLOOKUP(B280,'Fixture List Individual Files'!$B$14:$D$63,2,FALSE))","v":""},null,{"$f":"IF(B280=\"\",\"\",VLOOKUP(B280,'Fixture List Individual Files'!$B$14:$D$63,3,FALSE))","v":""},"",{"$nulls":4},{"$f":"IF(J280=\"\",\"\",VLOOKUP(J280,'Fixture List Individual Files'!$B$14:$D$63,2,FALSE))","v":""},null,{"$f":"IF(J280=\"\",\"\",VLOOKUP(J280,'Fixture List Individual Files'!$B$14:$D$63,3,FALSE))","v":""},""]
[null,null,{"$f":"IF(B281=\"\",\"\",VLOOKUP(B281,'Fixture List Individual Files'!$B$14:$D$63,2,FALSE))","v":""},null,{"$f":"IF(B281=\"\",\"\",VLOOKUP(B281,'Fixture List Individual Files'!$B$14:$D$63,3,FALSE))","v":""},"",{"$nulls":4},{"$f":"IF(J281=\"\",\"\",VLOOKUP(J281,'Fixture List Individual Files'!$B$14:$D$63,2,FALSE))","v":""},null,{"$f":"IF(J281=\"\",\"\",VLOOKUP(J281,'Fixture List Individual Files'!$B$14:$D$63,3,FALSE))","v":""},""]
[null,null,{"$f":"IF(B282=\"\",\"\",VLOOKUP(B282,'Fixture List Individual Files'!$B$14:$D$63,2,FALSE))","v":""},null,{"$f":"IF(B282=\"\",\"\",VLOOKUP(B282,'Fixture List Individual Files'!$B$14:$D$63,3,FALSE))","v":""},"",{"$nulls":4},{"$f":"IF(J282=\"\",\"\",VLOOKUP(J282,'Fixture List Individual Files'!$B$14:$D$63,2,FALSE))","v":""},null,{"$f":"IF(J282=\"\",\"\",VLOOKUP(J282,'Fixture List Individual Files'!$B$14:$D$63,3,FALSE))","v":""},""]
[null,null,{"$f":"IF(B283=\"\",\"\",VLOOKUP(B283,'Fixture List Individual Files'!$B$14:$D$63,2,FALSE))","v":""},null,{"$f":"IF(B283=\"\",\"\",VLOOKUP(B283,'Fixture List Individual Files'!$B$14:$D$63,3,FALSE))","v":""},"",{"$nulls":4},{"$f":"IF(J283=\"\",\"\",VLOOKUP(J283,'Fixture List Individual Files'!$B$14:$D$63,2,FALSE))","v":""},null,{"$f":"IF(J283=\"\",\"\",VLOOKUP(J283,'Fixture List Individual Files'!$B$14:$D$63,3,FALSE))","v":""},""]
[null,null,{"$f":"IF(B284=\"\",\"\",VLOOKUP(B284,'Fixture List Individual Files'!$B$14:$D$63,2,FALSE))","v":""},null,{"$f":"IF(B284=\"\",\"\",VLOOKUP(B284,'Fixture List Individual Files'!$B$14:$D$63,3,FALSE))","v":""},"",{"$nulls":4},{"$f":"IF(J284=\"\",\"\",VLOOKUP(J284,'Fixture List Individual Files'!$B$14:$D$63,2,FALSE))","v":""},null,{"$f":"IF(J284=\"\",\"\",VLOOKUP(J284,'Fixture List Individual Files'!$B$14:$D$63,3,FALSE))","v":""},""]
[null,null,{"$f":"IF(B285=\"\",\"\",VLOOKUP(B285,'Fixture List Individual Files'!$B$14:$D$63,2,FALSE))","v":""},null,{"$f":"IF(B285=\"\",\"\",VLOOKUP(B285,'Fixture List Individual Files'!$B$14:$D$63,3,FALSE))","v":""},"",{"$nulls":4},{"$f":"IF(J285=\"\",\"\",VLOOKUP(J285,'Fixture List Individual Files'!$B$14:$D$63,2,FALSE))","v":""},null,{"$f":"IF(J285=\"\",\"\",VLOOKUP(J285,'Fixture List Individual Files'!$B$14:$D$63,3,FALSE))","v":""},""]
[null,null,{"$f":"IF(B286=\"\",\"\",VLOOKUP(B286,'Fixture List Individual Files'!$B$14:$D$63,2,FALSE))","v":""},null,{"$f":"IF(B286=\"\",\"\",VLOOKUP(B286,'Fixture List Individual Files'!$B$14:$D$63,3,FALSE))","v":""},"",{"$nulls":4},{"$f":"IF(J286=\"\",\"\",VLOOKUP(J286,'Fixture List Individual Files'!$B$14:$D$63,2,FALSE))","v":""},null,{"$f":"IF(J286=\"\",\"\",VLOOKUP(J286,'Fixture List Individual Files'!$B$14:$D$63,3,FALSE))","v":""},""]
[null,null,{"$f":"IF(B287=\"\",\"\",VLOOKUP(B287,'Fixture List Individual Files'!$B$14:$D$63,2,FALSE))","v":""},null,{"$f":"IF(B287=\"\",\"\",VLOOKUP(B287,'Fixture List Individual Files'!$B$14:$D$63,3,FALSE))","v":""},"",{"$nulls":4},{"$f":"IF(J287=\"\",\"\",VLOOKUP(J287,'Fixture List Individual Files'!$B$14:$D$63,2,FALSE))","v":""},null,{"$f":"IF(J287=\"\",\"\",VLOOKUP(J287,'Fixture List Individual Files'!$B$14:$D$63,3,FALSE))","v":""},""]
[null,null,{"$f":"IF(B288=\"\",\"\",VLOOKUP(B288,'Fixture List Individual Files'!$B$14:$D$63,2,FALSE))","v":""},null,{"$f":"IF(B288=\"\",\"\",VLOOKUP(B288,'Fixture List Individual Files'!$B$14:$D$63,3,FALSE))","v":""},"",{"$nulls":4},{"$f":"IF(J288=\"\",\"\",VLOOKUP(J288,'Fixture List Individual Files'!$B$14:$D$63,2,FALSE))","v":""},null,{"$f":"IF(J288=\"\",\"\",VLOOKUP(J288,'Fixture List Individual Files'!$B$14:$D$63,3,FALSE))","v":""},""]
[null,null,{"$f":"IF(B289=\"\",\"\",VLOOKUP(B289,'Fixture List Individual Files'!$B$14:$D$63,2,FALSE))","v":""},null,{"$f":"IF(B289=\"\",\"\",VLOOKUP(B289,'Fixture List Individual Files'!$B$14:$D$63,3,FALSE))","v":""},"",{"$nulls":4},{"$f":"IF(J289=\"\",\"\",VLOOKUP(J289,'Fixture List Individual Files'!$B$14:$D$63,2,FALSE))","v":""},null,{"$f":"IF(J289=\"\",\"\",VLOOKUP(J289,'Fixture List Individual Files'!$B$14:$D$63,3,FALSE))","v":""},""]
[null,null,{"$f":"IF(B290=\"\",\"\",VLOOKUP(B290,'Fixture List Individual Files'!$B$14:$D$63,2,FALSE))","v":""},null,{"$f":"IF(B290=\"\",\"\",VLOOKUP(B290,'Fixture List Individual Files'!$B$14:$D$63,3,FALSE))","v":""},"",{"$nulls":4},{"$f":"IF(J290=\"\",\"\",VLOOKUP(J290,'Fixture List Individual Files'!$B$14:$D$63,2,FALSE))","v":""},null,{"$f":"IF(J290=\"\",\"\",VLOOKUP(J290,'Fixture List Individual Files'!$B$14:$D$63,3,FALSE))","v":""},""]
[null,null,{"$f":"IF(B291=\"\",\"\",VLOOKUP(B291,'Fixture List Individual Files'!$B$14:$D$63,2,FALSE))","v":""},null,{"$f":"IF(B291=\"\",\"\",VLOOKUP(B291,'Fixture List Individual Files'!$B$14:$D$63,3,FALSE))","v":""},"",{"$nulls":4},{"$f":"IF(J291=\"\",\"\",VLOOKUP(J291,'Fixture List Individual Files'!$B$14:$D$63,2,FALSE))","v":""},null,{"$f":"IF(J291=\"\",\"\",VLOOKUP(J291,'Fixture List Individual Files'!$B$14:$D$63,3,FALSE))","v":""},""]
[null,null,{"$f":"IF(B292=\"\",\"\",VLOOKUP(B292,'Fixture List Individual Files'!$B$14:$D$63,2,FALSE))","v":""},null,{"$f":"IF(B292=\"\",\"\",VLOOKUP(B292,'Fixture List Individual Files'!$B$14:$D$63,3,FALSE))","v":""},"",{"$nulls":4},{"$f":"IF(J292=\"\",\"\",VLOOKUP(J292,'Fixture List Individual Files'!$B$14:$D$63,2,FALSE))","v":""},null,{"$f":"IF(J292=\"\",\"\",VLOOKUP(J292,'Fixture List Individual Files'!$B$14:$D$63,3,FALSE))","v":""},""]
[null,null,{"$f":"IF(B293=\"\",\"\",VLOOKUP(B293,'Fixture List Individual Files'!$B$14:$D$63,2,FALSE))","v":""},null,{"$f":"IF(B293=\"\",\"\",VLOOKUP(B293,'Fixture List Individual Files'!$B$14:$D$63,3,FALSE))","v":""},"",{"$nulls":4},{"$f":"IF(J293=\"\",\"\",VLOOKUP(J293,'Fixture List Individual Files'!$B$14:$D$63,2,FALSE))","v":""},null,{"$f":"IF(J293=\"\",\"\",VLOOKUP(J293,'Fixture List Individual Files'!$B$14:$D$63,3,FALSE))","v":""},""]
[null,null,{"$f":"IF(B294=\"\",\"\",VLOOKUP(B294,'Fixture List Individual Files'!$B$14:$D$63,2,FALSE))","v":""},null,{"$f":"IF(B294=\"\",\"\",VLOOKUP(B294,'Fixture List Individual Files'!$B$14:$D$63,3,FALSE))","v":""},"",{"$nulls":4},{"$f":"IF(J294=\"\",\"\",VLOOKUP(J294,'Fixture List Individual Files'!$B$14:$D$63,2,FALSE))","v":""},null,{"$f":"IF(J294=\"\",\"\",VLOOKUP(J294,'Fixture List Individual Files'!$B$14:$D$63,3,FALSE))","v":""},""]
[null,null,{"$f":"IF(B295=\"\",\"\",VLOOKUP(B295,'Fixture List Individual Files'!$B$14:$D$63,2,FALSE))","v":""},null,{"$f":"IF(B295=\"\",\"\",VLOOKUP(B295,'Fixture List Individual Files'!$B$14:$D$63,3,FALSE))","v":""},"",{"$nulls":4},{"$f":"IF(J295=\"\",\"\",VLOOKUP(J295,'Fixture List Individual Files'!$B$14:$D$63,2,FALSE))","v":""},null,{"$f":"IF(J295=\"\",\"\",VLOOKUP(J295,'Fixture List Individual Files'!$B$14:$D$63,3,FALSE))","v":""},""]
[null,null,{"$f":"IF(B296=\"\",\"\",VLOOKUP(B296,'Fixture List Individual Files'!$B$14:$D$63,2,FALSE))","v":""},null,{"$f":"IF(B296=\"\",\"\",VLOOKUP(B296,'Fixture List Individual Files'!$B$14:$D$63,3,FALSE))","v":""},"",{"$nulls":4},{"$f":"IF(J296=\"\",\"\",VLOOKUP(J296,'Fixture List Individual Files'!$B$14:$D$63,2,FALSE))","v":""},null,{"$f":"IF(J296=\"\",\"\",VLOOKUP(J296,'Fixture List Individual Files'!$B$14:$D$63,3,FALSE))","v":""},""]
[null,null,{"$f":"IF(B297=\"\",\"\",VLOOKUP(B297,'Fixture List Individual Files'!$B$14:$D$63,2,FALSE))","v":""},null,{"$f":"IF(B297=\"\",\"\",VLOOKUP(B297,'Fixture List Individual Files'!$B$14:$D$63,3,FALSE))","v":""},"",{"$nulls":4},{"$f":"IF(J297=\"\",\"\",VLOOKUP(J297,'Fixture List Individual Files'!$B$14:$D$63,2,FALSE))","v":""},null,{"$f":"IF(J297=\"\",\"\",VLOOKUP(J297,'Fixture List Individual Files'!$B$14:$D$63,3,FALSE))","v":""},""]
[null,null,{"$f":"IF(B298=\"\",\"\",VLOOKUP(B298,'Fixture List Individual Files'!$B$14:$D$63,2,FALSE))","v":""},null,{"$f":"IF(B298=\"\",\"\",VLOOKUP(B298,'Fixture List Individual Files'!$B$14:$D$63,3,FALSE))","v":""},"",{"$nulls":4},{"$f":"IF(J298=\"\",\"\",VLOOKUP(J298,'Fixture List Individual Files'!$B$14:$D$63,2,FALSE))","v":""},null,{"$f":"IF(J298=\"\",\"\",VLOOKUP(J298,'Fixture List Individual Files'!$B$14:$D$63,3,FALSE))","v":""},""]
[null,null,{"$f":"IF(B299=\"\",\"\",VLOOKUP(B299,'Fixture List Individual Files'!$B$14:$D$63,2,FALSE))","v":""},null,{"$f":"IF(B299=\"\",\"\",VLOOKUP(B299,'Fixture List Individual Files'!$B$14:$D$63,3,FALSE))","v":""},"",{"$nulls":4},{"$f":"IF(J299=\"\",\"\",VLOOKUP(J299,'Fixture List Individual Files'!$B$14:$D$63,2,FALSE))","v":""},null,{"$f":"IF(J299=\"\",\"\",VLOOKUP(J299,'Fixture List Individual Files'!$B$14:$D$63,3,FALSE))","v":""},""]
[null,null,{"$f":"IF(B300=\"\",\"\",VLOOKUP(B300,'Fixture List Individual Files'!$B$14:$D$63,2,FALSE))","v":""},null,{"$f":"IF(B300=\"\",\"\",VLOOKUP(B300,'Fixture List Individual Files'!$B$14:$D$63,3,FALSE))","v":""},"",{"$nulls":4},{"$f":"IF(J300=\"\",\"\",VLOOKUP(J300,'Fixture List Individual Files'!$B$14:$D$63,2,FALSE))","v":""},null,{"$f":"IF(J300=\"\",\"\",VLOOKUP(J300,'Fixture List Individual Files'!$B$14:$D$63,3,FALSE))","v":""},""]
[null,null,{"$f":"IF(B301=\"\",\"\",VLOOKUP(B301,'Fixture List Individual Files'!$B$14:$D$63,2,FALSE))","v":""},null,{"$f":"IF(B301=\"\",\"\",VLOOKUP(B301,'Fixture List Individual Files'!$B$14:$D$63,3,FALSE))","v":""},"",{"$nulls":4},{"$f":"IF(J301=\"\",\"\",VLOOKUP(J301,'Fixture List Individual Files'!$B$14:$D$63,2,FALSE))","v":""},null,{"$f":"IF(J301=\"\",\"\",VLOOKUP(J301,'Fixture List Individual Files'!$B$14:$D$63,3,FALSE))","v":""},""]
[null,null,{"$f":"IF(B302=\"\",\"\",VLOOKUP(B302,'Fixture List Individual Files'!$B$14:$D$63,2,FALSE))","v":""},null,{"$f":"IF(B302=\"\",\"\",VLOOKUP(B302,'Fixture List Individual Files'!$B$14:$D$63,3,FALSE))","v":""},"",{"$nulls":4},{"$f":"IF(J302=\"\",\"\",VLOOKUP(J302,'Fixture List Individual Files'!$B$14:$D$63,2,FALSE))","v":""},null,{"$f":"IF(J302=\"\",\"\",VLOOKUP(J302,'Fixture List Individual Files'!$B$14:$D$63,3,FALSE))","v":""},""]
[null,null,{"$f":"IF(B303=\"\",\"\",VLOOKUP(B303,'Fixture List Individual Files'!$B$14:$D$63,2,FALSE))","v":""},null,{"$f":"IF(B303=\"\",\"\",VLOOKUP(B303,'Fixture List Individual Files'!$B$14:$D$63,3,FALSE))","v":""},"",{"$nulls":4},{"$f":"IF(J303=\"\",\"\",VLOOKUP(J303,'Fixture List Individual Files'!$B$14:$D$63,2,FALSE))","v":""},null,{"$f":"IF(J303=\"\",\"\",VLOOKUP(J303,'Fixture List Individual Files'!$B$14:$D$63,3,FALSE))","v":""},""]
[null,null,{"$f":"IF(B304=\"\",\"\",VLOOKUP(B304,'Fixture List Individual Files'!$B$14:$D$63,2,FALSE))","v":""},null,{"$f":"IF(B304=\"\",\"\",VLOOKUP(B304,'Fixture List Individual Files'!$B$14:$D$63,3,FALSE))","v":""},"",{"$nulls":4},{"$f":"IF(J304=\"\",\"\",VLOOKUP(J304,'Fixture List Individual Files'!$B$14:$D$63,2,FALSE))","v":""},null,{"$f":"IF(J304=\"\",\"\",VLOOKUP(J304,'Fixture List Individual Files'!$B$14:$D$63,3,FALSE))","v":""},""]
[null,null,{"$f":"IF(B305=\"\",\"\",VLOOKUP(B305,'Fixture List Individual Files'!$B$14:$D$63,2,FALSE))","v":""},null,{"$f":"IF(B305=\"\",\"\",VLOOKUP(B305,'Fixture List Individual Files'!$B$14:$D$63,3,FALSE))","v":""},"",{"$nulls":4},{"$f":"IF(J305=\"\",\"\",VLOOKUP(J305,'Fixture List Individual Files'!$B$14:$D$63,2,FALSE))","v":""},null,{"$f":"IF(J305=\"\",\"\",VLOOKUP(J305,'Fixture List Individual Files'!$B$14:$D$63,3,FALSE))","v":""},""]
[null,null,"Totals:",{"$f":"SUM(D270:D305)","v":0},null,{"$f":"SUM(F270:F305)","v":0},{"$nulls":4},"Totals:",{"$f":"SUM(L270:L305)","v":0},null,{"$f":"SUM(N270:N305)","v":0}]
[]
[null,"Area 15",{"$nulls":7},"Area 16"]
[null,"Type:","Choose from Drop-down",null,null,{"$f":"IFERROR(VLOOKUP(C309,Admin_Lists!$A$9:$B$41,2,FALSE),\"\")","v":0},"W/sq ft",null,null,"Type:","Choose from Drop-down",null,null,{"$f":"IFERROR(VLOOKUP(K309,Admin_Lists!$A$9:$B$41,2,FALSE),\"\")","v":0},"W/sq ft"]
[null,null,{"$f":"\"Area Description: \"&'Sq. Ft. Area Individual Files'!D23","v":"Area Description: "},{"$nulls":7},{"$f":"\"Area Description: \"&'Sq. Ft. Area Individual Files'!D24","v":"Area Description: "}]
[null,"Fixture Mark","Fixture\nName","Fixture\nCount","Fixture Watts","Total Watts \n(Fixt Count x Fixt Watts)",{"$nulls":3},"Fixture Mark","Fixture\nName","Fixture\nCount","Fixture Watts","Total Watts \n(Fixt Count x Fixt Watts)"]
[]
[null,null,{"$f":"IF(B313=\"\",\"\",VLOOKUP(B313,'Fixture List Individual Files'!$B$14:$D$63,2,FALSE))","v":""},null,{"$f":"IF(B313=\"\",\"\",VLOOKUP(B313,'Fixture List Individual Files'!$B$14:$D$63,3,FALSE))","v":""},{"$f":"IF(E313=\"\",\"\",D313*E313)","v":""},{"$nulls":4},{"$f":"IF(J313=\"\",\"\",VLOOKUP(J313,'Fixture List Individual Files'!$B$14:$D$63,2,FALSE))","v":""},null,{"$f":"IF(J313=\"\",\"\",VLOOKUP(J313,'Fixture List Individual Files'!$B$14:$D$63,3,FALSE))","v":""},{"$f":"IF(M313=\"\",\"\",L313*M313)","v":""}]
[null,null,{"$f":"IF(B314=\"\",\"\",VLOOKUP(B314,'Fixture List Individual Files'!$B$14:$D$63,2,FALSE))","v":""},null,{"$f":"IF(B314=\"\",\"\",VLOOKUP(B314,'Fixture List Individual Files'!$B$14:$D$63,3,FALSE))","v":""},{"$f":"IF(E314=\"\",\"\",D314*E314)","v":""},{"$nulls":4},{"$f":"IF(J314=\"\",\"\",VLOOKUP(J314,'Fixture List Individual Files'!$B$14:$D$63,2,FALSE))","v":""},null,{"$f":"IF(J314=\"\",\"\",VLOOKUP(J314,'Fixture List Individual Files'!$B$14:$D$63,3,FALSE))","v":""},{"$f":"IF(M314=\"\",\"\",L314*M314)","v":""}]
[null,null,{"$f":"IF(B315=\"\",\"\",VLOOKUP(B315,'Fixture List Individual Files'!$B$14:$D$63,2,FALSE))","v":""},null,{"$f":"IF(B315=\"\",\"\",VLOOKUP(B315,'Fixture List Individual Files'!$B$14:$D$63,3,FALSE))","v":""},"",{"$nulls":4},{"$f":"IF(J315=\"\",\"\",VLOOKUP(J315,'Fixture List Individual Files'!$B$14:$D$63,2,FALSE))","v":""},null,{"$f":"IF(J315=\"\",\"\",VLOOKUP(J315,'Fixture List Individual Files'!$B$14:$D$63,3,FALSE))","v":""},""]
[null,null,{"$f":"IF(B316=\"\",\"\",VLOOKUP(B316,'Fixture List Individual Files'!$B$14:$D$63,2,FALSE))","v":""},null,{"$f":"IF(B316=\"\",\"\",VLOOKUP(B316,'Fixture List Individual Files'!$B$14:$D$63,3,FALSE))","v":""},"",{"$nulls":4},{"$f":"IF(J316=\"\",\"\",VLOOKUP(J316,'Fixture List Individual Files'!$B$14:$D$63,2,FALSE))","v":""},null,{"$f":"IF(J316=\"\",\"\",VLOOKUP(J316,'Fixture List Individual Files'!$B$14:$D$63,3,FALSE))","v":""},""]
[null,null,{"$f":"IF(B317=\"\",\"\",VLOOKUP(B317,'Fixture List Individual Files'!$B$14:$D$63,2,FALSE))","v":""},null,{"$f":"IF(B317=\"\",\"\",VLOOKUP(B317,'Fixture List Individual Files'!$B$14:$D$63,3,FALSE))","v":""},"",{"$nulls":4},{"$f":"IF(J317=\"\",\"\",VLOOKUP(J317,'Fixture List Individual Files'!$B$14:$D$63,2,FALSE))","v":""},null,{"$f":"IF(J317=\"\",\"\",VLOOKUP(J317,'Fixture List Individual Files'!$B$14:$D$63,3,FALSE))","v":""},""]
[null,null,{"$f":"IF(B318=\"\",\"\",VLOOKUP(B318,'Fixture List Individual Files'!$B$14:$D$63,2,FALSE))","v":""},null,{"$f":"IF(B318=\"\",\"\",VLOOKUP(B318,'Fixture List Individual Files'!$B$14:$D$63,3,FALSE))","v":""},"",{"$nulls":4},{"$f":"IF(J318=\"\",\"\",VLOOKUP(J318,'Fixture List Individual Files'!$B$14:$D$63,2,FALSE))","v":""},null,{"$f":"IF(J318=\"\",\"\",VLOOKUP(J318,'Fixture List Individual Files'!$B$14:$D$63,3,FALSE))","v":""},""]
[null,null,{"$f":"IF(B319=\"\",\"\",VLOOKUP(B319,'Fixture List Individual Files'!$B$14:$D$63,2,FALSE))","v":""},null,{"$f":"IF(B319=\"\",\"\",VLOOKUP(B319,'Fixture List Individual Files'!$B$14:$D$63,3,FALSE))","v":""},"",{"$nulls":4},{"$f":"IF(J319=\"\",\"\",VLOOKUP(J319,'Fixture List Individual Files'!$B$14:$D$63,2,FALSE))","v":""},null,{"$f":"IF(J319=\"\",\"\",VLOOKUP(J319,'Fixture List Individual Files'!$B$14:$D$63,3,FALSE))","v":""},""]
[null,null,{"$f":"IF(B320=\"\",\"\",VLOOKUP(B320,'Fixture List Individual Files'!$B$14:$D$63,2,FALSE))","v":""},null,{"$f":"IF(B320=\"\",\"\",VLOOKUP(B320,'Fixture List Individual Files'!$B$14:$D$63,3,FALSE))","v":""},"",{"$nulls":4},{"$f":"IF(J320=\"\",\"\",VLOOKUP(J320,'Fixture List Individual Files'!$B$14:$D$63,2,FALSE))","v":""},null,{"$f":"IF(J320=\"\",\"\",VLOOKUP(J320,'Fixture List Individual Files'!$B$14:$D$63,3,FALSE))","v":""},""]
[null,null,{"$f":"IF(B321=\"\",\"\",VLOOKUP(B321,'Fixture List Individual Files'!$B$14:$D$63,2,FALSE))","v":""},null,{"$f":"IF(B321=\"\",\"\",VLOOKUP(B321,'Fixture List Individual Files'!$B$14:$D$63,3,FALSE))","v":""},"",{"$nulls":4},{"$f":"IF(J321=\"\",\"\",VLOOKUP(J321,'Fixture List Individual Files'!$B$14:$D$63,2,FALSE))","v":""},null,{"$f":"IF(J321=\"\",\"\",VLOOKUP(J321,'Fixture List Individual Files'!$B$14:$D$63,3,FALSE))","v":""},""]
[null,null,{"$f":"IF(B322=\"\",\"\",VLOOKUP(B322,'Fixture List Individual Files'!$B$14:$D$63,2,FALSE))","v":""},null,{"$f":"IF(B322=\"\",\"\",VLOOKUP(B322,'Fixture List Individual Files'!$B$14:$D$63,3,FALSE))","v":""},"",{"$nulls":4},{"$f":"IF(J322=\"\",\"\",VLOOKUP(J322,'Fixture List Individual Files'!$B$14:$D$63,2,FALSE))","v":""},null,{"$f":"IF(J322=\"\",\"\",VLOOKUP(J322,'Fixture List Individual Files'!$B$14:$D$63,3,FALSE))","v":""},""]
[null,null,{"$f":"IF(B323=\"\",\"\",VLOOKUP(B323,'Fixture List Individual Files'!$B$14:$D$63,2,FALSE))","v":""},null,{"$f":"IF(B323=\"\",\"\",VLOOKUP(B323,'Fixture List Individual Files'!$B$14:$D$63,3,FALSE))","v":""},"",{"$nulls":4},{"$f":"IF(J323=\"\",\"\",VLOOKUP(J323,'Fixture List Individual Files'!$B$14:$D$63,2,FALSE))","v":""},null,{"$f":"IF(J323=\"\",\"\",VLOOKUP(J323,'Fixture List Individual Files'!$B$14:$D$63,3,FALSE))","v":""},""]
[null,null,{"$f":"IF(B324=\"\",\"\",VLOOKUP(B324,'Fixture List Individual Files'!$B$14:$D$63,2,FALSE))","v":""},null,{"$f":"IF(B324=\"\",\"\",VLOOKUP(B324,'Fixture List Individual Files'!$B$14:$D$63,3,FALSE))","v":""},"",{"$nulls":4},{"$f":"IF(J324=\"\",\"\",VLOOKUP(J324,'Fixture List Individual Files'!$B$14:$D$63,2,FALSE))","v":""},null,{"$f":"IF(J324=\"\",\"\",VLOOKUP(J324,'Fixture List Individual Files'!$B$14:$D$63,3,FALSE))","v":""},""]
[null,null,{"$f":"IF(B325=\"\",\"\",VLOOKUP(B325,'Fixture List Individual Files'!$B$14:$D$63,2,FALSE))","v":""},null,{"$f":"IF(B325=\"\",\"\",VLOOKUP(B325,'Fixture List Individual Files'!$B$14:$D$63,3,FALSE))","v":""},"",{"$nulls":4},{"$f":"IF(J325=\"\",\"\",VLOOKUP(J325,'Fixture List Individual Files'!$B$14:$D$63,2,FALSE))","v":""},null,{"$f":"IF(J325=\"\",\"\",VLOOKUP(J325,'Fixture List Individual Files'!$B$14:$D$63,3,FALSE))","v":""},""]
[null,null,{"$f":"IF(B326=\"\",\"\",VLOOKUP(B326,'Fixture List Individual Files'!$B$14:$D$63,2,FALSE))","v":""},null,{"$f":"IF(B326=\"\",\"\",VLOOKUP(B326,'Fixture List Individual Files'!$B$14:$D$63,3,FALSE))","v":""},"",{"$nulls":4},{"$f":"IF(J326=\"\",\"\",VLOOKUP(J326,'Fixture List Individual Files'!$B$14:$D$63,2,FALSE))","v":""},null,{"$f":"IF(J326=\"\",\"\",VLOOKUP(J326,'Fixture List Individual Files'!$B$14:$D$63,3,FALSE))","v":""},""]
[null,null,{"$f":"IF(B327=\"\",\"\",VLOOKUP(B327,'Fixture List Individual Files'!$B$14:$D$63,2,FALSE))","v":""},null,{"$f":"IF(B327=\"\",\"\",VLOOKUP(B327,'Fixture List Individual Files'!$B$14:$D$63,3,FALSE))","v":""},"",{"$nulls":4},{"$f":"IF(J327=\"\",\"\",VLOOKUP(J327,'Fixture List Individual Files'!$B$14:$D$63,2,FALSE))","v":""},null,{"$f":"IF(J327=\"\",\"\",VLOOKUP(J327,'Fixture List Individual Files'!$B$14:$D$63,3,FALSE))","v":""},""]
[null,null,{"$f":"IF(B328=\"\",\"\",VLOOKUP(B328,'Fixture List Individual Files'!$B$14:$D$63,2,FALSE))","v":""},null,{"$f":"IF(B328=\"\",\"\",VLOOKUP(B328,'Fixture List Individual Files'!$B$14:$D$63,3,FALSE))","v":""},"",{"$nulls":4},{"$f":"IF(J328=\"\",\"\",VLOOKUP(J328,'Fixture List Individual Files'!$B$14:$D$63,2,FALSE))","v":""},null,{"$f":"IF(J328=\"\",\"\",VLOOKUP(J328,'Fixture List Individual Files'!$B$14:$D$63,3,FALSE))","v":""},""]
[null,null,{"$f":"IF(B329=\"\",\"\",VLOOKUP(B329,'Fixture List Individual Files'!$B$14:$D$63,2,FALSE))","v":""},null,{"$f":"IF(B329=\"\",\"\",VLOOKUP(B329,'Fixture List Individual Files'!$B$14:$D$63,3,FALSE))","v":""},"",{"$nulls":4},{"$f":"IF(J329=\"\",\"\",VLOOKUP(J329,'Fixture List Individual Files'!$B$14:$D$63,2,FALSE))","v":""},null,{"$f":"IF(J329=\"\",\"\",VLOOKUP(J329,'Fixture List Individual Files'!$B$14:$D$63,3,FALSE))","v":""},""]
[null,null,{"$f":"IF(B330=\"\",\"\",VLOOKUP(B330,'Fixture List Individual Files'!$B$14:$D$63,2,FALSE))","v":""},null,{"$f":"IF(B330=\"\",\"\",VLOOKUP(B330,'Fixture List Individual Files'!$B$14:$D$63,3,FALSE))","v":""},"",{"$nulls":4},{"$f":"IF(J330=\"\",\"\",VLOOKUP(J330,'Fixture List Individual Files'!$B$14:$D$63,2,FALSE))","v":""},null,{"$f":"IF(J330=\"\",\"\",VLOOKUP(J330,'Fixture List Individual Files'!$B$14:$D$63,3,FALSE))","v":""},""]
[null,null,{"$f":"IF(B331=\"\",\"\",VLOOKUP(B331,'Fixture List Individual Files'!$B$14:$D$63,2,FALSE))","v":""},null,{"$f":"IF(B331=\"\",\"\",VLOOKUP(B331,'Fixture List Individual Files'!$B$14:$D$63,3,FALSE))","v":""},"",{"$nulls":4},{"$f":"IF(J331=\"\",\"\",VLOOKUP(J331,'Fixture List Individual Files'!$B$14:$D$63,2,FALSE))","v":""},null,{"$f":"IF(J331=\"\",\"\",VLOOKUP(J331,'Fixture List Individual Files'!$B$14:$D$63,3,FALSE))","v":""},""]
[null,null,{"$f":"IF(B332=\"\",\"\",VLOOKUP(B332,'Fixture List Individual Files'!$B$14:$D$63,2,FALSE))","v":""},null,{"$f":"IF(B332=\"\",\"\",VLOOKUP(B332,'Fixture List Individual Files'!$B$14:$D$63,3,FALSE))","v":""},"",{"$nulls":4},{"$f":"IF(J332=\"\",\"\",VLOOKUP(J332,'Fixture List Individual Files'!$B$14:$D$63,2,FALSE))","v":""},null,{"$f":"IF(J332=\"\",\"\",VLOOKUP(J332,'Fixture List Individual Files'!$B$14:$D$63,3,FALSE))","v":""},""]
[null,null,{"$f":"IF(B333=\"\",\"\",VLOOKUP(B333,'Fixture List Individual Files'!$B$14:$D$63,2,FALSE))","v":""},null,{"$f":"IF(B333=\"\",\"\",VLOOKUP(B333,'Fixture List Individual Files'!$B$14:$D$63,3,FALSE))","v":""},"",{"$nulls":4},{"$f":"IF(J333=\"\",\"\",VLOOKUP(J333,'Fixture List Individual Files'!$B$14:$D$63,2,FALSE))","v":""},null,{"$f":"IF(J333=\"\",\"\",VLOOKUP(J333,'Fixture List Individual Files'!$B$14:$D$63,3,FALSE))","v":""},""]
[null,null,{"$f":"IF(B334=\"\",\"\",VLOOKUP(B334,'Fixture List Individual Files'!$B$14:$D$63,2,FALSE))","v":""},null,{"$f":"IF(B334=\"\",\"\",VLOOKUP(B334,'Fixture List Individual Files'!$B$14:$D$63,3,FALSE))","v":""},"",{"$nulls":4},{"$f":"IF(J334=\"\",\"\",VLOOKUP(J334,'Fixture List Individual Files'!$B$14:$D$63,2,FALSE))","v":""},null,{"$f":"IF(J334=\"\",\"\",VLOOKUP(J334,'Fixture List Individual Files'!$B$14:$D$63,3,FALSE))","v":""},""]
[null,null,{"$f":"IF(B335=\"\",\"\",VLOOKUP(B335,'Fixture List Individual Files'!$B$14:$D$63,2,FALSE))","v":""},null,{"$f":"IF(B335=\"\",\"\",VLOOKUP(B335,'Fixture List Individual Files'!$B$14:$D$63,3,FALSE))","v":""},"",{"$nulls":4},{"$f":"IF(J335=\"\",\"\",VLOOKUP(J335,'Fixture List Individual Files'!$B$14:$D$63,2,FALSE))","v":""},null,{"$f":"IF(J335=\"\",\"\",VLOOKUP(J335,'Fixture List Individual Files'!$B$14:$D$63,3,FALSE))","v":""},""]
[null,null,{"$f":"IF(B336=\"\",\"\",VLOOKUP(B336,'Fixture List Individual Files'!$B$14:$D$63,2,FALSE))","v":""},null,{"$f":"IF(B336=\"\",\"\",VLOOKUP(B336,'Fixture List Individual Files'!$B$14:$D$63,3,FALSE))","v":""},"",{"$nulls":4},{"$f":"IF(J336=\"\",\"\",VLOOKUP(J336,'Fixture List Individual Files'!$B$14:$D$63,2,FALSE))","v":""},null,{"$f":"IF(J336=\"\",\"\",VLOOKUP(J336,'Fixture List Individual Files'!$B$14:$D$63,3,FALSE))","v":""},""]
[null,null,{"$f":"IF(B337=\"\",\"\",VLOOKUP(B337,'Fixture List Individual Files'!$B$14:$D$63,2,FALSE))","v":""},null,{"$f":"IF(B337=\"\",\"\",VLOOKUP(B337,'Fixture List Individual Files'!$B$14:$D$63,3,FALSE))","v":""},"",{"$nulls":4},{"$f":"IF(J337=\"\",\"\",VLOOKUP(J337,'Fixture List Individual Files'!$B$14:$D$63,2,FALSE))","v":""},null,{"$f":"IF(J337=\"\",\"\",VLOOKUP(J337,'Fixture List Individual Files'!$B$14:$D$63,3,FALSE))","v":""},""]
[null,null,{"$f":"IF(B338=\"\",\"\",VLOOKUP(B338,'Fixture List Individual Files'!$B$14:$D$63,2,FALSE))","v":""},null,{"$f":"IF(B338=\"\",\"\",VLOOKUP(B338,'Fixture List Individual Files'!$B$14:$D$63,3,FALSE))","v":""},"",{"$nulls":4},{"$f":"IF(J338=\"\",\"\",VLOOKUP(J338,'Fixture List Individual Files'!$B$14:$D$63,2,FALSE))","v":""},null,{"$f":"IF(J338=\"\",\"\",VLOOKUP(J338,'Fixture List Individual Files'!$B$14:$D$63,3,FALSE))","v":""},""]
[null,null,{"$f":"IF(B339=\"\",\"\",VLOOKUP(B339,'Fixture List Individual Files'!$B$14:$D$63,2,FALSE))","v":""},null,{"$f":"IF(B339=\"\",\"\",VLOOKUP(B339,'Fixture List Individual Files'!$B$14:$D$63,3,FALSE))","v":""},"",{"$nulls":4},{"$f":"IF(J339=\"\",\"\",VLOOKUP(J339,'Fixture List Individual Files'!$B$14:$D$63,2,FALSE))","v":""},null,{"$f":"IF(J339=\"\",\"\",VLOOKUP(J339,'Fixture List Individual Files'!$B$14:$D$63,3,FALSE))","v":""},""]
[null,null,{"$f":"IF(B340=\"\",\"\",VLOOKUP(B340,'Fixture List Individual Files'!$B$14:$D$63,2,FALSE))","v":""},null,{"$f":"IF(B340=\"\",\"\",VLOOKUP(B340,'Fixture List Individual Files'!$B$14:$D$63,3,FALSE))","v":""},"",{"$nulls":4},{"$f":"IF(J340=\"\",\"\",VLOOKUP(J340,'Fixture List Individual Files'!$B$14:$D$63,2,FALSE))","v":""},null,{"$f":"IF(J340=\"\",\"\",VLOOKUP(J340,'Fixture List Individual Files'!$B$14:$D$63,3,FALSE))","v":""},""]
[null,null,{"$f":"IF(B341=\"\",\"\",VLOOKUP(B341,'Fixture List Individual Files'!$B$14:$D$63,2,FALSE))","v":""},null,{"$f":"IF(B341=\"\",\"\",VLOOKUP(B341,'Fixture List Individual Files'!$B$14:$D$63,3,FALSE))","v":""},"",{"$nulls":4},{"$f":"IF(J341=\"\",\"\",VLOOKUP(J341,'Fixture List Individual Files'!$B$14:$D$63,2,FALSE))","v":""},null,{"$f":"IF(J341=\"\",\"\",VLOOKUP(J341,'Fixture List Individual Files'!$B$14:$D$63,3,FALSE))","v":""},""]
[null,null,{"$f":"IF(B342=\"\",\"\",VLOOKUP(B342,'Fixture List Individual Files'!$B$14:$D$63,2,FALSE))","v":""},null,{"$f":"IF(B342=\"\",\"\",VLOOKUP(B342,'Fixture List Individual Files'!$B$14:$D$63,3,FALSE))","v":""},"",{"$nulls":4},{"$f":"IF(J342=\"\",\"\",VLOOKUP(J342,'Fixture List Individual Files'!$B$14:$D$63,2,FALSE))","v":""},null,{"$f":"IF(J342=\"\",\"\",VLOOKUP(J342,'Fixture List Individual Files'!$B$14:$D$63,3,FALSE))","v":""},""]
[null,null,{"$f":"IF(B343=\"\",\"\",VLOOKUP(B343,'Fixture List Individual Files'!$B$14:$D$63,2,FALSE))","v":""},null,{"$f":"IF(B343=\"\",\"\",VLOOKUP(B343,'Fixture List Individual Files'!$B$14:$D$63,3,FALSE))","v":""},"",{"$nulls":4},{"$f":"IF(J343=\"\",\"\",VLOOKUP(J343,'Fixture List Individual Files'!$B$14:$D$63,2,FALSE))","v":""},null,{"$f":"IF(J343=\"\",\"\",VLOOKUP(J343,'Fixture List Individual Files'!$B$14:$D$63,3,FALSE))","v":""},""]
[null,null,{"$f":"IF(B344=\"\",\"\",VLOOKUP(B344,'Fixture List Individual Files'!$B$14:$D$63,2,FALSE))","v":""},null,{"$f":"IF(B344=\"\",\"\",VLOOKUP(B344,'Fixture List Individual Files'!$B$14:$D$63,3,FALSE))","v":""},"",{"$nulls":4},{"$f":"IF(J344=\"\",\"\",VLOOKUP(J344,'Fixture List Individual Files'!$B$14:$D$63,2,FALSE))","v":""},null,{"$f":"IF(J344=\"\",\"\",VLOOKUP(J344,'Fixture List Individual Files'!$B$14:$D$63,3,FALSE))","v":""},""]
[null,null,{"$f":"IF(B345=\"\",\"\",VLOOKUP(B345,'Fixture List Individual Files'!$B$14:$D$63,2,FALSE))","v":""},null,{"$f":"IF(B345=\"\",\"\",VLOOKUP(B345,'Fixture List Individual Files'!$B$14:$D$63,3,FALSE))","v":""},"",{"$nulls":4},{"$f":"IF(J345=\"\",\"\",VLOOKUP(J345,'Fixture List Individual Files'!$B$14:$D$63,2,FALSE))","v":""},null,{"$f":"IF(J345=\"\",\"\",VLOOKUP(J345,'Fixture List Individual Files'!$B$14:$D$63,3,FALSE))","v":""},""]
[null,null,{"$f":"IF(B346=\"\",\"\",VLOOKUP(B346,'Fixture List Individual Files'!$B$14:$D$63,2,FALSE))","v":""},null,{"$f":"IF(B346=\"\",\"\",VLOOKUP(B346,'Fixture List Individual Files'!$B$14:$D$63,3,FALSE))","v":""},"",{"$nulls":4},{"$f":"IF(J346=\"\",\"\",VLOOKUP(J346,'Fixture List Individual Files'!$B$14:$D$63,2,FALSE))","v":""},null,{"$f":"IF(J346=\"\",\"\",VLOOKUP(J346,'Fixture List Individual Files'!$B$14:$D$63,3,FALSE))","v":""},""]
[null,null,{"$f":"IF(B347=\"\",\"\",VLOOKUP(B347,'Fixture List Individual Files'!$B$14:$D$63,2,FALSE))","v":""},null,{"$f":"IF(B347=\"\",\"\",VLOOKUP(B347,'Fixture List Individual Files'!$B$14:$D$63,3,FALSE))","v":""},"",{"$nulls":4},{"$f":"IF(J347=\"\",\"\",VLOOKUP(J347,'Fixture List Individual Files'!$B$14:$D$63,2,FALSE))","v":""},null,{"$f":"IF(J347=\"\",\"\",VLOOKUP(J347,'Fixture List Individual Files'!$B$14:$D$63,3,FALSE))","v":""},""]
[null,null,{"$f":"IF(B348=\"\",\"\",VLOOKUP(B348,'Fixture List Individual Files'!$B$14:$D$63,2,FALSE))","v":""},null,{"$f":"IF(B348=\"\",\"\",VLOOKUP(B348,'Fixture List Individual Files'!$B$14:$D$63,3,FALSE))","v":""},"",{"$nulls":4},{"$f":"IF(J348=\"\",\"\",VLOOKUP(J348,'Fixture List Individual Files'!$B$14:$D$63,2,FALSE))","v":""},null,{"$f":"IF(J348=\"\",\"\",VLOOKUP(J348,'Fixture List Individual Files'!$B$14:$D$63,3,FALSE))","v":""},""]
[null,null,"Totals:",{"$f":"SUM(D313:D348)","v":0},null,{"$f":"SUM(F313:F348)","v":0},{"$nulls":4},"Totals:",{"$f":"SUM(L313:L348)","v":0},null,{"$f":"SUM(N313:N348)","v":0}]
[]
[null,"Area 17",{"$nulls":7},"Area 18"]
[null,"Type:","Choose from Drop-down",null,null,{"$f":"IFERROR(VLOOKUP(C352,Admin_Lists!$A$9:$B$41,2,FALSE),\"\")","v":0},"W/sq ft",null,null,"Type:","Choose from Drop-down",null,null,{"$f":"IFERROR(VLOOKUP(K352,Admin_Lists!$A$9:$B$41,2,FALSE),\"\")","v":0},"W/sq ft"]
[null,null,{"$f":"\"Area Description: \"&'Sq. Ft. Area Individual Files'!D25","v":"Area Description: "},{"$nulls":7},{"$f":"\"Area Description: \"&'Sq. Ft. Area Individual Files'!D26","v":"Area Description: "}]
[null,"Fixture Mark","Fixture\nName","Fixture\nCount","Fixture Watts","Total Watts \n(Fixt Count x Fixt Watts)",{"$nulls":3},"Fixture Mark","Fixture\nName","Fixture\nCount","Fixture Watts","Total Watts \n(Fixt Count x Fixt Watts)"]
[]
[null,null,{"$f":"IF(B356=\"\",\"\",VLOOKUP(B356,'Fixture List Individual Files'!$B$14:$D$63,2,FALSE))","v":""},null,{"$f":"IF(B356=\"\",\"\",VLOOKUP(B356,'Fixture List Individual Files'!$B$14:$D$63,3,FALSE))","v":""},{"$f":"IF(E356=\"\",\"\",D356*E356)","v":""},{"$nulls":4},{"$f":"IF(J356=\"\",\"\",VLOOKUP(J356,'Fixture List Individual Files'!$B$14:$D$63,2,FALSE))","v":""},null,{"$f":"IF(J356=\"\",\"\",VLOOKUP(J356,'Fixture List Individual Files'!$B$14:$D$63,3,FALSE))","v":""},{"$f":"IF(M356=\"\",\"\",L356*M356)","v":""}]
[null,null,{"$f":"IF(B357=\"\",\"\",VLOOKUP(B357,'Fixture List Individual Files'!$B$14:$D$63,2,FALSE))","v":""},null,{"$f":"IF(B357=\"\",\"\",VLOOKUP(B357,'Fixture List Individual Files'!$B$14:$D$63,3,FALSE))","v":""},{"$f":"IF(E357=\"\",\"\",D357*E357)","v":""},{"$nulls":4},{"$f":"IF(J357=\"\",\"\",VLOOKUP(J357,'Fixture List Individual Files'!$B$14:$D$63,2,FALSE))","v":""},null,{"$f":"IF(J357=\"\",\"\",VLOOKUP(J357,'Fixture List Individual Files'!$B$14:$D$63,3,FALSE))","v":""},{"$f":"IF(M357=\"\",\"\",L357*M357)","v":""}]
[null,null,{"$f":"IF(B358=\"\",\"\",VLOOKUP(B358,'Fixture List Individual Files'!$B$14:$D$63,2,FALSE))","v":""},null,{"$f":"IF(B358=\"\",\"\",VLOOKUP(B358,'Fixture List Individual Files'!$B$14:$D$63,3,FALSE))","v":""},"",{"$nulls":4},{"$f":"IF(J358=\"\",\"\",VLOOKUP(J358,'Fixture List Individual Files'!$B$14:$D$63,2,FALSE))","v":""},null,{"$f":"IF(J358=\"\",\"\",VLOOKUP(J358,'Fixture List Individual Files'!$B$14:$D$63,3,FALSE))","v":""},""]
[null,null,{"$f":"IF(B359=\"\",\"\",VLOOKUP(B359,'Fixture List Individual Files'!$B$14:$D$63,2,FALSE))","v":""},null,{"$f":"IF(B359=\"\",\"\",VLOOKUP(B359,'Fixture List Individual Files'!$B$14:$D$63,3,FALSE))","v":""},"",{"$nulls":4},{"$f":"IF(J359=\"\",\"\",VLOOKUP(J359,'Fixture List Individual Files'!$B$14:$D$63,2,FALSE))","v":""},null,{"$f":"IF(J359=\"\",\"\",VLOOKUP(J359,'Fixture List Individual Files'!$B$14:$D$63,3,FALSE))","v":""},""]
[null,null,{"$f":"IF(B360=\"\",\"\",VLOOKUP(B360,'Fixture List Individual Files'!$B$14:$D$63,2,FALSE))","v":""},null,{"$f":"IF(B360=\"\",\"\",VLOOKUP(B360,'Fixture List Individual Files'!$B$14:$D$63,3,FALSE))","v":""},"",{"$nulls":4},{"$f":"IF(J360=\"\",\"\",VLOOKUP(J360,'Fixture List Individual Files'!$B$14:$D$63,2,FALSE))","v":""},null,{"$f":"IF(J360=\"\",\"\",VLOOKUP(J360,'Fixture List Individual Files'!$B$14:$D$63,3,FALSE))","v":""},""]
[null,null,{"$f":"IF(B361=\"\",\"\",VLOOKUP(B361,'Fixture List Individual Files'!$B$14:$D$63,2,FALSE))","v":""},null,{"$f":"IF(B361=\"\",\"\",VLOOKUP(B361,'Fixture List Individual Files'!$B$14:$D$63,3,FALSE))","v":""},"",{"$nulls":4},{"$f":"IF(J361=\"\",\"\",VLOOKUP(J361,'Fixture List Individual Files'!$B$14:$D$63,2,FALSE))","v":""},null,{"$f":"IF(J361=\"\",\"\",VLOOKUP(J361,'Fixture List Individual Files'!$B$14:$D$63,3,FALSE))","v":""},""]
[null,null,{"$f":"IF(B362=\"\",\"\",VLOOKUP(B362,'Fixture List Individual Files'!$B$14:$D$63,2,FALSE))","v":""},null,{"$f":"IF(B362=\"\",\"\",VLOOKUP(B362,'Fixture List Individual Files'!$B$14:$D$63,3,FALSE))","v":""},"",{"$nulls":4},{"$f":"IF(J362=\"\",\"\",VLOOKUP(J362,'Fixture List Individual Files'!$B$14:$D$63,2,FALSE))","v":""},null,{"$f":"IF(J362=\"\",\"\",VLOOKUP(J362,'Fixture List Individual Files'!$B$14:$D$63,3,FALSE))","v":""},""]
[null,null,{"$f":"IF(B363=\"\",\"\",VLOOKUP(B363,'Fixture List Individual Files'!$B$14:$D$63,2,FALSE))","v":""},null,{"$f":"IF(B363=\"\",\"\",VLOOKUP(B363,'Fixture List Individual Files'!$B$14:$D$63,3,FALSE))","v":""},"",{"$nulls":4},{"$f":"IF(J363=\"\",\"\",VLOOKUP(J363,'Fixture List Individual Files'!$B$14:$D$63,2,FALSE))","v":""},null,{"$f":"IF(J363=\"\",\"\",VLOOKUP(J363,'Fixture List Individual Files'!$B$14:$D$63,3,FALSE))","v":""},""]
[null,null,{"$f":"IF(B364=\"\",\"\",VLOOKUP(B364,'Fixture List Individual Files'!$B$14:$D$63,2,FALSE))","v":""},null,{"$f":"IF(B364=\"\",\"\",VLOOKUP(B364,'Fixture List Individual Files'!$B$14:$D$63,3,FALSE))","v":""},"",{"$nulls":4},{"$f":"IF(J364=\"\",\"\",VLOOKUP(J364,'Fixture List Individual Files'!$B$14:$D$63,2,FALSE))","v":""},null,{"$f":"IF(J364=\"\",\"\",VLOOKUP(J364,'Fixture List Individual Files'!$B$14:$D$63,3,FALSE))","v":""},""]
[null,null,{"$f":"IF(B365=\"\",\"\",VLOOKUP(B365,'Fixture List Individual Files'!$B$14:$D$63,2,FALSE))","v":""},null,{"$f":"IF(B365=\"\",\"\",VLOOKUP(B365,'Fixture List Individual Files'!$B$14:$D$63,3,FALSE))","v":""},"",{"$nulls":4},{"$f":"IF(J365=\"\",\"\",VLOOKUP(J365,'Fixture List Individual Files'!$B$14:$D$63,2,FALSE))","v":""},null,{"$f":"IF(J365=\"\",\"\",VLOOKUP(J365,'Fixture List Individual Files'!$B$14:$D$63,3,FALSE))","v":""},""]
[null,null,{"$f":"IF(B366=\"\",\"\",VLOOKUP(B366,'Fixture List Individual Files'!$B$14:$D$63,2,FALSE))","v":""},null,{"$f":"IF(B366=\"\",\"\",VLOOKUP(B366,'Fixture List Individual Files'!$B$14:$D$63,3,FALSE))","v":""},"",{"$nulls":4},{"$f":"IF(J366=\"\",\"\",VLOOKUP(J366,'Fixture List Individual Files'!$B$14:$D$63,2,FALSE))","v":""},null,{"$f":"IF(J366=\"\",\"\",VLOOKUP(J366,'Fixture List Individual Files'!$B$14:$D$63,3,FALSE))","v":""},""]
[null,null,{"$f":"IF(B367=\"\",\"\",VLOOKUP(B367,'Fixture List Individual Files'!$B$14:$D$63,2,FALSE))","v":""},null,{"$f":"IF(B367=\"\",\"\",VLOOKUP(B367,'Fixture List Individual Files'!$B$14:$D$63,3,FALSE))","v":""},"",{"$nulls":4},{"$f":"IF(J367=\"\",\"\",VLOOKUP(J367,'Fixture List Individual Files'!$B$14:$D$63,2,FALSE))","v":""},null,{"$f":"IF(J367=\"\",\"\",VLOOKUP(J367,'Fixture List Individual Files'!$B$14:$D$63,3,FALSE))","v":""},""]
[null,null,{"$f":"IF(B368=\"\",\"\",VLOOKUP(B368,'Fixture List Individual Files'!$B$14:$D$63,2,FALSE))","v":""},null,{"$f":"IF(B368=\"\",\"\",VLOOKUP(B368,'Fixture List Individual Files'!$B$14:$D$63,3,FALSE))","v":""},"",{"$nulls":4},{"$f":"IF(J368=\"\",\"\",VLOOKUP(J368,'Fixture List Individual Files'!$B$14:$D$63,2,FALSE))","v":""},null,{"$f":"IF(J368=\"\",\"\",VLOOKUP(J368,'Fixture List Individual Files'!$B$14:$D$63,3,FALSE))","v":""},""]
[null,null,{"$f":"IF(B369=\"\",\"\",VLOOKUP(B369,'Fixture List Individual Files'!$B$14:$D$63,2,FALSE))","v":""},null,{"$f":"IF(B369=\"\",\"\",VLOOKUP(B369,'Fixture List Individual Files'!$B$14:$D$63,3,FALSE))","v":""},"",{"$nulls":4},{"$f":"IF(J369=\"\",\"\",VLOOKUP(J369,'Fixture List Individual Files'!$B$14:$D$63,2,FALSE))","v":""},null,{"$f":"IF(J369=\"\",\"\",VLOOKUP(J369,'Fixture List Individual Files'!$B$14:$D$63,3,FALSE))","v":""},""]
[null,null,{"$f":"IF(B370=\"\",\"\",VLOOKUP(B370,'Fixture List Individual Files'!$B$14:$D$63,2,FALSE))","v":""},null,{"$f":"IF(B370=\"\",\"\",VLOOKUP(B370,'Fixture List Individual Files'!$B$14:$D$63,3,FALSE))","v":""},"",{"$nulls":4},{"$f":"IF(J370=\"\",\"\",VLOOKUP(J370,'Fixture List Individual Files'!$B$14:$D$63,2,FALSE))","v":""},null,{"$f":"IF(J370=\"\",\"\",VLOOKUP(J370,'Fixture List Individual Files'!$B$14:$D$63,3,FALSE))","v":""},""]
[null,null,{"$f":"IF(B371=\"\",\"\",VLOOKUP(B371,'Fixture List Individual Files'!$B$14:$D$63,2,FALSE))","v":""},null,{"$f":"IF(B371=\"\",\"\",VLOOKUP(B371,'Fixture List Individual Files'!$B$14:$D$63,3,FALSE))","v":""},"",{"$nulls":4},{"$f":"IF(J371=\"\",\"\",VLOOKUP(J371,'Fixture List Individual Files'!$B$14:$D$63,2,FALSE))","v":""},null,{"$f":"IF(J371=\"\",\"\",VLOOKUP(J371,'Fixture List Individual Files'!$B$14:$D$63,3,FALSE))","v":""},""]
[null,null,{"$f":"IF(B372=\"\",\"\",VLOOKUP(B372,'Fixture List Individual Files'!$B$14:$D$63,2,FALSE))","v":""},null,{"$f":"IF(B372=\"\",\"\",VLOOKUP(B372,'Fixture List Individual Files'!$B$14:$D$63,3,FALSE))","v":""},"",{"$nulls":4},{"$f":"IF(J372=\"\",\"\",VLOOKUP(J372,'Fixture List Individual Files'!$B$14:$D$63,2,FALSE))","v":""},null,{"$f":"IF(J372=\"\",\"\",VLOOKUP(J372,'Fixture List Individual Files'!$B$14:$D$63,3,FALSE))","v":""},""]
[null,null,{"$f":"IF(B373=\"\",\"\",VLOOKUP(B373,'Fixture List Individual Files'!$B$14:$D$63,2,FALSE))","v":""},null,{"$f":"IF(B373=\"\",\"\",VLOOKUP(B373,'Fixture List Individual Files'!$B$14:$D$63,3,FALSE))","v":""},"",{"$nulls":4},{"$f":"IF(J373=\"\",\"\",VLOOKUP(J373,'Fixture List Individual Files'!$B$14:$D$63,2,FALSE))","v":""},null,{"$f":"IF(J373=\"\",\"\",VLOOKUP(J373,'Fixture List Individual Files'!$B$14:$D$63,3,FALSE))","v":""},""]
[null,null,{"$f":"IF(B374=\"\",\"\",VLOOKUP(B374,'Fixture List Individual Files'!$B$14:$D$63,2,FALSE))","v":""},null,{"$f":"IF(B374=\"\",\"\",VLOOKUP(B374,'Fixture List Individual Files'!$B$14:$D$63,3,FALSE))","v":""},"",{"$nulls":4},{"$f":"IF(J374=\"\",\"\",VLOOKUP(J374,'Fixture List Individual Files'!$B$14:$D$63,2,FALSE))","v":""},null,{"$f":"IF(J374=\"\",\"\",VLOOKUP(J374,'Fixture List Individual Files'!$B$14:$D$63,3,FALSE))","v":""},""]
[null,null,{"$f":"IF(B375=\"\",\"\",VLOOKUP(B375,'Fixture List Individual Files'!$B$14:$D$63,2,FALSE))","v":""},null,{"$f":"IF(B375=\"\",\"\",VLOOKUP(B375,'Fixture List Individual Files'!$B$14:$D$63,3,FALSE))","v":""},"",{"$nulls":4},{"$f":"IF(J375=\"\",\"\",VLOOKUP(J375,'Fixture List Individual Files'!$B$14:$D$63,2,FALSE))","v":""},null,{"$f":"IF(J375=\"\",\"\",VLOOKUP(J375,'Fixture List Individual Files'!$B$14:$D$63,3,FALSE))","v":""},""]
[null,null,{"$f":"IF(B376=\"\",\"\",VLOOKUP(B376,'Fixture List Individual Files'!$B$14:$D$63,2,FALSE))","v":""},null,{"$f":"IF(B376=\"\",\"\",VLOOKUP(B376,'Fixture List Individual Files'!$B$14:$D$63,3,FALSE))","v":""},"",{"$nulls":4},{"$f":"IF(J376=\"\",\"\",VLOOKUP(J376,'Fixture List Individual Files'!$B$14:$D$63,2,FALSE))","v":""},null,{"$f":"IF(J376=\"\",\"\",VLOOKUP(J376,'Fixture List Individual Files'!$B$14:$D$63,3,FALSE))","v":""},""]
[null,null,{"$f":"IF(B377=\"\",\"\",VLOOKUP(B377,'Fixture List Individual Files'!$B$14:$D$63,2,FALSE))","v":""},null,{"$f":"IF(B377=\"\",\"\",VLOOKUP(B377,'Fixture List Individual Files'!$B$14:$D$63,3,FALSE))","v":""},"",{"$nulls":4},{"$f":"IF(J377=\"\",\"\",VLOOKUP(J377,'Fixture List Individual Files'!$B$14:$D$63,2,FALSE))","v":""},null,{"$f":"IF(J377=\"\",\"\",VLOOKUP(J377,'Fixture List Individual Files'!$B$14:$D$63,3,FALSE))","v":""},""]
[null,null,{"$f":"IF(B378=\"\",\"\",VLOOKUP(B378,'Fixture List Individual Files'!$B$14:$D$63,2,FALSE))","v":""},null,{"$f":"IF(B378=\"\",\"\",VLOOKUP(B378,'Fixture List Individual Files'!$B$14:$D$63,3,FALSE))","v":""},"",{"$nulls":4},{"$f":"IF(J378=\"\",\"\",VLOOKUP(J378,'Fixture List Individual Files'!$B$14:$D$63,2,FALSE))","v":""},null,{"$f":"IF(J378=\"\",\"\",VLOOKUP(J378,'Fixture List Individual Files'!$B$14:$D$63,3,FALSE))","v":""},""]
[null,null,{"$f":"IF(B379=\"\",\"\",VLOOKUP(B379,'Fixture List Individual Files'!$B$14:$D$63,2,FALSE))","v":""},null,{"$f":"IF(B379=\"\",\"\",VLOOKUP(B379,'Fixture List Individual Files'!$B$14:$D$63,3,FALSE))","v":""},"",{"$nulls":4},{"$f":"IF(J379=\"\",\"\",VLOOKUP(J379,'Fixture List Individual Files'!$B$14:$D$63,2,FALSE))","v":""},null,{"$f":"IF(J379=\"\",\"\",VLOOKUP(J379,'Fixture List Individual Files'!$B$14:$D$63,3,FALSE))","v":""},""]
[null,null,{"$f":"IF(B380=\"\",\"\",VLOOKUP(B380,'Fixture List Individual Files'!$B$14:$D$63,2,FALSE))","v":""},null,{"$f":"IF(B380=\"\",\"\",VLOOKUP(B380,'Fixture List Individual Files'!$B$14:$D$63,3,FALSE))","v":""},"",{"$nulls":4},{"$f":"IF(J380=\"\",\"\",VLOOKUP(J380,'Fixture List Individual Files'!$B$14:$D$63,2,FALSE))","v":""},null,{"$f":"IF(J380=\"\",\"\",VLOOKUP(J380,'Fixture List Individual Files'!$B$14:$D$63,3,FALSE))","v":""},""]
[null,null,{"$f":"IF(B381=\"\",\"\",VLOOKUP(B381,'Fixture List Individual Files'!$B$14:$D$63,2,FALSE))","v":""},null,{"$f":"IF(B381=\"\",\"\",VLOOKUP(B381,'Fixture List Individual Files'!$B$14:$D$63,3,FALSE))","v":""},"",{"$nulls":4},{"$f":"IF(J381=\"\",\"\",VLOOKUP(J381,'Fixture List Individual Files'!$B$14:$D$63,2,FALSE))","v":""},null,{"$f":"IF(J381=\"\",\"\",VLOOKUP(J381,'Fixture List Individual Files'!$B$14:$D$63,3,FALSE))","v":""},""]
[null,null,{"$f":"IF(B382=\"\",\"\",VLOOKUP(B382,'Fixture List Individual Files'!$B$14:$D$63,2,FALSE))","v":""},null,{"$f":"IF(B382=\"\",\"\",VLOOKUP(B382,'Fixture List Individual Files'!$B$14:$D$63,3,FALSE))","v":""},"",{"$nulls":4},{"$f":"IF(J382=\"\",\"\",VLOOKUP(J382,'Fixture List Individual Files'!$B$14:$D$63,2,FALSE))","v":""},null,{"$f":"IF(J382=\"\",\"\",VLOOKUP(J382,'Fixture List Individual Files'!$B$14:$D$63,3,FALSE))","v":""},""]
[null,null,{"$f":"IF(B383=\"\",\"\",VLOOKUP(B383,'Fixture List Individual Files'!$B$14:$D$63,2,FALSE))","v":""},null,{"$f":"IF(B383=\"\",\"\",VLOOKUP(B383,'Fixture List Individual Files'!$B$14:$D$63,3,FALSE))","v":""},"",{"$nulls":4},{"$f":"IF(J383=\"\",\"\",VLOOKUP(J383,'Fixture List Individual Files'!$B$14:$D$63,2,FALSE))","v":""},null,{"$f":"IF(J383=\"\",\"\",VLOOKUP(J383,'Fixture List Individual Files'!$B$14:$D$63,3,FALSE))","v":""},""]
[null,null,{"$f":"IF(B384=\"\",\"\",VLOOKUP(B384,'Fixture List Individual Files'!$B$14:$D$63,2,FALSE))","v":""},null,{"$f":"IF(B384=\"\",\"\",VLOOKUP(B384,'Fixture List Individual Files'!$B$14:$D$63,3,FALSE))","v":""},"",{"$nulls":4},{"$f":"IF(J384=\"\",\"\",VLOOKUP(J384,'Fixture List Individual Files'!$B$14:$D$63,2,FALSE))","v":""},null,{"$f":"IF(J384=\"\",\"\",VLOOKUP(J384,'Fixture List Individual Files'!$B$14:$D$63,3,FALSE))","v":""},""]
[null,null,{"$f":"IF(B385=\"\",\"\",VLOOKUP(B385,'Fixture List Individual Files'!$B$14:$D$63,2,FALSE))","v":""},null,{"$f":"IF(B385=\"\",\"\",VLOOKUP(B385,'Fixture List Individual Files'!$B$14:$D$63,3,FALSE))","v":""},"",{"$nulls":4},{"$f":"IF(J385=\"\",\"\",VLOOKUP(J385,'Fixture List Individual Files'!$B$14:$D$63,2,FALSE))","v":""},null,{"$f":"IF(J385=\"\",\"\",VLOOKUP(J385,'Fixture List Individual Files'!$B$14:$D$63,3,FALSE))","v":""},""]
[null,null,{"$f":"IF(B386=\"\",\"\",VLOOKUP(B386,'Fixture List Individual Files'!$B$14:$D$63,2,FALSE))","v":""},null,{"$f":"IF(B386=\"\",\"\",VLOOKUP(B386,'Fixture List Individual Files'!$B$14:$D$63,3,FALSE))","v":""},"",{"$nulls":4},{"$f":"IF(J386=\"\",\"\",VLOOKUP(J386,'Fixture List Individual Files'!$B$14:$D$63,2,FALSE))","v":""},null,{"$f":"IF(J386=\"\",\"\",VLOOKUP(J386,'Fixture List Individual Files'!$B$14:$D$63,3,FALSE))","v":""},""]
[null,null,{"$f":"IF(B387=\"\",\"\",VLOOKUP(B387,'Fixture List Individual Files'!$B$14:$D$63,2,FALSE))","v":""},null,{"$f":"IF(B387=\"\",\"\",VLOOKUP(B387,'Fixture List Individual Files'!$B$14:$D$63,3,FALSE))","v":""},"",{"$nulls":4},{"$f":"IF(J387=\"\",\"\",VLOOKUP(J387,'Fixture List Individual Files'!$B$14:$D$63,2,FALSE))","v":""},null,{"$f":"IF(J387=\"\",\"\",VLOOKUP(J387,'Fixture List Individual Files'!$B$14:$D$63,3,FALSE))","v":""},""]
[null,"K",{"$f":"IF(B388=\"\",\"\",VLOOKUP(B388,'Fixture List Individual Files'!$B$14:$D$63,2,FALSE))","v":{"$error":"#N/A"}},{"v":4000,"d":"4,000"},{"$f":"IF(B388=\"\",\"\",VLOOKUP(B388,'Fixture List Individual Files'!$B$14:$D$63,3,FALSE))","v":{"$error":"#N/A"}},{"$error":"#N/A"},{"$nulls":4},{"$f":"IF(J388=\"\",\"\",VLOOKUP(J388,'Fixture List Individual Files'!$B$14:$D$63,2,FALSE))","v":""},null,{"$f":"IF(J388=\"\",\"\",VLOOKUP(J388,'Fixture List Individual Files'!$B$14:$D$63,3,FALSE))","v":""},""]
[null,null,{"$f":"IF(B389=\"\",\"\",VLOOKUP(B389,'Fixture List Individual Files'!$B$14:$D$63,2,FALSE))","v":""},null,{"$f":"IF(B389=\"\",\"\",VLOOKUP(B389,'Fixture List Individual Files'!$B$14:$D$63,3,FALSE))","v":""},"",{"$nulls":4},{"$f":"IF(J389=\"\",\"\",VLOOKUP(J389,'Fixture List Individual Files'!$B$14:$D$63,2,FALSE))","v":""},null,{"$f":"IF(J389=\"\",\"\",VLOOKUP(J389,'Fixture List Individual Files'!$B$14:$D$63,3,FALSE))","v":""},""]
[null,null,{"$f":"IF(B390=\"\",\"\",VLOOKUP(B390,'Fixture List Individual Files'!$B$14:$D$63,2,FALSE))","v":""},null,{"$f":"IF(B390=\"\",\"\",VLOOKUP(B390,'Fixture List Individual Files'!$B$14:$D$63,3,FALSE))","v":""},"",{"$nulls":4},{"$f":"IF(J390=\"\",\"\",VLOOKUP(J390,'Fixture List Individual Files'!$B$14:$D$63,2,FALSE))","v":""},null,{"$f":"IF(J390=\"\",\"\",VLOOKUP(J390,'Fixture List Individual Files'!$B$14:$D$63,3,FALSE))","v":""},""]
[null,null,{"$f":"IF(B391=\"\",\"\",VLOOKUP(B391,'Fixture List Individual Files'!$B$14:$D$63,2,FALSE))","v":""},null,{"$f":"IF(B391=\"\",\"\",VLOOKUP(B391,'Fixture List Individual Files'!$B$14:$D$63,3,FALSE))","v":""},"",{"$nulls":4},{"$f":"IF(J391=\"\",\"\",VLOOKUP(J391,'Fixture List Individual Files'!$B$14:$D$63,2,FALSE))","v":""},null,{"$f":"IF(J391=\"\",\"\",VLOOKUP(J391,'Fixture List Individual Files'!$B$14:$D$63,3,FALSE))","v":""},""]
[null,null,"Totals:",{"$f":"SUM(D356:D391)","v":{"v":4000,"d":"4,000"}},null,{"$f":"SUM(F356:F391)","v":{"$error":"#N/A"}},{"$nulls":4},"Totals:",{"$f":"SUM(L356:L391)","v":0},null,{"$f":"SUM(N356:N391)","v":0}]
[]
[null,"Area 19",{"$nulls":7},"Area 20"]
[null,"Type:","Choose from Drop-down",null,null,{"$f":"IFERROR(VLOOKUP(C395,Admin_Lists!$A$9:$B$41,2,FALSE),\"\")","v":0},"W/sq ft",null,null,"Type:","Choose from Drop-down",null,null,{"$f":"IFERROR(VLOOKUP(K395,Admin_Lists!$A$9:$B$41,2,FALSE),\"\")","v":0},"W/sq ft"]
[null,null,{"$f":"\"Area Description: \"&'Sq. Ft. Area Individual Files'!D27","v":"Area Description: "},{"$nulls":7},{"$f":"\"Area Description: \"&'Sq. Ft. Area Individual Files'!D28","v":"Area Description: "}]
[null,"Fixture Mark","Fixture\nName","Fixture\nCount","Fixture Watts","Total Watts \n(Fixt Count x Fixt Watts)",{"$nulls":3},"Fixture Mark","Fixture\nName","Fixture\nCount","Fixture Watts","Total Watts \n(Fixt Count x Fixt Watts)"]
[]
[null,null,{"$f":"IF(B399=\"\",\"\",VLOOKUP(B399,'Fixture List Individual Files'!$B$14:$D$63,2,FALSE))","v":""},null,{"$f":"IF(B399=\"\",\"\",VLOOKUP(B399,'Fixture List Individual Files'!$B$14:$D$63,3,FALSE))","v":""},{"$f":"IF(E399=\"\",\"\",D399*E399)","v":""},{"$nulls":4},{"$f":"IF(J399=\"\",\"\",VLOOKUP(J399,'Fixture List Individual Files'!$B$14:$D$63,2,FALSE))","v":""},null,{"$f":"IF(J399=\"\",\"\",VLOOKUP(J399,'Fixture List Individual Files'!$B$14:$D$63,3,FALSE))","v":""},{"$f":"IF(M399=\"\",\"\",L399*M399)","v":""}]
[null,null,{"$f":"IF(B400=\"\",\"\",VLOOKUP(B400,'Fixture List Individual Files'!$B$14:$D$63,2,FALSE))","v":""},null,{"$f":"IF(B400=\"\",\"\",VLOOKUP(B400,'Fixture List Individual Files'!$B$14:$D$63,3,FALSE))","v":""},{"$f":"IF(E400=\"\",\"\",D400*E400)","v":""},{"$nulls":4},{"$f":"IF(J400=\"\",\"\",VLOOKUP(J400,'Fixture List Individual Files'!$B$14:$D$63,2,FALSE))","v":""},null,{"$f":"IF(J400=\"\",\"\",VLOOKUP(J400,'Fixture List Individual Files'!$B$14:$D$63,3,FALSE))","v":""},{"$f":"IF(M400=\"\",\"\",L400*M400)","v":""}]
[null,null,{"$f":"IF(B401=\"\",\"\",VLOOKUP(B401,'Fixture List Individual Files'!$B$14:$D$63,2,FALSE))","v":""},null,{"$f":"IF(B401=\"\",\"\",VLOOKUP(B401,'Fixture List Individual Files'!$B$14:$D$63,3,FALSE))","v":""},"",{"$nulls":4},{"$f":"IF(J401=\"\",\"\",VLOOKUP(J401,'Fixture List Individual Files'!$B$14:$D$63,2,FALSE))","v":""},null,{"$f":"IF(J401=\"\",\"\",VLOOKUP(J401,'Fixture List Individual Files'!$B$14:$D$63,3,FALSE))","v":""},""]
[null,null,{"$f":"IF(B402=\"\",\"\",VLOOKUP(B402,'Fixture List Individual Files'!$B$14:$D$63,2,FALSE))","v":""},null,{"$f":"IF(B402=\"\",\"\",VLOOKUP(B402,'Fixture List Individual Files'!$B$14:$D$63,3,FALSE))","v":""},"",{"$nulls":4},{"$f":"IF(J402=\"\",\"\",VLOOKUP(J402,'Fixture List Individual Files'!$B$14:$D$63,2,FALSE))","v":""},null,{"$f":"IF(J402=\"\",\"\",VLOOKUP(J402,'Fixture List Individual Files'!$B$14:$D$63,3,FALSE))","v":""},""]
[null,null,{"$f":"IF(B403=\"\",\"\",VLOOKUP(B403,'Fixture List Individual Files'!$B$14:$D$63,2,FALSE))","v":""},null,{"$f":"IF(B403=\"\",\"\",VLOOKUP(B403,'Fixture List Individual Files'!$B$14:$D$63,3,FALSE))","v":""},"",{"$nulls":4},{"$f":"IF(J403=\"\",\"\",VLOOKUP(J403,'Fixture List Individual Files'!$B$14:$D$63,2,FALSE))","v":""},null,{"$f":"IF(J403=\"\",\"\",VLOOKUP(J403,'Fixture List Individual Files'!$B$14:$D$63,3,FALSE))","v":""},""]
[null,null,{"$f":"IF(B404=\"\",\"\",VLOOKUP(B404,'Fixture List Individual Files'!$B$14:$D$63,2,FALSE))","v":""},null,{"$f":"IF(B404=\"\",\"\",VLOOKUP(B404,'Fixture List Individual Files'!$B$14:$D$63,3,FALSE))","v":""},"",{"$nulls":4},{"$f":"IF(J404=\"\",\"\",VLOOKUP(J404,'Fixture List Individual Files'!$B$14:$D$63,2,FALSE))","v":""},null,{"$f":"IF(J404=\"\",\"\",VLOOKUP(J404,'Fixture List Individual Files'!$B$14:$D$63,3,FALSE))","v":""},""]
[null,null,{"$f":"IF(B405=\"\",\"\",VLOOKUP(B405,'Fixture List Individual Files'!$B$14:$D$63,2,FALSE))","v":""},null,{"$f":"IF(B405=\"\",\"\",VLOOKUP(B405,'Fixture List Individual Files'!$B$14:$D$63,3,FALSE))","v":""},"",{"$nulls":4},{"$f":"IF(J405=\"\",\"\",VLOOKUP(J405,'Fixture List Individual Files'!$B$14:$D$63,2,FALSE))","v":""},null,{"$f":"IF(J405=\"\",\"\",VLOOKUP(J405,'Fixture List Individual Files'!$B$14:$D$63,3,FALSE))","v":""},""]
[null,null,{"$f":"IF(B406=\"\",\"\",VLOOKUP(B406,'Fixture List Individual Files'!$B$14:$D$63,2,FALSE))","v":""},null,{"$f":"IF(B406=\"\",\"\",VLOOKUP(B406,'Fixture List Individual Files'!$B$14:$D$63,3,FALSE))","v":""},"",{"$nulls":4},{"$f":"IF(J406=\"\",\"\",VLOOKUP(J406,'Fixture List Individual Files'!$B$14:$D$63,2,FALSE))","v":""},null,{"$f":"IF(J406=\"\",\"\",VLOOKUP(J406,'Fixture List Individual Files'!$B$14:$D$63,3,FALSE))","v":""},""]
[null,null,{"$f":"IF(B407=\"\",\"\",VLOOKUP(B407,'Fixture List Individual Files'!$B$14:$D$63,2,FALSE))","v":""},null,{"$f":"IF(B407=\"\",\"\",VLOOKUP(B407,'Fixture List Individual Files'!$B$14:$D$63,3,FALSE))","v":""},"",{"$nulls":4},{"$f":"IF(J407=\"\",\"\",VLOOKUP(J407,'Fixture List Individual Files'!$B$14:$D$63,2,FALSE))","v":""},null,{"$f":"IF(J407=\"\",\"\",VLOOKUP(J407,'Fixture List Individual Files'!$B$14:$D$63,3,FALSE))","v":""},""]
[null,null,{"$f":"IF(B408=\"\",\"\",VLOOKUP(B408,'Fixture List Individual Files'!$B$14:$D$63,2,FALSE))","v":""},null,{"$f":"IF(B408=\"\",\"\",VLOOKUP(B408,'Fixture List Individual Files'!$B$14:$D$63,3,FALSE))","v":""},"",{"$nulls":4},{"$f":"IF(J408=\"\",\"\",VLOOKUP(J408,'Fixture List Individual Files'!$B$14:$D$63,2,FALSE))","v":""},null,{"$f":"IF(J408=\"\",\"\",VLOOKUP(J408,'Fixture List Individual Files'!$B$14:$D$63,3,FALSE))","v":""},""]
[null,null,{"$f":"IF(B409=\"\",\"\",VLOOKUP(B409,'Fixture List Individual Files'!$B$14:$D$63,2,FALSE))","v":""},null,{"$f":"IF(B409=\"\",\"\",VLOOKUP(B409,'Fixture List Individual Files'!$B$14:$D$63,3,FALSE))","v":""},"",{"$nulls":4},{"$f":"IF(J409=\"\",\"\",VLOOKUP(J409,'Fixture List Individual Files'!$B$14:$D$63,2,FALSE))","v":""},null,{"$f":"IF(J409=\"\",\"\",VLOOKUP(J409,'Fixture List Individual Files'!$B$14:$D$63,3,FALSE))","v":""},""]
[null,null,{"$f":"IF(B410=\"\",\"\",VLOOKUP(B410,'Fixture List Individual Files'!$B$14:$D$63,2,FALSE))","v":""},null,{"$f":"IF(B410=\"\",\"\",VLOOKUP(B410,'Fixture List Individual Files'!$B$14:$D$63,3,FALSE))","v":""},"",{"$nulls":4},{"$f":"IF(J410=\"\",\"\",VLOOKUP(J410,'Fixture List Individual Files'!$B$14:$D$63,2,FALSE))","v":""},null,{"$f":"IF(J410=\"\",\"\",VLOOKUP(J410,'Fixture List Individual Files'!$B$14:$D$63,3,FALSE))","v":""},""]
[null,null,{"$f":"IF(B411=\"\",\"\",VLOOKUP(B411,'Fixture List Individual Files'!$B$14:$D$63,2,FALSE))","v":""},null,{"$f":"IF(B411=\"\",\"\",VLOOKUP(B411,'Fixture List Individual Files'!$B$14:$D$63,3,FALSE))","v":""},"",{"$nulls":4},{"$f":"IF(J411=\"\",\"\",VLOOKUP(J411,'Fixture List Individual Files'!$B$14:$D$63,2,FALSE))","v":""},null,{"$f":"IF(J411=\"\",\"\",VLOOKUP(J411,'Fixture List Individual Files'!$B$14:$D$63,3,FALSE))","v":""},""]
[null,null,{"$f":"IF(B412=\"\",\"\",VLOOKUP(B412,'Fixture List Individual Files'!$B$14:$D$63,2,FALSE))","v":""},null,{"$f":"IF(B412=\"\",\"\",VLOOKUP(B412,'Fixture List Individual Files'!$B$14:$D$63,3,FALSE))","v":""},"",{"$nulls":4},{"$f":"IF(J412=\"\",\"\",VLOOKUP(J412,'Fixture List Individual Files'!$B$14:$D$63,2,FALSE))","v":""},null,{"$f":"IF(J412=\"\",\"\",VLOOKUP(J412,'Fixture List Individual Files'!$B$14:$D$63,3,FALSE))","v":""},""]
[null,null,{"$f":"IF(B413=\"\",\"\",VLOOKUP(B413,'Fixture List Individual Files'!$B$14:$D$63,2,FALSE))","v":""},null,{"$f":"IF(B413=\"\",\"\",VLOOKUP(B413,'Fixture List Individual Files'!$B$14:$D$63,3,FALSE))","v":""},"",{"$nulls":4},{"$f":"IF(J413=\"\",\"\",VLOOKUP(J413,'Fixture List Individual Files'!$B$14:$D$63,2,FALSE))","v":""},null,{"$f":"IF(J413=\"\",\"\",VLOOKUP(J413,'Fixture List Individual Files'!$B$14:$D$63,3,FALSE))","v":""},""]
[null,null,{"$f":"IF(B414=\"\",\"\",VLOOKUP(B414,'Fixture List Individual Files'!$B$14:$D$63,2,FALSE))","v":""},null,{"$f":"IF(B414=\"\",\"\",VLOOKUP(B414,'Fixture List Individual Files'!$B$14:$D$63,3,FALSE))","v":""},"",{"$nulls":4},{"$f":"IF(J414=\"\",\"\",VLOOKUP(J414,'Fixture List Individual Files'!$B$14:$D$63,2,FALSE))","v":""},null,{"$f":"IF(J414=\"\",\"\",VLOOKUP(J414,'Fixture List Individual Files'!$B$14:$D$63,3,FALSE))","v":""},""]
[null,null,{"$f":"IF(B415=\"\",\"\",VLOOKUP(B415,'Fixture List Individual Files'!$B$14:$D$63,2,FALSE))","v":""},null,{"$f":"IF(B415=\"\",\"\",VLOOKUP(B415,'Fixture List Individual Files'!$B$14:$D$63,3,FALSE))","v":""},"",{"$nulls":4},{"$f":"IF(J415=\"\",\"\",VLOOKUP(J415,'Fixture List Individual Files'!$B$14:$D$63,2,FALSE))","v":""},null,{"$f":"IF(J415=\"\",\"\",VLOOKUP(J415,'Fixture List Individual Files'!$B$14:$D$63,3,FALSE))","v":""},""]
[null,null,{"$f":"IF(B416=\"\",\"\",VLOOKUP(B416,'Fixture List Individual Files'!$B$14:$D$63,2,FALSE))","v":""},null,{"$f":"IF(B416=\"\",\"\",VLOOKUP(B416,'Fixture List Individual Files'!$B$14:$D$63,3,FALSE))","v":""},"",{"$nulls":4},{"$f":"IF(J416=\"\",\"\",VLOOKUP(J416,'Fixture List Individual Files'!$B$14:$D$63,2,FALSE))","v":""},null,{"$f":"IF(J416=\"\",\"\",VLOOKUP(J416,'Fixture List Individual Files'!$B$14:$D$63,3,FALSE))","v":""},""]
[null,null,{"$f":"IF(B417=\"\",\"\",VLOOKUP(B417,'Fixture List Individual Files'!$B$14:$D$63,2,FALSE))","v":""},null,{"$f":"IF(B417=\"\",\"\",VLOOKUP(B417,'Fixture List Individual Files'!$B$14:$D$63,3,FALSE))","v":""},"",{"$nulls":4},{"$f":"IF(J417=\"\",\"\",VLOOKUP(J417,'Fixture List Individual Files'!$B$14:$D$63,2,FALSE))","v":""},null,{"$f":"IF(J417=\"\",\"\",VLOOKUP(J417,'Fixture List Individual Files'!$B$14:$D$63,3,FALSE))","v":""},""]
[null,null,{"$f":"IF(B418=\"\",\"\",VLOOKUP(B418,'Fixture List Individual Files'!$B$14:$D$63,2,FALSE))","v":""},null,{"$f":"IF(B418=\"\",\"\",VLOOKUP(B418,'Fixture List Individual Files'!$B$14:$D$63,3,FALSE))","v":""},"",{"$nulls":4},{"$f":"IF(J418=\"\",\"\",VLOOKUP(J418,'Fixture List Individual Files'!$B$14:$D$63,2,FALSE))","v":""},null,{"$f":"IF(J418=\"\",\"\",VLOOKUP(J418,'Fixture List Individual Files'!$B$14:$D$63,3,FALSE))","v":""},""]
[null,null,{"$f":"IF(B419=\"\",\"\",VLOOKUP(B419,'Fixture List Individual Files'!$B$14:$D$63,2,FALSE))","v":""},null,{"$f":"IF(B419=\"\",\"\",VLOOKUP(B419,'Fixture List Individual Files'!$B$14:$D$63,3,FALSE))","v":""},"",{"$nulls":4},{"$f":"IF(J419=\"\",\"\",VLOOKUP(J419,'Fixture List Individual Files'!$B$14:$D$63,2,FALSE))","v":""},null,{"$f":"IF(J419=\"\",\"\",VLOOKUP(J419,'Fixture List Individual Files'!$B$14:$D$63,3,FALSE))","v":""},""]
[null,null,{"$f":"IF(B420=\"\",\"\",VLOOKUP(B420,'Fixture List Individual Files'!$B$14:$D$63,2,FALSE))","v":""},null,{"$f":"IF(B420=\"\",\"\",VLOOKUP(B420,'Fixture List Individual Files'!$B$14:$D$63,3,FALSE))","v":""},"",{"$nulls":4},{"$f":"IF(J420=\"\",\"\",VLOOKUP(J420,'Fixture List Individual Files'!$B$14:$D$63,2,FALSE))","v":""},null,{"$f":"IF(J420=\"\",\"\",VLOOKUP(J420,'Fixture List Individual Files'!$B$14:$D$63,3,FALSE))","v":""},""]
[null,null,{"$f":"IF(B421=\"\",\"\",VLOOKUP(B421,'Fixture List Individual Files'!$B$14:$D$63,2,FALSE))","v":""},null,{"$f":"IF(B421=\"\",\"\",VLOOKUP(B421,'Fixture List Individual Files'!$B$14:$D$63,3,FALSE))","v":""},"",{"$nulls":4},{"$f":"IF(J421=\"\",\"\",VLOOKUP(J421,'Fixture List Individual Files'!$B$14:$D$63,2,FALSE))","v":""},null,{"$f":"IF(J421=\"\",\"\",VLOOKUP(J421,'Fixture List Individual Files'!$B$14:$D$63,3,FALSE))","v":""},""]
[null,null,{"$f":"IF(B422=\"\",\"\",VLOOKUP(B422,'Fixture List Individual Files'!$B$14:$D$63,2,FALSE))","v":""},null,{"$f":"IF(B422=\"\",\"\",VLOOKUP(B422,'Fixture List Individual Files'!$B$14:$D$63,3,FALSE))","v":""},"",{"$nulls":4},{"$f":"IF(J422=\"\",\"\",VLOOKUP(J422,'Fixture List Individual Files'!$B$14:$D$63,2,FALSE))","v":""},null,{"$f":"IF(J422=\"\",\"\",VLOOKUP(J422,'Fixture List Individual Files'!$B$14:$D$63,3,FALSE))","v":""},""]
[null,null,{"$f":"IF(B423=\"\",\"\",VLOOKUP(B423,'Fixture List Individual Files'!$B$14:$D$63,2,FALSE))","v":""},null,{"$f":"IF(B423=\"\",\"\",VLOOKUP(B423,'Fixture List Individual Files'!$B$14:$D$63,3,FALSE))","v":""},"",{"$nulls":4},{"$f":"IF(J423=\"\",\"\",VLOOKUP(J423,'Fixture List Individual Files'!$B$14:$D$63,2,FALSE))","v":""},null,{"$f":"IF(J423=\"\",\"\",VLOOKUP(J423,'Fixture List Individual Files'!$B$14:$D$63,3,FALSE))","v":""},""]
[null,null,{"$f":"IF(B424=\"\",\"\",VLOOKUP(B424,'Fixture List Individual Files'!$B$14:$D$63,2,FALSE))","v":""},null,{"$f":"IF(B424=\"\",\"\",VLOOKUP(B424,'Fixture List Individual Files'!$B$14:$D$63,3,FALSE))","v":""},"",{"$nulls":4},{"$f":"IF(J424=\"\",\"\",VLOOKUP(J424,'Fixture List Individual Files'!$B$14:$D$63,2,FALSE))","v":""},null,{"$f":"IF(J424=\"\",\"\",VLOOKUP(J424,'Fixture List Individual Files'!$B$14:$D$63,3,FALSE))","v":""},""]
[null,null,{"$f":"IF(B425=\"\",\"\",VLOOKUP(B425,'Fixture List Individual Files'!$B$14:$D$63,2,FALSE))","v":""},null,{"$f":"IF(B425=\"\",\"\",VLOOKUP(B425,'Fixture List Individual Files'!$B$14:$D$63,3,FALSE))","v":""},"",{"$nulls":4},{"$f":"IF(J425=\"\",\"\",VLOOKUP(J425,'Fixture List Individual Files'!$B$14:$D$63,2,FALSE))","v":""},null,{"$f":"IF(J425=\"\",\"\",VLOOKUP(J425,'Fixture List Individual Files'!$B$14:$D$63,3,FALSE))","v":""},""]
[null,null,{"$f":"IF(B426=\"\",\"\",VLOOKUP(B426,'Fixture List Individual Files'!$B$14:$D$63,2,FALSE))","v":""},null,{"$f":"IF(B426=\"\",\"\",VLOOKUP(B426,'Fixture List Individual Files'!$B$14:$D$63,3,FALSE))","v":""},"",{"$nulls":4},{"$f":"IF(J426=\"\",\"\",VLOOKUP(J426,'Fixture List Individual Files'!$B$14:$D$63,2,FALSE))","v":""},null,{"$f":"IF(J426=\"\",\"\",VLOOKUP(J426,'Fixture List Individual Files'!$B$14:$D$63,3,FALSE))","v":""},""]
[null,null,{"$f":"IF(B427=\"\",\"\",VLOOKUP(B427,'Fixture List Individual Files'!$B$14:$D$63,2,FALSE))","v":""},null,{"$f":"IF(B427=\"\",\"\",VLOOKUP(B427,'Fixture List Individual Files'!$B$14:$D$63,3,FALSE))","v":""},"",{"$nulls":4},{"$f":"IF(J427=\"\",\"\",VLOOKUP(J427,'Fixture List Individual Files'!$B$14:$D$63,2,FALSE))","v":""},null,{"$f":"IF(J427=\"\",\"\",VLOOKUP(J427,'Fixture List Individual Files'!$B$14:$D$63,3,FALSE))","v":""},""]
[null,null,{"$f":"IF(B428=\"\",\"\",VLOOKUP(B428,'Fixture List Individual Files'!$B$14:$D$63,2,FALSE))","v":""},null,{"$f":"IF(B428=\"\",\"\",VLOOKUP(B428,'Fixture List Individual Files'!$B$14:$D$63,3,FALSE))","v":""},"",{"$nulls":4},{"$f":"IF(J428=\"\",\"\",VLOOKUP(J428,'Fixture List Individual Files'!$B$14:$D$63,2,FALSE))","v":""},null,{"$f":"IF(J428=\"\",\"\",VLOOKUP(J428,'Fixture List Individual Files'!$B$14:$D$63,3,FALSE))","v":""},""]
[null,null,{"$f":"IF(B429=\"\",\"\",VLOOKUP(B429,'Fixture List Individual Files'!$B$14:$D$63,2,FALSE))","v":""},null,{"$f":"IF(B429=\"\",\"\",VLOOKUP(B429,'Fixture List Individual Files'!$B$14:$D$63,3,FALSE))","v":""},"",{"$nulls":4},{"$f":"IF(J429=\"\",\"\",VLOOKUP(J429,'Fixture List Individual Files'!$B$14:$D$63,2,FALSE))","v":""},null,{"$f":"IF(J429=\"\",\"\",VLOOKUP(J429,'Fixture List Individual Files'!$B$14:$D$63,3,FALSE))","v":""},""]
[null,null,{"$f":"IF(B430=\"\",\"\",VLOOKUP(B430,'Fixture List Individual Files'!$B$14:$D$63,2,FALSE))","v":""},null,{"$f":"IF(B430=\"\",\"\",VLOOKUP(B430,'Fixture List Individual Files'!$B$14:$D$63,3,FALSE))","v":""},"",{"$nulls":4},{"$f":"IF(J430=\"\",\"\",VLOOKUP(J430,'Fixture List Individual Files'!$B$14:$D$63,2,FALSE))","v":""},null,{"$f":"IF(J430=\"\",\"\",VLOOKUP(J430,'Fixture List Individual Files'!$B$14:$D$63,3,FALSE))","v":""},""]
[null,null,{"$f":"IF(B431=\"\",\"\",VLOOKUP(B431,'Fixture List Individual Files'!$B$14:$D$63,2,FALSE))","v":""},null,{"$f":"IF(B431=\"\",\"\",VLOOKUP(B431,'Fixture List Individual Files'!$B$14:$D$63,3,FALSE))","v":""},"",{"$nulls":4},{"$f":"IF(J431=\"\",\"\",VLOOKUP(J431,'Fixture List Individual Files'!$B$14:$D$63,2,FALSE))","v":""},null,{"$f":"IF(J431=\"\",\"\",VLOOKUP(J431,'Fixture List Individual Files'!$B$14:$D$63,3,FALSE))","v":""},""]
[null,null,{"$f":"IF(B432=\"\",\"\",VLOOKUP(B432,'Fixture List Individual Files'!$B$14:$D$63,2,FALSE))","v":""},null,{"$f":"IF(B432=\"\",\"\",VLOOKUP(B432,'Fixture List Individual Files'!$B$14:$D$63,3,FALSE))","v":""},"",{"$nulls":4},{"$f":"IF(J432=\"\",\"\",VLOOKUP(J432,'Fixture List Individual Files'!$B$14:$D$63,2,FALSE))","v":""},null,{"$f":"IF(J432=\"\",\"\",VLOOKUP(J432,'Fixture List Individual Files'!$B$14:$D$63,3,FALSE))","v":""},""]
[null,null,{"$f":"IF(B433=\"\",\"\",VLOOKUP(B433,'Fixture List Individual Files'!$B$14:$D$63,2,FALSE))","v":""},null,{"$f":"IF(B433=\"\",\"\",VLOOKUP(B433,'Fixture List Individual Files'!$B$14:$D$63,3,FALSE))","v":""},"",{"$nulls":4},{"$f":"IF(J433=\"\",\"\",VLOOKUP(J433,'Fixture List Individual Files'!$B$14:$D$63,2,FALSE))","v":""},null,{"$f":"IF(J433=\"\",\"\",VLOOKUP(J433,'Fixture List Individual Files'!$B$14:$D$63,3,FALSE))","v":""},""]
[null,null,{"$f":"IF(B434=\"\",\"\",VLOOKUP(B434,'Fixture List Individual Files'!$B$14:$D$63,2,FALSE))","v":""},null,{"$f":"IF(B434=\"\",\"\",VLOOKUP(B434,'Fixture List Individual Files'!$B$14:$D$63,3,FALSE))","v":""},"",{"$nulls":4},{"$f":"IF(J434=\"\",\"\",VLOOKUP(J434,'Fixture List Individual Files'!$B$14:$D$63,2,FALSE))","v":""},null,{"$f":"IF(J434=\"\",\"\",VLOOKUP(J434,'Fixture List Individual Files'!$B$14:$D$63,3,FALSE))","v":""},""]
[null,null,"Totals:",{"$f":"SUM(D399:D434)","v":0},null,{"$f":"SUM(F399:F434)","v":0},{"$nulls":4},"Totals:",{"$f":"SUM(L399:L434)","v":0},null,{"$f":"SUM(N399:N434)","v":0}]
[]
[null,"Area 21",{"$nulls":7},"Area 22"]
[null,"Type:","Choose from Drop-down",null,null,{"$f":"IFERROR(VLOOKUP(C438,Admin_Lists!$A$9:$B$41,2,FALSE),\"\")","v":0},"W/sq ft",null,null,"Type:","Choose from Drop-down",null,null,{"$f":"IFERROR(VLOOKUP(K438,Admin_Lists!$A$9:$B$41,2,FALSE),\"\")","v":0},"W/sq ft"]
[null,null,{"$f":"\"Area Description: \"&'Sq. Ft. Area Individual Files'!D29","v":"Area Description: "},{"$nulls":7},{"$f":"\"Area Description: \"&'Sq. Ft. Area Individual Files'!D30","v":"Area Description: "}]
[null,"Fixture Mark","Fixture\nName","Fixture\nCount","Fixture Watts","Total Watts \n(Fixt Count x Fixt Watts)",{"$nulls":3},"Fixture Mark","Fixture\nName","Fixture\nCount","Fixture Watts","Total Watts \n(Fixt Count x Fixt Watts)"]
[]
[null,null,{"$f":"IF(B442=\"\",\"\",VLOOKUP(B442,'Fixture List Individual Files'!$B$14:$D$63,2,FALSE))","v":""},null,{"$f":"IF(B442=\"\",\"\",VLOOKUP(B442,'Fixture List Individual Files'!$B$14:$D$63,3,FALSE))","v":""},{"$f":"IF(E442=\"\",\"\",D442*E442)","v":""},{"$nulls":4},{"$f":"IF(J442=\"\",\"\",VLOOKUP(J442,'Fixture List Individual Files'!$B$14:$D$63,2,FALSE))","v":""},null,{"$f":"IF(J442=\"\",\"\",VLOOKUP(J442,'Fixture List Individual Files'!$B$14:$D$63,3,FALSE))","v":""},{"$f":"IF(M442=\"\",\"\",L442*M442)","v":""}]
[null,null,{"$f":"IF(B443=\"\",\"\",VLOOKUP(B443,'Fixture List Individual Files'!$B$14:$D$63,2,FALSE))","v":""},null,{"$f":"IF(B443=\"\",\"\",VLOOKUP(B443,'Fixture List Individual Files'!$B$14:$D$63,3,FALSE))","v":""},{"$f":"IF(E443=\"\",\"\",D443*E443)","v":""},{"$nulls":4},{"$f":"IF(J443=\"\",\"\",VLOOKUP(J443,'Fixture List Individual Files'!$B$14:$D$63,2,FALSE))","v":""},null,{"$f":"IF(J443=\"\",\"\",VLOOKUP(J443,'Fixture List Individual Files'!$B$14:$D$63,3,FALSE))","v":""},{"$f":"IF(M443=\"\",\"\",L443*M443)","v":""}]
[null,null,{"$f":"IF(B444=\"\",\"\",VLOOKUP(B444,'Fixture List Individual Files'!$B$14:$D$63,2,FALSE))","v":""},null,{"$f":"IF(B444=\"\",\"\",VLOOKUP(B444,'Fixture List Individual Files'!$B$14:$D$63,3,FALSE))","v":""},"",{"$nulls":4},{"$f":"IF(J444=\"\",\"\",VLOOKUP(J444,'Fixture List Individual Files'!$B$14:$D$63,2,FALSE))","v":""},null,{"$f":"IF(J444=\"\",\"\",VLOOKUP(J444,'Fixture List Individual Files'!$B$14:$D$63,3,FALSE))","v":""},""]
[null,null,{"$f":"IF(B445=\"\",\"\",VLOOKUP(B445,'Fixture List Individual Files'!$B$14:$D$63,2,FALSE))","v":""},null,{"$f":"IF(B445=\"\",\"\",VLOOKUP(B445,'Fixture List Individual Files'!$B$14:$D$63,3,FALSE))","v":""},"",{"$nulls":4},{"$f":"IF(J445=\"\",\"\",VLOOKUP(J445,'Fixture List Individual Files'!$B$14:$D$63,2,FALSE))","v":""},null,{"$f":"IF(J445=\"\",\"\",VLOOKUP(J445,'Fixture List Individual Files'!$B$14:$D$63,3,FALSE))","v":""},""]
[null,null,{"$f":"IF(B446=\"\",\"\",VLOOKUP(B446,'Fixture List Individual Files'!$B$14:$D$63,2,FALSE))","v":""},null,{"$f":"IF(B446=\"\",\"\",VLOOKUP(B446,'Fixture List Individual Files'!$B$14:$D$63,3,FALSE))","v":""},"",{"$nulls":4},{"$f":"IF(J446=\"\",\"\",VLOOKUP(J446,'Fixture List Individual Files'!$B$14:$D$63,2,FALSE))","v":""},null,{"$f":"IF(J446=\"\",\"\",VLOOKUP(J446,'Fixture List Individual Files'!$B$14:$D$63,3,FALSE))","v":""},""]
[null,null,{"$f":"IF(B447=\"\",\"\",VLOOKUP(B447,'Fixture List Individual Files'!$B$14:$D$63,2,FALSE))","v":""},null,{"$f":"IF(B447=\"\",\"\",VLOOKUP(B447,'Fixture List Individual Files'!$B$14:$D$63,3,FALSE))","v":""},"",{"$nulls":4},{"$f":"IF(J447=\"\",\"\",VLOOKUP(J447,'Fixture List Individual Files'!$B$14:$D$63,2,FALSE))","v":""},null,{"$f":"IF(J447=\"\",\"\",VLOOKUP(J447,'Fixture List Individual Files'!$B$14:$D$63,3,FALSE))","v":""},""]
[null,null,{"$f":"IF(B448=\"\",\"\",VLOOKUP(B448,'Fixture List Individual Files'!$B$14:$D$63,2,FALSE))","v":""},null,{"$f":"IF(B448=\"\",\"\",VLOOKUP(B448,'Fixture List Individual Files'!$B$14:$D$63,3,FALSE))","v":""},"",{"$nulls":4},{"$f":"IF(J448=\"\",\"\",VLOOKUP(J448,'Fixture List Individual Files'!$B$14:$D$63,2,FALSE))","v":""},null,{"$f":"IF(J448=\"\",\"\",VLOOKUP(J448,'Fixture List Individual Files'!$B$14:$D$63,3,FALSE))","v":""},""]
[null,null,{"$f":"IF(B449=\"\",\"\",VLOOKUP(B449,'Fixture List Individual Files'!$B$14:$D$63,2,FALSE))","v":""},null,{"$f":"IF(B449=\"\",\"\",VLOOKUP(B449,'Fixture List Individual Files'!$B$14:$D$63,3,FALSE))","v":""},"",{"$nulls":4},{"$f":"IF(J449=\"\",\"\",VLOOKUP(J449,'Fixture List Individual Files'!$B$14:$D$63,2,FALSE))","v":""},null,{"$f":"IF(J449=\"\",\"\",VLOOKUP(J449,'Fixture List Individual Files'!$B$14:$D$63,3,FALSE))","v":""},""]
[null,null,{"$f":"IF(B450=\"\",\"\",VLOOKUP(B450,'Fixture List Individual Files'!$B$14:$D$63,2,FALSE))","v":""},null,{"$f":"IF(B450=\"\",\"\",VLOOKUP(B450,'Fixture List Individual Files'!$B$14:$D$63,3,FALSE))","v":""},"",{"$nulls":4},{"$f":"IF(J450=\"\",\"\",VLOOKUP(J450,'Fixture List Individual Files'!$B$14:$D$63,2,FALSE))","v":""},null,{"$f":"IF(J450=\"\",\"\",VLOOKUP(J450,'Fixture List Individual Files'!$B$14:$D$63,3,FALSE))","v":""},""]
[null,null,{"$f":"IF(B451=\"\",\"\",VLOOKUP(B451,'Fixture List Individual Files'!$B$14:$D$63,2,FALSE))","v":""},null,{"$f":"IF(B451=\"\",\"\",VLOOKUP(B451,'Fixture List Individual Files'!$B$14:$D$63,3,FALSE))","v":""},"",{"$nulls":4},{"$f":"IF(J451=\"\",\"\",VLOOKUP(J451,'Fixture List Individual Files'!$B$14:$D$63,2,FALSE))","v":""},null,{"$f":"IF(J451=\"\",\"\",VLOOKUP(J451,'Fixture List Individual Files'!$B$14:$D$63,3,FALSE))","v":""},""]
[null,null,{"$f":"IF(B452=\"\",\"\",VLOOKUP(B452,'Fixture List Individual Files'!$B$14:$D$63,2,FALSE))","v":""},null,{"$f":"IF(B452=\"\",\"\",VLOOKUP(B452,'Fixture List Individual Files'!$B$14:$D$63,3,FALSE))","v":""},"",{"$nulls":4},{"$f":"IF(J452=\"\",\"\",VLOOKUP(J452,'Fixture List Individual Files'!$B$14:$D$63,2,FALSE))","v":""},null,{"$f":"IF(J452=\"\",\"\",VLOOKUP(J452,'Fixture List Individual Files'!$B$14:$D$63,3,FALSE))","v":""},""]
[null,null,{"$f":"IF(B453=\"\",\"\",VLOOKUP(B453,'Fixture List Individual Files'!$B$14:$D$63,2,FALSE))","v":""},null,{"$f":"IF(B453=\"\",\"\",VLOOKUP(B453,'Fixture List Individual Files'!$B$14:$D$63,3,FALSE))","v":""},"",{"$nulls":4},{"$f":"IF(J453=\"\",\"\",VLOOKUP(J453,'Fixture List Individual Files'!$B$14:$D$63,2,FALSE))","v":""},null,{"$f":"IF(J453=\"\",\"\",VLOOKUP(J453,'Fixture List Individual Files'!$B$14:$D$63,3,FALSE))","v":""},""]
[null,null,{"$f":"IF(B454=\"\",\"\",VLOOKUP(B454,'Fixture List Individual Files'!$B$14:$D$63,2,FALSE))","v":""},null,{"$f":"IF(B454=\"\",\"\",VLOOKUP(B454,'Fixture List Individual Files'!$B$14:$D$63,3,FALSE))","v":""},"",{"$nulls":4},{"$f":"IF(J454=\"\",\"\",VLOOKUP(J454,'Fixture List Individual Files'!$B$14:$D$63,2,FALSE))","v":""},null,{"$f":"IF(J454=\"\",\"\",VLOOKUP(J454,'Fixture List Individual Files'!$B$14:$D$63,3,FALSE))","v":""},""]
[null,null,{"$f":"IF(B455=\"\",\"\",VLOOKUP(B455,'Fixture List Individual Files'!$B$14:$D$63,2,FALSE))","v":""},null,{"$f":"IF(B455=\"\",\"\",VLOOKUP(B455,'Fixture List Individual Files'!$B$14:$D$63,3,FALSE))","v":""},"",{"$nulls":4},{"$f":"IF(J455=\"\",\"\",VLOOKUP(J455,'Fixture List Individual Files'!$B$14:$D$63,2,FALSE))","v":""},null,{"$f":"IF(J455=\"\",\"\",VLOOKUP(J455,'Fixture List Individual Files'!$B$14:$D$63,3,FALSE))","v":""},""]
[null,null,{"$f":"IF(B456=\"\",\"\",VLOOKUP(B456,'Fixture List Individual Files'!$B$14:$D$63,2,FALSE))","v":""},null,{"$f":"IF(B456=\"\",\"\",VLOOKUP(B456,'Fixture List Individual Files'!$B$14:$D$63,3,FALSE))","v":""},"",{"$nulls":4},{"$f":"IF(J456=\"\",\"\",VLOOKUP(J456,'Fixture List Individual Files'!$B$14:$D$63,2,FALSE))","v":""},null,{"$f":"IF(J456=\"\",\"\",VLOOKUP(J456,'Fixture List Individual Files'!$B$14:$D$63,3,FALSE))","v":""},""]
[null,null,{"$f":"IF(B457=\"\",\"\",VLOOKUP(B457,'Fixture List Individual Files'!$B$14:$D$63,2,FALSE))","v":""},null,{"$f":"IF(B457=\"\",\"\",VLOOKUP(B457,'Fixture List Individual Files'!$B$14:$D$63,3,FALSE))","v":""},"",{"$nulls":4},{"$f":"IF(J457=\"\",\"\",VLOOKUP(J457,'Fixture List Individual Files'!$B$14:$D$63,2,FALSE))","v":""},null,{"$f":"IF(J457=\"\",\"\",VLOOKUP(J457,'Fixture List Individual Files'!$B$14:$D$63,3,FALSE))","v":""},""]
[null,null,{"$f":"IF(B458=\"\",\"\",VLOOKUP(B458,'Fixture List Individual Files'!$B$14:$D$63,2,FALSE))","v":""},null,{"$f":"IF(B458=\"\",\"\",VLOOKUP(B458,'Fixture List Individual Files'!$B$14:$D$63,3,FALSE))","v":""},"",{"$nulls":4},{"$f":"IF(J458=\"\",\"\",VLOOKUP(J458,'Fixture List Individual Files'!$B$14:$D$63,2,FALSE))","v":""},null,{"$f":"IF(J458=\"\",\"\",VLOOKUP(J458,'Fixture List Individual Files'!$B$14:$D$63,3,FALSE))","v":""},""]
[null,null,{"$f":"IF(B459=\"\",\"\",VLOOKUP(B459,'Fixture List Individual Files'!$B$14:$D$63,2,FALSE))","v":""},null,{"$f":"IF(B459=\"\",\"\",VLOOKUP(B459,'Fixture List Individual Files'!$B$14:$D$63,3,FALSE))","v":""},"",{"$nulls":4},{"$f":"IF(J459=\"\",\"\",VLOOKUP(J459,'Fixture List Individual Files'!$B$14:$D$63,2,FALSE))","v":""},null,{"$f":"IF(J459=\"\",\"\",VLOOKUP(J459,'Fixture List Individual Files'!$B$14:$D$63,3,FALSE))","v":""},""]
[null,null,{"$f":"IF(B460=\"\",\"\",VLOOKUP(B460,'Fixture List Individual Files'!$B$14:$D$63,2,FALSE))","v":""},null,{"$f":"IF(B460=\"\",\"\",VLOOKUP(B460,'Fixture List Individual Files'!$B$14:$D$63,3,FALSE))","v":""},"",{"$nulls":4},{"$f":"IF(J460=\"\",\"\",VLOOKUP(J460,'Fixture List Individual Files'!$B$14:$D$63,2,FALSE))","v":""},null,{"$f":"IF(J460=\"\",\"\",VLOOKUP(J460,'Fixture List Individual Files'!$B$14:$D$63,3,FALSE))","v":""},""]
[null,null,{"$f":"IF(B461=\"\",\"\",VLOOKUP(B461,'Fixture List Individual Files'!$B$14:$D$63,2,FALSE))","v":""},null,{"$f":"IF(B461=\"\",\"\",VLOOKUP(B461,'Fixture List Individual Files'!$B$14:$D$63,3,FALSE))","v":""},"",{"$nulls":4},{"$f":"IF(J461=\"\",\"\",VLOOKUP(J461,'Fixture List Individual Files'!$B$14:$D$63,2,FALSE))","v":""},null,{"$f":"IF(J461=\"\",\"\",VLOOKUP(J461,'Fixture List Individual Files'!$B$14:$D$63,3,FALSE))","v":""},""]
[null,null,{"$f":"IF(B462=\"\",\"\",VLOOKUP(B462,'Fixture List Individual Files'!$B$14:$D$63,2,FALSE))","v":""},null,{"$f":"IF(B462=\"\",\"\",VLOOKUP(B462,'Fixture List Individual Files'!$B$14:$D$63,3,FALSE))","v":""},"",{"$nulls":4},{"$f":"IF(J462=\"\",\"\",VLOOKUP(J462,'Fixture List Individual Files'!$B$14:$D$63,2,FALSE))","v":""},null,{"$f":"IF(J462=\"\",\"\",VLOOKUP(J462,'Fixture List Individual Files'!$B$14:$D$63,3,FALSE))","v":""},""]
[null,null,{"$f":"IF(B463=\"\",\"\",VLOOKUP(B463,'Fixture List Individual Files'!$B$14:$D$63,2,FALSE))","v":""},null,{"$f":"IF(B463=\"\",\"\",VLOOKUP(B463,'Fixture List Individual Files'!$B$14:$D$63,3,FALSE))","v":""},"",{"$nulls":4},{"$f":"IF(J463=\"\",\"\",VLOOKUP(J463,'Fixture List Individual Files'!$B$14:$D$63,2,FALSE))","v":""},null,{"$f":"IF(J463=\"\",\"\",VLOOKUP(J463,'Fixture List Individual Files'!$B$14:$D$63,3,FALSE))","v":""},""]
[null,null,{"$f":"IF(B464=\"\",\"\",VLOOKUP(B464,'Fixture List Individual Files'!$B$14:$D$63,2,FALSE))","v":""},null,{"$f":"IF(B464=\"\",\"\",VLOOKUP(B464,'Fixture List Individual Files'!$B$14:$D$63,3,FALSE))","v":""},"",{"$nulls":4},{"$f":"IF(J464=\"\",\"\",VLOOKUP(J464,'Fixture List Individual Files'!$B$14:$D$63,2,FALSE))","v":""},null,{"$f":"IF(J464=\"\",\"\",VLOOKUP(J464,'Fixture List Individual Files'!$B$14:$D$63,3,FALSE))","v":""},""]
[null,null,{"$f":"IF(B465=\"\",\"\",VLOOKUP(B465,'Fixture List Individual Files'!$B$14:$D$63,2,FALSE))","v":""},null,{"$f":"IF(B465=\"\",\"\",VLOOKUP(B465,'Fixture List Individual Files'!$B$14:$D$63,3,FALSE))","v":""},"",{"$nulls":4},{"$f":"IF(J465=\"\",\"\",VLOOKUP(J465,'Fixture List Individual Files'!$B$14:$D$63,2,FALSE))","v":""},null,{"$f":"IF(J465=\"\",\"\",VLOOKUP(J465,'Fixture List Individual Files'!$B$14:$D$63,3,FALSE))","v":""},""]
[null,null,{"$f":"IF(B466=\"\",\"\",VLOOKUP(B466,'Fixture List Individual Files'!$B$14:$D$63,2,FALSE))","v":""},null,{"$f":"IF(B466=\"\",\"\",VLOOKUP(B466,'Fixture List Individual Files'!$B$14:$D$63,3,FALSE))","v":""},"",{"$nulls":4},{"$f":"IF(J466=\"\",\"\",VLOOKUP(J466,'Fixture List Individual Files'!$B$14:$D$63,2,FALSE))","v":""},null,{"$f":"IF(J466=\"\",\"\",VLOOKUP(J466,'Fixture List Individual Files'!$B$14:$D$63,3,FALSE))","v":""},""]
[null,null,{"$f":"IF(B467=\"\",\"\",VLOOKUP(B467,'Fixture List Individual Files'!$B$14:$D$63,2,FALSE))","v":""},null,{"$f":"IF(B467=\"\",\"\",VLOOKUP(B467,'Fixture List Individual Files'!$B$14:$D$63,3,FALSE))","v":""},"",{"$nulls":4},{"$f":"IF(J467=\"\",\"\",VLOOKUP(J467,'Fixture List Individual Files'!$B$14:$D$63,2,FALSE))","v":""},null,{"$f":"IF(J467=\"\",\"\",VLOOKUP(J467,'Fixture List Individual Files'!$B$14:$D$63,3,FALSE))","v":""},""]
[null,null,{"$f":"IF(B468=\"\",\"\",VLOOKUP(B468,'Fixture List Individual Files'!$B$14:$D$63,2,FALSE))","v":""},null,{"$f":"IF(B468=\"\",\"\",VLOOKUP(B468,'Fixture List Individual Files'!$B$14:$D$63,3,FALSE))","v":""},"",{"$nulls":4},{"$f":"IF(J468=\"\",\"\",VLOOKUP(J468,'Fixture List Individual Files'!$B$14:$D$63,2,FALSE))","v":""},null,{"$f":"IF(J468=\"\",\"\",VLOOKUP(J468,'Fixture List Individual Files'!$B$14:$D$63,3,FALSE))","v":""},""]
[null,null,{"$f":"IF(B469=\"\",\"\",VLOOKUP(B469,'Fixture List Individual Files'!$B$14:$D$63,2,FALSE))","v":""},null,{"$f":"IF(B469=\"\",\"\",VLOOKUP(B469,'Fixture List Individual Files'!$B$14:$D$63,3,FALSE))","v":""},"",{"$nulls":4},{"$f":"IF(J469=\"\",\"\",VLOOKUP(J469,'Fixture List Individual Files'!$B$14:$D$63,2,FALSE))","v":""},null,{"$f":"IF(J469=\"\",\"\",VLOOKUP(J469,'Fixture List Individual Files'!$B$14:$D$63,3,FALSE))","v":""},""]
[null,null,{"$f":"IF(B470=\"\",\"\",VLOOKUP(B470,'Fixture List Individual Files'!$B$14:$D$63,2,FALSE))","v":""},null,{"$f":"IF(B470=\"\",\"\",VLOOKUP(B470,'Fixture List Individual Files'!$B$14:$D$63,3,FALSE))","v":""},"",{"$nulls":4},{"$f":"IF(J470=\"\",\"\",VLOOKUP(J470,'Fixture List Individual Files'!$B$14:$D$63,2,FALSE))","v":""},null,{"$f":"IF(J470=\"\",\"\",VLOOKUP(J470,'Fixture List Individual Files'!$B$14:$D$63,3,FALSE))","v":""},""]
[null,null,{"$f":"IF(B471=\"\",\"\",VLOOKUP(B471,'Fixture List Individual Files'!$B$14:$D$63,2,FALSE))","v":""},null,{"$f":"IF(B471=\"\",\"\",VLOOKUP(B471,'Fixture List Individual Files'!$B$14:$D$63,3,FALSE))","v":""},"",{"$nulls":4},{"$f":"IF(J471=\"\",\"\",VLOOKUP(J471,'Fixture List Individual Files'!$B$14:$D$63,2,FALSE))","v":""},null,{"$f":"IF(J471=\"\",\"\",VLOOKUP(J471,'Fixture List Individual Files'!$B$14:$D$63,3,FALSE))","v":""},""]
[null,null,{"$f":"IF(B472=\"\",\"\",VLOOKUP(B472,'Fixture List Individual Files'!$B$14:$D$63,2,FALSE))","v":""},null,{"$f":"IF(B472=\"\",\"\",VLOOKUP(B472,'Fixture List Individual Files'!$B$14:$D$63,3,FALSE))","v":""},"",{"$nulls":4},{"$f":"IF(J472=\"\",\"\",VLOOKUP(J472,'Fixture List Individual Files'!$B$14:$D$63,2,FALSE))","v":""},null,{"$f":"IF(J472=\"\",\"\",VLOOKUP(J472,'Fixture List Individual Files'!$B$14:$D$63,3,FALSE))","v":""},""]
[null,null,{"$f":"IF(B473=\"\",\"\",VLOOKUP(B473,'Fixture List Individual Files'!$B$14:$D$63,2,FALSE))","v":""},null,{"$f":"IF(B473=\"\",\"\",VLOOKUP(B473,'Fixture List Individual Files'!$B$14:$D$63,3,FALSE))","v":""},"",{"$nulls":4},{"$f":"IF(J473=\"\",\"\",VLOOKUP(J473,'Fixture List Individual Files'!$B$14:$D$63,2,FALSE))","v":""},null,{"$f":"IF(J473=\"\",\"\",VLOOKUP(J473,'Fixture List Individual Files'!$B$14:$D$63,3,FALSE))","v":""},""]
[null,null,{"$f":"IF(B474=\"\",\"\",VLOOKUP(B474,'Fixture List Individual Files'!$B$14:$D$63,2,FALSE))","v":""},null,{"$f":"IF(B474=\"\",\"\",VLOOKUP(B474,'Fixture List Individual Files'!$B$14:$D$63,3,FALSE))","v":""},"",{"$nulls":4},{"$f":"IF(J474=\"\",\"\",VLOOKUP(J474,'Fixture List Individual Files'!$B$14:$D$63,2,FALSE))","v":""},null,{"$f":"IF(J474=\"\",\"\",VLOOKUP(J474,'Fixture List Individual Files'!$B$14:$D$63,3,FALSE))","v":""},""]
[null,null,{"$f":"IF(B475=\"\",\"\",VLOOKUP(B475,'Fixture List Individual Files'!$B$14:$D$63,2,FALSE))","v":""},null,{"$f":"IF(B475=\"\",\"\",VLOOKUP(B475,'Fixture List Individual Files'!$B$14:$D$63,3,FALSE))","v":""},"",{"$nulls":4},{"$f":"IF(J475=\"\",\"\",VLOOKUP(J475,'Fixture List Individual Files'!$B$14:$D$63,2,FALSE))","v":""},null,{"$f":"IF(J475=\"\",\"\",VLOOKUP(J475,'Fixture List Individual Files'!$B$14:$D$63,3,FALSE))","v":""},""]
[null,null,{"$f":"IF(B476=\"\",\"\",VLOOKUP(B476,'Fixture List Individual Files'!$B$14:$D$63,2,FALSE))","v":""},null,{"$f":"IF(B476=\"\",\"\",VLOOKUP(B476,'Fixture List Individual Files'!$B$14:$D$63,3,FALSE))","v":""},"",{"$nulls":4},{"$f":"IF(J476=\"\",\"\",VLOOKUP(J476,'Fixture List Individual Files'!$B$14:$D$63,2,FALSE))","v":""},null,{"$f":"IF(J476=\"\",\"\",VLOOKUP(J476,'Fixture List Individual Files'!$B$14:$D$63,3,FALSE))","v":""},""]
[null,null,{"$f":"IF(B477=\"\",\"\",VLOOKUP(B477,'Fixture List Individual Files'!$B$14:$D$63,2,FALSE))","v":""},null,{"$f":"IF(B477=\"\",\"\",VLOOKUP(B477,'Fixture List Individual Files'!$B$14:$D$63,3,FALSE))","v":""},"",{"$nulls":4},{"$f":"IF(J477=\"\",\"\",VLOOKUP(J477,'Fixture List Individual Files'!$B$14:$D$63,2,FALSE))","v":""},null,{"$f":"IF(J477=\"\",\"\",VLOOKUP(J477,'Fixture List Individual Files'!$B$14:$D$63,3,FALSE))","v":""},""]
[null,null,"Totals:",{"$f":"SUM(D442:D477)","v":0},null,{"$f":"SUM(F442:F477)","v":0},{"$nulls":4},"Totals:",{"$f":"SUM(L442:L477)","v":0},null,{"$f":"SUM(N442:N477)","v":0}]
[]
[null,"Area 23",{"$nulls":7},"Area 24"]
[null,"Type:","Choose from Drop-down",null,null,{"$f":"IFERROR(VLOOKUP(C481,Admin_Lists!$A$9:$B$41,2,FALSE),\"\")","v":0},"W/sq ft",null,null,"Type:","Choose from Drop-down",null,null,{"$f":"IFERROR(VLOOKUP(K481,Admin_Lists!$A$9:$B$41,2,FALSE),\"\")","v":0},"W/sq ft"]
[null,null,{"$f":"\"Area Description: \"&'Sq. Ft. Area Individual Files'!D31","v":"Area Description: "},{"$nulls":7},{"$f":"\"Area Description: \"&'Sq. Ft. Area Individual Files'!D32","v":"Area Description: "}]
[null,"Fixture Mark","Fixture\nName","Fixture\nCount","Fixture Watts","Total Watts \n(Fixt Count x Fixt Watts)",{"$nulls":3},"Fixture Mark","Fixture\nName","Fixture\nCount","Fixture Watts","Total Watts \n(Fixt Count x Fixt Watts)"]
[]
[null,null,{"$f":"IF(B485=\"\",\"\",VLOOKUP(B485,'Fixture List Individual Files'!$B$14:$D$63,2,FALSE))","v":""},null,{"$f":"IF(B485=\"\",\"\",VLOOKUP(B485,'Fixture List Individual Files'!$B$14:$D$63,3,FALSE))","v":""},{"$f":"IF(E485=\"\",\"\",D485*E485)","v":""},{"$nulls":4},{"$f":"IF(J485=\"\",\"\",VLOOKUP(J485,'Fixture List Individual Files'!$B$14:$D$63,2,FALSE))","v":""},null,{"$f":"IF(J485=\"\",\"\",VLOOKUP(J485,'Fixture List Individual Files'!$B$14:$D$63,3,FALSE))","v":""},{"$f":"IF(M485=\"\",\"\",L485*M485)","v":""}]
[null,null,{"$f":"IF(B486=\"\",\"\",VLOOKUP(B486,'Fixture List Individual Files'!$B$14:$D$63,2,FALSE))","v":""},null,{"$f":"IF(B486=\"\",\"\",VLOOKUP(B486,'Fixture List Individual Files'!$B$14:$D$63,3,FALSE))","v":""},{"$f":"IF(E486=\"\",\"\",D486*E486)","v":""},{"$nulls":4},{"$f":"IF(J486=\"\",\"\",VLOOKUP(J486,'Fixture List Individual Files'!$B$14:$D$63,2,FALSE))","v":""},null,{"$f":"IF(J486=\"\",\"\",VLOOKUP(J486,'Fixture List Individual Files'!$B$14:$D$63,3,FALSE))","v":""},{"$f":"IF(M486=\"\",\"\",L486*M486)","v":""}]
[null,null,{"$f":"IF(B487=\"\",\"\",VLOOKUP(B487,'Fixture List Individual Files'!$B$14:$D$63,2,FALSE))","v":""},null,{"$f":"IF(B487=\"\",\"\",VLOOKUP(B487,'Fixture List Individual Files'!$B$14:$D$63,3,FALSE))","v":""},"",{"$nulls":4},{"$f":"IF(J487=\"\",\"\",VLOOKUP(J487,'Fixture List Individual Files'!$B$14:$D$63,2,FALSE))","v":""},null,{"$f":"IF(J487=\"\",\"\",VLOOKUP(J487,'Fixture List Individual Files'!$B$14:$D$63,3,FALSE))","v":""},""]
[null,null,{"$f":"IF(B488=\"\",\"\",VLOOKUP(B488,'Fixture List Individual Files'!$B$14:$D$63,2,FALSE))","v":""},null,{"$f":"IF(B488=\"\",\"\",VLOOKUP(B488,'Fixture List Individual Files'!$B$14:$D$63,3,FALSE))","v":""},"",{"$nulls":4},{"$f":"IF(J488=\"\",\"\",VLOOKUP(J488,'Fixture List Individual Files'!$B$14:$D$63,2,FALSE))","v":""},null,{"$f":"IF(J488=\"\",\"\",VLOOKUP(J488,'Fixture List Individual Files'!$B$14:$D$63,3,FALSE))","v":""},""]
[null,null,{"$f":"IF(B489=\"\",\"\",VLOOKUP(B489,'Fixture List Individual Files'!$B$14:$D$63,2,FALSE))","v":""},null,{"$f":"IF(B489=\"\",\"\",VLOOKUP(B489,'Fixture List Individual Files'!$B$14:$D$63,3,FALSE))","v":""},"",{"$nulls":4},{"$f":"IF(J489=\"\",\"\",VLOOKUP(J489,'Fixture List Individual Files'!$B$14:$D$63,2,FALSE))","v":""},null,{"$f":"IF(J489=\"\",\"\",VLOOKUP(J489,'Fixture List Individual Files'!$B$14:$D$63,3,FALSE))","v":""},""]
[null,null,{"$f":"IF(B490=\"\",\"\",VLOOKUP(B490,'Fixture List Individual Files'!$B$14:$D$63,2,FALSE))","v":""},null,{"$f":"IF(B490=\"\",\"\",VLOOKUP(B490,'Fixture List Individual Files'!$B$14:$D$63,3,FALSE))","v":""},"",{"$nulls":4},{"$f":"IF(J490=\"\",\"\",VLOOKUP(J490,'Fixture List Individual Files'!$B$14:$D$63,2,FALSE))","v":""},null,{"$f":"IF(J490=\"\",\"\",VLOOKUP(J490,'Fixture List Individual Files'!$B$14:$D$63,3,FALSE))","v":""},""]
[null,null,{"$f":"IF(B491=\"\",\"\",VLOOKUP(B491,'Fixture List Individual Files'!$B$14:$D$63,2,FALSE))","v":""},null,{"$f":"IF(B491=\"\",\"\",VLOOKUP(B491,'Fixture List Individual Files'!$B$14:$D$63,3,FALSE))","v":""},"",{"$nulls":4},{"$f":"IF(J491=\"\",\"\",VLOOKUP(J491,'Fixture List Individual Files'!$B$14:$D$63,2,FALSE))","v":""},null,{"$f":"IF(J491=\"\",\"\",VLOOKUP(J491,'Fixture List Individual Files'!$B$14:$D$63,3,FALSE))","v":""},""]
[null,null,{"$f":"IF(B492=\"\",\"\",VLOOKUP(B492,'Fixture List Individual Files'!$B$14:$D$63,2,FALSE))","v":""},null,{"$f":"IF(B492=\"\",\"\",VLOOKUP(B492,'Fixture List Individual Files'!$B$14:$D$63,3,FALSE))","v":""},"",{"$nulls":4},{"$f":"IF(J492=\"\",\"\",VLOOKUP(J492,'Fixture List Individual Files'!$B$14:$D$63,2,FALSE))","v":""},null,{"$f":"IF(J492=\"\",\"\",VLOOKUP(J492,'Fixture List Individual Files'!$B$14:$D$63,3,FALSE))","v":""},""]
[null,null,{"$f":"IF(B493=\"\",\"\",VLOOKUP(B493,'Fixture List Individual Files'!$B$14:$D$63,2,FALSE))","v":""},null,{"$f":"IF(B493=\"\",\"\",VLOOKUP(B493,'Fixture List Individual Files'!$B$14:$D$63,3,FALSE))","v":""},"",{"$nulls":4},{"$f":"IF(J493=\"\",\"\",VLOOKUP(J493,'Fixture List Individual Files'!$B$14:$D$63,2,FALSE))","v":""},null,{"$f":"IF(J493=\"\",\"\",VLOOKUP(J493,'Fixture List Individual Files'!$B$14:$D$63,3,FALSE))","v":""},""]
[null,null,{"$f":"IF(B494=\"\",\"\",VLOOKUP(B494,'Fixture List Individual Files'!$B$14:$D$63,2,FALSE))","v":""},null,{"$f":"IF(B494=\"\",\"\",VLOOKUP(B494,'Fixture List Individual Files'!$B$14:$D$63,3,FALSE))","v":""},"",{"$nulls":4},{"$f":"IF(J494=\"\",\"\",VLOOKUP(J494,'Fixture List Individual Files'!$B$14:$D$63,2,FALSE))","v":""},null,{"$f":"IF(J494=\"\",\"\",VLOOKUP(J494,'Fixture List Individual Files'!$B$14:$D$63,3,FALSE))","v":""},""]
[null,null,{"$f":"IF(B495=\"\",\"\",VLOOKUP(B495,'Fixture List Individual Files'!$B$14:$D$63,2,FALSE))","v":""},null,{"$f":"IF(B495=\"\",\"\",VLOOKUP(B495,'Fixture List Individual Files'!$B$14:$D$63,3,FALSE))","v":""},"",{"$nulls":4},{"$f":"IF(J495=\"\",\"\",VLOOKUP(J495,'Fixture List Individual Files'!$B$14:$D$63,2,FALSE))","v":""},null,{"$f":"IF(J495=\"\",\"\",VLOOKUP(J495,'Fixture List Individual Files'!$B$14:$D$63,3,FALSE))","v":""},""]
[null,null,{"$f":"IF(B496=\"\",\"\",VLOOKUP(B496,'Fixture List Individual Files'!$B$14:$D$63,2,FALSE))","v":""},null,{"$f":"IF(B496=\"\",\"\",VLOOKUP(B496,'Fixture List Individual Files'!$B$14:$D$63,3,FALSE))","v":""},"",{"$nulls":4},{"$f":"IF(J496=\"\",\"\",VLOOKUP(J496,'Fixture List Individual Files'!$B$14:$D$63,2,FALSE))","v":""},null,{"$f":"IF(J496=\"\",\"\",VLOOKUP(J496,'Fixture List Individual Files'!$B$14:$D$63,3,FALSE))","v":""},""]
[null,null,{"$f":"IF(B497=\"\",\"\",VLOOKUP(B497,'Fixture List Individual Files'!$B$14:$D$63,2,FALSE))","v":""},null,{"$f":"IF(B497=\"\",\"\",VLOOKUP(B497,'Fixture List Individual Files'!$B$14:$D$63,3,FALSE))","v":""},"",{"$nulls":4},{"$f":"IF(J497=\"\",\"\",VLOOKUP(J497,'Fixture List Individual Files'!$B$14:$D$63,2,FALSE))","v":""},null,{"$f":"IF(J497=\"\",\"\",VLOOKUP(J497,'Fixture List Individual Files'!$B$14:$D$63,3,FALSE))","v":""},""]
[null,null,{"$f":"IF(B498=\"\",\"\",VLOOKUP(B498,'Fixture List Individual Files'!$B$14:$D$63,2,FALSE))","v":""},null,{"$f":"IF(B498=\"\",\"\",VLOOKUP(B498,'Fixture List Individual Files'!$B$14:$D$63,3,FALSE))","v":""},"",{"$nulls":4},{"$f":"IF(J498=\"\",\"\",VLOOKUP(J498,'Fixture List Individual Files'!$B$14:$D$63,2,FALSE))","v":""},null,{"$f":"IF(J498=\"\",\"\",VLOOKUP(J498,'Fixture List Individual Files'!$B$14:$D$63,3,FALSE))","v":""},""]
[null,null,{"$f":"IF(B499=\"\",\"\",VLOOKUP(B499,'Fixture List Individual Files'!$B$14:$D$63,2,FALSE))","v":""},null,{"$f":"IF(B499=\"\",\"\",VLOOKUP(B499,'Fixture List Individual Files'!$B$14:$D$63,3,FALSE))","v":""},"",{"$nulls":4},{"$f":"IF(J499=\"\",\"\",VLOOKUP(J499,'Fixture List Individual Files'!$B$14:$D$63,2,FALSE))","v":""},null,{"$f":"IF(J499=\"\",\"\",VLOOKUP(J499,'Fixture List Individual Files'!$B$14:$D$63,3,FALSE))","v":""},""]
[null,null,{"$f":"IF(B500=\"\",\"\",VLOOKUP(B500,'Fixture List Individual Files'!$B$14:$D$63,2,FALSE))","v":""},null,{"$f":"IF(B500=\"\",\"\",VLOOKUP(B500,'Fixture List Individual Files'!$B$14:$D$63,3,FALSE))","v":""},"",{"$nulls":4},{"$f":"IF(J500=\"\",\"\",VLOOKUP(J500,'Fixture List Individual Files'!$B$14:$D$63,2,FALSE))","v":""},null,{"$f":"IF(J500=\"\",\"\",VLOOKUP(J500,'Fixture List Individual Files'!$B$14:$D$63,3,FALSE))","v":""},""]
[null,null,{"$f":"IF(B501=\"\",\"\",VLOOKUP(B501,'Fixture List Individual Files'!$B$14:$D$63,2,FALSE))","v":""},null,{"$f":"IF(B501=\"\",\"\",VLOOKUP(B501,'Fixture List Individual Files'!$B$14:$D$63,3,FALSE))","v":""},"",{"$nulls":4},{"$f":"IF(J501=\"\",\"\",VLOOKUP(J501,'Fixture List Individual Files'!$B$14:$D$63,2,FALSE))","v":""},null,{"$f":"IF(J501=\"\",\"\",VLOOKUP(J501,'Fixture List Individual Files'!$B$14:$D$63,3,FALSE))","v":""},""]
[null,null,{"$f":"IF(B502=\"\",\"\",VLOOKUP(B502,'Fixture List Individual Files'!$B$14:$D$63,2,FALSE))","v":""},null,{"$f":"IF(B502=\"\",\"\",VLOOKUP(B502,'Fixture List Individual Files'!$B$14:$D$63,3,FALSE))","v":""},"",{"$nulls":4},{"$f":"IF(J502=\"\",\"\",VLOOKUP(J502,'Fixture List Individual Files'!$B$14:$D$63,2,FALSE))","v":""},null,{"$f":"IF(J502=\"\",\"\",VLOOKUP(J502,'Fixture List Individual Files'!$B$14:$D$63,3,FALSE))","v":""},""]
[null,null,{"$f":"IF(B503=\"\",\"\",VLOOKUP(B503,'Fixture List Individual Files'!$B$14:$D$63,2,FALSE))","v":""},null,{"$f":"IF(B503=\"\",\"\",VLOOKUP(B503,'Fixture List Individual Files'!$B$14:$D$63,3,FALSE))","v":""},"",{"$nulls":4},{"$f":"IF(J503=\"\",\"\",VLOOKUP(J503,'Fixture List Individual Files'!$B$14:$D$63,2,FALSE))","v":""},null,{"$f":"IF(J503=\"\",\"\",VLOOKUP(J503,'Fixture List Individual Files'!$B$14:$D$63,3,FALSE))","v":""},""]
[null,null,{"$f":"IF(B504=\"\",\"\",VLOOKUP(B504,'Fixture List Individual Files'!$B$14:$D$63,2,FALSE))","v":""},null,{"$f":"IF(B504=\"\",\"\",VLOOKUP(B504,'Fixture List Individual Files'!$B$14:$D$63,3,FALSE))","v":""},"",{"$nulls":4},{"$f":"IF(J504=\"\",\"\",VLOOKUP(J504,'Fixture List Individual Files'!$B$14:$D$63,2,FALSE))","v":""},null,{"$f":"IF(J504=\"\",\"\",VLOOKUP(J504,'Fixture List Individual Files'!$B$14:$D$63,3,FALSE))","v":""},""]
[null,null,{"$f":"IF(B505=\"\",\"\",VLOOKUP(B505,'Fixture List Individual Files'!$B$14:$D$63,2,FALSE))","v":""},null,{"$f":"IF(B505=\"\",\"\",VLOOKUP(B505,'Fixture List Individual Files'!$B$14:$D$63,3,FALSE))","v":""},"",{"$nulls":4},{"$f":"IF(J505=\"\",\"\",VLOOKUP(J505,'Fixture List Individual Files'!$B$14:$D$63,2,FALSE))","v":""},null,{"$f":"IF(J505=\"\",\"\",VLOOKUP(J505,'Fixture List Individual Files'!$B$14:$D$63,3,FALSE))","v":""},""]
[null,null,{"$f":"IF(B506=\"\",\"\",VLOOKUP(B506,'Fixture List Individual Files'!$B$14:$D$63,2,FALSE))","v":""},null,{"$f":"IF(B506=\"\",\"\",VLOOKUP(B506,'Fixture List Individual Files'!$B$14:$D$63,3,FALSE))","v":""},"",{"$nulls":4},{"$f":"IF(J506=\"\",\"\",VLOOKUP(J506,'Fixture List Individual Files'!$B$14:$D$63,2,FALSE))","v":""},null,{"$f":"IF(J506=\"\",\"\",VLOOKUP(J506,'Fixture List Individual Files'!$B$14:$D$63,3,FALSE))","v":""},""]
[null,null,{"$f":"IF(B507=\"\",\"\",VLOOKUP(B507,'Fixture List Individual Files'!$B$14:$D$63,2,FALSE))","v":""},null,{"$f":"IF(B507=\"\",\"\",VLOOKUP(B507,'Fixture List Individual Files'!$B$14:$D$63,3,FALSE))","v":""},"",{"$nulls":4},{"$f":"IF(J507=\"\",\"\",VLOOKUP(J507,'Fixture List Individual Files'!$B$14:$D$63,2,FALSE))","v":""},null,{"$f":"IF(J507=\"\",\"\",VLOOKUP(J507,'Fixture List Individual Files'!$B$14:$D$63,3,FALSE))","v":""},""]
[null,null,{"$f":"IF(B508=\"\",\"\",VLOOKUP(B508,'Fixture List Individual Files'!$B$14:$D$63,2,FALSE))","v":""},null,{"$f":"IF(B508=\"\",\"\",VLOOKUP(B508,'Fixture List Individual Files'!$B$14:$D$63,3,FALSE))","v":""},"",{"$nulls":4},{"$f":"IF(J508=\"\",\"\",VLOOKUP(J508,'Fixture List Individual Files'!$B$14:$D$63,2,FALSE))","v":""},null,{"$f":"IF(J508=\"\",\"\",VLOOKUP(J508,'Fixture List Individual Files'!$B$14:$D$63,3,FALSE))","v":""},""]
[null,null,{"$f":"IF(B509=\"\",\"\",VLOOKUP(B509,'Fixture List Individual Files'!$B$14:$D$63,2,FALSE))","v":""},null,{"$f":"IF(B509=\"\",\"\",VLOOKUP(B509,'Fixture List Individual Files'!$B$14:$D$63,3,FALSE))","v":""},"",{"$nulls":4},{"$f":"IF(J509=\"\",\"\",VLOOKUP(J509,'Fixture List Individual Files'!$B$14:$D$63,2,FALSE))","v":""},null,{"$f":"IF(J509=\"\",\"\",VLOOKUP(J509,'Fixture List Individual Files'!$B$14:$D$63,3,FALSE))","v":""},""]
[null,null,{"$f":"IF(B510=\"\",\"\",VLOOKUP(B510,'Fixture List Individual Files'!$B$14:$D$63,2,FALSE))","v":""},null,{"$f":"IF(B510=\"\",\"\",VLOOKUP(B510,'Fixture List Individual Files'!$B$14:$D$63,3,FALSE))","v":""},"",{"$nulls":4},{"$f":"IF(J510=\"\",\"\",VLOOKUP(J510,'Fixture List Individual Files'!$B$14:$D$63,2,FALSE))","v":""},null,{"$f":"IF(J510=\"\",\"\",VLOOKUP(J510,'Fixture List Individual Files'!$B$14:$D$63,3,FALSE))","v":""},""]
[null,null,{"$f":"IF(B511=\"\",\"\",VLOOKUP(B511,'Fixture List Individual Files'!$B$14:$D$63,2,FALSE))","v":""},null,{"$f":"IF(B511=\"\",\"\",VLOOKUP(B511,'Fixture List Individual Files'!$B$14:$D$63,3,FALSE))","v":""},"",{"$nulls":4},{"$f":"IF(J511=\"\",\"\",VLOOKUP(J511,'Fixture List Individual Files'!$B$14:$D$63,2,FALSE))","v":""},null,{"$f":"IF(J511=\"\",\"\",VLOOKUP(J511,'Fixture List Individual Files'!$B$14:$D$63,3,FALSE))","v":""},""]
[null,null,{"$f":"IF(B512=\"\",\"\",VLOOKUP(B512,'Fixture List Individual Files'!$B$14:$D$63,2,FALSE))","v":""},null,{"$f":"IF(B512=\"\",\"\",VLOOKUP(B512,'Fixture List Individual Files'!$B$14:$D$63,3,FALSE))","v":""},"",{"$nulls":4},{"$f":"IF(J512=\"\",\"\",VLOOKUP(J512,'Fixture List Individual Files'!$B$14:$D$63,2,FALSE))","v":""},null,{"$f":"IF(J512=\"\",\"\",VLOOKUP(J512,'Fixture List Individual Files'!$B$14:$D$63,3,FALSE))","v":""},""]
[null,null,{"$f":"IF(B513=\"\",\"\",VLOOKUP(B513,'Fixture List Individual Files'!$B$14:$D$63,2,FALSE))","v":""},null,{"$f":"IF(B513=\"\",\"\",VLOOKUP(B513,'Fixture List Individual Files'!$B$14:$D$63,3,FALSE))","v":""},"",{"$nulls":4},{"$f":"IF(J513=\"\",\"\",VLOOKUP(J513,'Fixture List Individual Files'!$B$14:$D$63,2,FALSE))","v":""},null,{"$f":"IF(J513=\"\",\"\",VLOOKUP(J513,'Fixture List Individual Files'!$B$14:$D$63,3,FALSE))","v":""},""]
[null,null,{"$f":"IF(B514=\"\",\"\",VLOOKUP(B514,'Fixture List Individual Files'!$B$14:$D$63,2,FALSE))","v":""},null,{"$f":"IF(B514=\"\",\"\",VLOOKUP(B514,'Fixture List Individual Files'!$B$14:$D$63,3,FALSE))","v":""},"",{"$nulls":4},{"$f":"IF(J514=\"\",\"\",VLOOKUP(J514,'Fixture List Individual Files'!$B$14:$D$63,2,FALSE))","v":""},null,{"$f":"IF(J514=\"\",\"\",VLOOKUP(J514,'Fixture List Individual Files'!$B$14:$D$63,3,FALSE))","v":""},""]
[null,null,{"$f":"IF(B515=\"\",\"\",VLOOKUP(B515,'Fixture List Individual Files'!$B$14:$D$63,2,FALSE))","v":""},null,{"$f":"IF(B515=\"\",\"\",VLOOKUP(B515,'Fixture List Individual Files'!$B$14:$D$63,3,FALSE))","v":""},"",{"$nulls":4},{"$f":"IF(J515=\"\",\"\",VLOOKUP(J515,'Fixture List Individual Files'!$B$14:$D$63,2,FALSE))","v":""},null,{"$f":"IF(J515=\"\",\"\",VLOOKUP(J515,'Fixture List Individual Files'!$B$14:$D$63,3,FALSE))","v":""},""]
[null,null,{"$f":"IF(B516=\"\",\"\",VLOOKUP(B516,'Fixture List Individual Files'!$B$14:$D$63,2,FALSE))","v":""},null,{"$f":"IF(B516=\"\",\"\",VLOOKUP(B516,'Fixture List Individual Files'!$B$14:$D$63,3,FALSE))","v":""},"",{"$nulls":4},{"$f":"IF(J516=\"\",\"\",VLOOKUP(J516,'Fixture List Individual Files'!$B$14:$D$63,2,FALSE))","v":""},null,{"$f":"IF(J516=\"\",\"\",VLOOKUP(J516,'Fixture List Individual Files'!$B$14:$D$63,3,FALSE))","v":""},""]
[null,null,{"$f":"IF(B517=\"\",\"\",VLOOKUP(B517,'Fixture List Individual Files'!$B$14:$D$63,2,FALSE))","v":""},null,{"$f":"IF(B517=\"\",\"\",VLOOKUP(B517,'Fixture List Individual Files'!$B$14:$D$63,3,FALSE))","v":""},"",{"$nulls":4},{"$f":"IF(J517=\"\",\"\",VLOOKUP(J517,'Fixture List Individual Files'!$B$14:$D$63,2,FALSE))","v":""},null,{"$f":"IF(J517=\"\",\"\",VLOOKUP(J517,'Fixture List Individual Files'!$B$14:$D$63,3,FALSE))","v":""},""]
[null,null,{"$f":"IF(B518=\"\",\"\",VLOOKUP(B518,'Fixture List Individual Files'!$B$14:$D$63,2,FALSE))","v":""},null,{"$f":"IF(B518=\"\",\"\",VLOOKUP(B518,'Fixture List Individual Files'!$B$14:$D$63,3,FALSE))","v":""},"",{"$nulls":4},{"$f":"IF(J518=\"\",\"\",VLOOKUP(J518,'Fixture List Individual Files'!$B$14:$D$63,2,FALSE))","v":""},null,{"$f":"IF(J518=\"\",\"\",VLOOKUP(J518,'Fixture List Individual Files'!$B$14:$D$63,3,FALSE))","v":""},""]
[null,null,{"$f":"IF(B519=\"\",\"\",VLOOKUP(B519,'Fixture List Individual Files'!$B$14:$D$63,2,FALSE))","v":""},null,{"$f":"IF(B519=\"\",\"\",VLOOKUP(B519,'Fixture List Individual Files'!$B$14:$D$63,3,FALSE))","v":""},"",{"$nulls":4},{"$f":"IF(J519=\"\",\"\",VLOOKUP(J519,'Fixture List Individual Files'!$B$14:$D$63,2,FALSE))","v":""},null,{"$f":"IF(J519=\"\",\"\",VLOOKUP(J519,'Fixture List Individual Files'!$B$14:$D$63,3,FALSE))","v":""},""]
[null,null,{"$f":"IF(B520=\"\",\"\",VLOOKUP(B520,'Fixture List Individual Files'!$B$14:$D$63,2,FALSE))","v":""},null,{"$f":"IF(B520=\"\",\"\",VLOOKUP(B520,'Fixture List Individual Files'!$B$14:$D$63,3,FALSE))","v":""},"",{"$nulls":4},{"$f":"IF(J520=\"\",\"\",VLOOKUP(J520,'Fixture List Individual Files'!$B$14:$D$63,2,FALSE))","v":""},null,{"$f":"IF(J520=\"\",\"\",VLOOKUP(J520,'Fixture List Individual Files'!$B$14:$D$63,3,FALSE))","v":""},""]
[null,null,"Totals:",{"$f":"SUM(D485:D520)","v":0},null,{"$f":"SUM(F485:F520)","v":0},{"$nulls":4},"Totals:",{"$f":"SUM(L485:L520)","v":0},null,{"$f":"SUM(N485:N520)","v":0}]
[]
[null,"Area 25"]
[null,"Type:","Choose from Drop-down",null,null,{"$f":"IFERROR(VLOOKUP(C524,Admin_Lists!$A$9:$B$41,2,FALSE),\"\")","v":0},"W/sq ft"]
[null,null,{"$f":"\"Area Description: \"&'Sq. Ft. Area Individual Files'!D33","v":"Area Description: "}]
[]
[null,"Fixture Mark","Fixture\nName","Fixture\nCount","Fixture Watts","Total Watts \n(Fixt Count x Fixt Watts)"]
[]
[null,null,{"$f":"IF(B529=\"\",\"\",VLOOKUP(B529,'Fixture List Individual Files'!$B$14:$D$63,2,FALSE))","v":""},null,{"$f":"IF(B529=\"\",\"\",VLOOKUP(B529,'Fixture List Individual Files'!$B$14:$D$63,3,FALSE))","v":""},{"$f":"IF(E529=\"\",\"\",D529*E529)","v":""}]
[null,null,{"$f":"IF(B530=\"\",\"\",VLOOKUP(B530,'Fixture List Individual Files'!$B$14:$D$63,2,FALSE))","v":""},null,{"$f":"IF(B530=\"\",\"\",VLOOKUP(B530,'Fixture List Individual Files'!$B$14:$D$63,3,FALSE))","v":""},""]
[null,null,{"$f":"IF(B531=\"\",\"\",VLOOKUP(B531,'Fixture List Individual Files'!$B$14:$D$63,2,FALSE))","v":""},null,{"$f":"IF(B531=\"\",\"\",VLOOKUP(B531,'Fixture List Individual Files'!$B$14:$D$63,3,FALSE))","v":""},""]
[null,null,{"$f":"IF(B532=\"\",\"\",VLOOKUP(B532,'Fixture List Individual Files'!$B$14:$D$63,2,FALSE))","v":""},null,{"$f":"IF(B532=\"\",\"\",VLOOKUP(B532,'Fixture List Individual Files'!$B$14:$D$63,3,FALSE))","v":""},""]
[null,null,{"$f":"IF(B533=\"\",\"\",VLOOKUP(B533,'Fixture List Individual Files'!$B$14:$D$63,2,FALSE))","v":""},null,{"$f":"IF(B533=\"\",\"\",VLOOKUP(B533,'Fixture List Individual Files'!$B$14:$D$63,3,FALSE))","v":""},""]
[null,null,{"$f":"IF(B534=\"\",\"\",VLOOKUP(B534,'Fixture List Individual Files'!$B$14:$D$63,2,FALSE))","v":""},null,{"$f":"IF(B534=\"\",\"\",VLOOKUP(B534,'Fixture List Individual Files'!$B$14:$D$63,3,FALSE))","v":""},""]
[null,null,{"$f":"IF(B535=\"\",\"\",VLOOKUP(B535,'Fixture List Individual Files'!$B$14:$D$63,2,FALSE))","v":""},null,{"$f":"IF(B535=\"\",\"\",VLOOKUP(B535,'Fixture List Individual Files'!$B$14:$D$63,3,FALSE))","v":""},""]
[null,null,{"$f":"IF(B536=\"\",\"\",VLOOKUP(B536,'Fixture List Individual Files'!$B$14:$D$63,2,FALSE))","v":""},null,{"$f":"IF(B536=\"\",\"\",VLOOKUP(B536,'Fixture List Individual Files'!$B$14:$D$63,3,FALSE))","v":""},""]
[null,null,{"$f":"IF(B537=\"\",\"\",VLOOKUP(B537,'Fixture List Individual Files'!$B$14:$D$63,2,FALSE))","v":""},null,{"$f":"IF(B537=\"\",\"\",VLOOKUP(B537,'Fixture List Individual Files'!$B$14:$D$63,3,FALSE))","v":""},""]
[null,null,{"$f":"IF(B538=\"\",\"\",VLOOKUP(B538,'Fixture List Individual Files'!$B$14:$D$63,2,FALSE))","v":""},null,{"$f":"IF(B538=\"\",\"\",VLOOKUP(B538,'Fixture List Individual Files'!$B$14:$D$63,3,FALSE))","v":""},""]
[null,null,{"$f":"IF(B539=\"\",\"\",VLOOKUP(B539,'Fixture List Individual Files'!$B$14:$D$63,2,FALSE))","v":""},null,{"$f":"IF(B539=\"\",\"\",VLOOKUP(B539,'Fixture List Individual Files'!$B$14:$D$63,3,FALSE))","v":""},""]
[null,null,{"$f":"IF(B540=\"\",\"\",VLOOKUP(B540,'Fixture List Individual Files'!$B$14:$D$63,2,FALSE))","v":""},null,{"$f":"IF(B540=\"\",\"\",VLOOKUP(B540,'Fixture List Individual Files'!$B$14:$D$63,3,FALSE))","v":""},""]
[null,null,{"$f":"IF(B541=\"\",\"\",VLOOKUP(B541,'Fixture List Individual Files'!$B$14:$D$63,2,FALSE))","v":""},null,{"$f":"IF(B541=\"\",\"\",VLOOKUP(B541,'Fixture List Individual Files'!$B$14:$D$63,3,FALSE))","v":""},""]
[null,null,{"$f":"IF(B542=\"\",\"\",VLOOKUP(B542,'Fixture List Individual Files'!$B$14:$D$63,2,FALSE))","v":""},null,{"$f":"IF(B542=\"\",\"\",VLOOKUP(B542,'Fixture List Individual Files'!$B$14:$D$63,3,FALSE))","v":""},""]
[null,null,{"$f":"IF(B543=\"\",\"\",VLOOKUP(B543,'Fixture List Individual Files'!$B$14:$D$63,2,FALSE))","v":""},null,{"$f":"IF(B543=\"\",\"\",VLOOKUP(B543,'Fixture List Individual Files'!$B$14:$D$63,3,FALSE))","v":""},""]
[null,null,{"$f":"IF(B544=\"\",\"\",VLOOKUP(B544,'Fixture List Individual Files'!$B$14:$D$63,2,FALSE))","v":""},null,{"$f":"IF(B544=\"\",\"\",VLOOKUP(B544,'Fixture List Individual Files'!$B$14:$D$63,3,FALSE))","v":""},""]
[null,null,{"$f":"IF(B545=\"\",\"\",VLOOKUP(B545,'Fixture List Individual Files'!$B$14:$D$63,2,FALSE))","v":""},null,{"$f":"IF(B545=\"\",\"\",VLOOKUP(B545,'Fixture List Individual Files'!$B$14:$D$63,3,FALSE))","v":""},""]
[null,null,{"$f":"IF(B546=\"\",\"\",VLOOKUP(B546,'Fixture List Individual Files'!$B$14:$D$63,2,FALSE))","v":""},null,{"$f":"IF(B546=\"\",\"\",VLOOKUP(B546,'Fixture List Individual Files'!$B$14:$D$63,3,FALSE))","v":""},""]
[null,null,{"$f":"IF(B547=\"\",\"\",VLOOKUP(B547,'Fixture List Individual Files'!$B$14:$D$63,2,FALSE))","v":""},null,{"$f":"IF(B547=\"\",\"\",VLOOKUP(B547,'Fixture List Individual Files'!$B$14:$D$63,3,FALSE))","v":""},""]
[null,null,{"$f":"IF(B548=\"\",\"\",VLOOKUP(B548,'Fixture List Individual Files'!$B$14:$D$63,2,FALSE))","v":""},null,{"$f":"IF(B548=\"\",\"\",VLOOKUP(B548,'Fixture List Individual Files'!$B$14:$D$63,3,FALSE))","v":""},""]
[null,null,{"$f":"IF(B549=\"\",\"\",VLOOKUP(B549,'Fixture List Individual Files'!$B$14:$D$63,2,FALSE))","v":""},null,{"$f":"IF(B549=\"\",\"\",VLOOKUP(B549,'Fixture List Individual Files'!$B$14:$D$63,3,FALSE))","v":""},""]
[null,null,{"$f":"IF(B550=\"\",\"\",VLOOKUP(B550,'Fixture List Individual Files'!$B$14:$D$63,2,FALSE))","v":""},null,{"$f":"IF(B550=\"\",\"\",VLOOKUP(B550,'Fixture List Individual Files'!$B$14:$D$63,3,FALSE))","v":""},""]
[null,null,{"$f":"IF(B551=\"\",\"\",VLOOKUP(B551,'Fixture List Individual Files'!$B$14:$D$63,2,FALSE))","v":""},null,{"$f":"IF(B551=\"\",\"\",VLOOKUP(B551,'Fixture List Individual Files'!$B$14:$D$63,3,FALSE))","v":""},""]
[null,null,{"$f":"IF(B552=\"\",\"\",VLOOKUP(B552,'Fixture List Individual Files'!$B$14:$D$63,2,FALSE))","v":""},null,{"$f":"IF(B552=\"\",\"\",VLOOKUP(B552,'Fixture List Individual Files'!$B$14:$D$63,3,FALSE))","v":""},""]
[null,null,{"$f":"IF(B553=\"\",\"\",VLOOKUP(B553,'Fixture List Individual Files'!$B$14:$D$63,2,FALSE))","v":""},null,{"$f":"IF(B553=\"\",\"\",VLOOKUP(B553,'Fixture List Individual Files'!$B$14:$D$63,3,FALSE))","v":""},""]
[null,null,{"$f":"IF(B554=\"\",\"\",VLOOKUP(B554,'Fixture List Individual Files'!$B$14:$D$63,2,FALSE))","v":""},null,{"$f":"IF(B554=\"\",\"\",VLOOKUP(B554,'Fixture List Individual Files'!$B$14:$D$63,3,FALSE))","v":""},""]
[null,null,{"$f":"IF(B555=\"\",\"\",VLOOKUP(B555,'Fixture List Individual Files'!$B$14:$D$63,2,FALSE))","v":""},null,{"$f":"IF(B555=\"\",\"\",VLOOKUP(B555,'Fixture List Individual Files'!$B$14:$D$63,3,FALSE))","v":""},""]
[null,null,{"$f":"IF(B556=\"\",\"\",VLOOKUP(B556,'Fixture List Individual Files'!$B$14:$D$63,2,FALSE))","v":""},null,{"$f":"IF(B556=\"\",\"\",VLOOKUP(B556,'Fixture List Individual Files'!$B$14:$D$63,3,FALSE))","v":""},""]
[null,null,{"$f":"IF(B557=\"\",\"\",VLOOKUP(B557,'Fixture List Individual Files'!$B$14:$D$63,2,FALSE))","v":""},null,{"$f":"IF(B557=\"\",\"\",VLOOKUP(B557,'Fixture List Individual Files'!$B$14:$D$63,3,FALSE))","v":""},""]
[null,null,{"$f":"IF(B558=\"\",\"\",VLOOKUP(B558,'Fixture List Individual Files'!$B$14:$D$63,2,FALSE))","v":""},null,{"$f":"IF(B558=\"\",\"\",VLOOKUP(B558,'Fixture List Individual Files'!$B$14:$D$63,3,FALSE))","v":""},""]
[null,null,{"$f":"IF(B559=\"\",\"\",VLOOKUP(B559,'Fixture List Individual Files'!$B$14:$D$63,2,FALSE))","v":""},null,{"$f":"IF(B559=\"\",\"\",VLOOKUP(B559,'Fixture List Individual Files'!$B$14:$D$63,3,FALSE))","v":""},""]
[null,null,{"$f":"IF(B560=\"\",\"\",VLOOKUP(B560,'Fixture List Individual Files'!$B$14:$D$63,2,FALSE))","v":""},null,{"$f":"IF(B560=\"\",\"\",VLOOKUP(B560,'Fixture List Individual Files'!$B$14:$D$63,3,FALSE))","v":""},""]
[null,null,{"$f":"IF(B561=\"\",\"\",VLOOKUP(B561,'Fixture List Individual Files'!$B$14:$D$63,2,FALSE))","v":""},null,{"$f":"IF(B561=\"\",\"\",VLOOKUP(B561,'Fixture List Individual Files'!$B$14:$D$63,3,FALSE))","v":""},""]
[null,null,{"$f":"IF(B562=\"\",\"\",VLOOKUP(B562,'Fixture List Individual Files'!$B$14:$D$63,2,FALSE))","v":""},null,{"$f":"IF(B562=\"\",\"\",VLOOKUP(B562,'Fixture List Individual Files'!$B$14:$D$63,3,FALSE))","v":""},""]
[null,null,{"$f":"IF(B563=\"\",\"\",VLOOKUP(B563,'Fixture List Individual Files'!$B$14:$D$63,2,FALSE))","v":""},null,{"$f":"IF(B563=\"\",\"\",VLOOKUP(B563,'Fixture List Individual Files'!$B$14:$D$63,3,FALSE))","v":""},""]
[null,null,"Totals:",{"$f":"SUM(D528:D563)","v":0},null,{"$f":"SUM(F528:F563)","v":0}]

{"sheet":"Helpful Tips","index":7,"n_rows":43,"n_cols":11,"rows_kept":43}
["Helpful Tips"]
[]
["How to Enable Macros"]
["1. When you open the workbook, look just above the formula bar for a yellow shaded row that looks like this: "]
["2. If this appears, click the \"Enable Content\" button"]
["3. Generally, should only have to do this the first time you open the workbook. If you download a new copy from "]
["    the Focus website or have additional staff access the workbook, will likely need to do this again. "]
[]
[]
[]
["How to Embed (insert) a PDF File in an Excel Worksheet",{"$nulls":9},"1)"]
["1. Go to Insert tab and click on the Object icon in the Text group. ..."]
["2. In the Object dialog box, select the 'Create New' tab and the select 'Adobe Acrobat Document' from the list. ..."]
["3. Check the option – 'Display as icon'."]
["4. If desired, select \"Change Icon\" to modify the file name displayed (ex: Installation invoice, COMcheckv1, etc.).  "]
["5. Click OK."]
["6. Select the PDF file to embed and click on Open."]
[]
["How to Unhide rows in an Excel Worksheet"]
["1. Select the row above, and row below the hidden rows"]
[]
[]
[]
[]
[]
["2. Right click mouse button",{"$nulls":9},"2-4)"]
["3. Select Unhide from menu"]
{"$rows_empty":12}
["How to quickly capture a screen shot/snip"]
["1. On a Windows PC press & hold WINDOWS Key + Shift + S",{"$nulls":9},"5)"]
["2. Screen will dim, then drag mouse to marquee around area you want captured"]
["3. Click on workbook, then Ctrl + V to Paste image"]

{"sheet":"RevisionHistory","index":8,"n_rows":30,"n_cols":4,"rows_kept":30,"hidden":true}
[]
[]
["Version History"]
["Program Year","Date of Revision","Description of Changes","Updated By:"]
[2021,"2021-01-01","Initial version"]
[2021,"2021-02-27","Added Tech Review calc, SPECTRUM entry, checklist. Fixed rounding errors. Added \"area description\" on individual files tab. Fixed protection to allow inserting pages","Trish"]
[2021,"2021-03-02","Corrected rounding issues on Start Here! Tab in columns J and H and R thru Y in savings table","Melissa"]
[2021,"2021-03-18","Changed algorithms in cells S4-S47 to reference only one cell for CF lookup. Also, removed colon (\":\") at the end of the facility type names (cells J14-J19) to aide proper lookup for CF","Zishan"]
[2021,"2021-03-25","Removed ROUNDDOWN function and added ROUND to cells H23-H27, J23-J27, R42-R47 and W42-W47 in \"Start Here!\" tab. Also added ROUND function to round allowed watts in \"As-Built COMcheck\" tab","Zishan"]
[2021,"2021-03-26","Added algorithm to correctly pull CF in O38"]
[2021,"2021-03-26","Conditional format HOU on Start Here tab. Add LPD reference table on As-Built COMcheck tab. Add note about more than 5 area types on As-Built COMcheck tab. Formatted Indiv. Files Sq Ft by area to be reflected on Fixt List tab.","Trish"]
[2021,"2021-04-07","Added 'qualify the project' section to Start here tab","Trish"]
[2021,"2021-04-12","Added \"Annual\" to Hours of use in sds table. Revised formatting of lines on COMcheck tab, and added consistent verbiage to \"more than 5 areas topic\" on COMcheck tab. Updated the utility $/therm, #/kWh to 2019","Trish"]
[2021,"2021-05-17","Corrected units for kWh (annual and lifecycle) on Start Here! tab summary table ","Todd"]
[2021,"2021-07-19","Updated list of credentials for lighting designers","Melissa"]
[2021,null,"Added lines back in that were inadvertently deleted from Fixt List Individual Files tab. Not considering this a revision","Trish"]
[2021,"2021-12-21","Changed the workbook to make it compatible for NLC-NC","Zishan"]
[2022,"2022-01-10","Updated requirements from 2022 Lighting Catalog","Melissa"]
[2022,"2022-02-17","Made changes to accurately calculate the NLC measure cost based on NLC area factor.","Zishan"]
[2022,"2022-05-20","Removed the 'Get CF button' on the Start Here! tab and added a look up formula for populating the CF for kW savings","Melissa"]
[2022,"2022-05-24","Added conditional formatting to kW savings cell to be 'Red' if value = '0'. This will indicate that a CF Override value needs to be added","Melissa"]
[2022,"2022-06-09","Added error message if total incentive is greater than measure cost","Melissa"]
[2022,"2022-06-28","fixed G33 of Start Here tab, wasn't pulling correct cell","Trish"]
[2022,"2022-07-19","Corrected formula errors on Start Here tab for C37-C57","Melissa"]
[2023,"2022-12-08","Update for 2023 (NLC savings factors), allow unique CF for each area, re-structure \"Individual Files\" tabs. ","Zach"]
[2023,"2023-01-13","Updated LPD industry standard cost from $1.30 to $0.90/sq ft to match 2023 TRM.","Zach"]
[2023,"2023-01-23","Add directions for \"Show Macros\" and to use in full version of Excel. Add conditional formatting to hide NLC inputs if \"Have fixtures with NCL controls\" on Start Here! = No. Add NLC Savings & Incentive summary on \"Start Here!\" tab. ","Zach"]
[2023,"2023-12-15","Unlocked cells Z46:Z71 so actual costs can be entered; unlocked cell AA71 so Actual Costs can be selected if needed; updated password for 2024","Melissa"]
[2024,"2024-11-07","Updated calc to include Winter Peak kW Savings.  Summer CF values changed as well.","Cory"]
[2025,"2025-12-18","Updated calc to remove NLC pathway and reflect WI Code adoption of IECC 2021","Cory"]

{"sheet":"Admin_Lists","index":9,"n_rows":88,"n_cols":8,"rows_kept":88,"hidden":true,"merged":[[6,0,7,1],[8,14,9,15],[43,0,44,0]]}
[]
[null,"Type"]
[null,"Choose from Drop-down",null,"<==The items in this list are named ComCheck"]
[null,"COMcheck",null,"To name the data cells, select them, click in the Name Box"]
[null,"Individual Files",null,"Add more words to the list, and the list will expand to include them"]
[]
["LIGHTING POWER DENSITY\n(AREA METHOD)",{"$nulls":6},"Space by Space Reference for Tech Review, not part of drop-down options"]
[]
["Choose from Drop-down",0]
["Automotive Facility",0.75]
["Convention Center",0.64]
["Court House",0.79]
["Dining: Bar Lounge/Leisure",0.8]
["Dining: Cafeteria/Fast Food",0.76]
["Dining: Family",0.71]
["Dormitory",0.53]
["Exercise Center",0.72]
["Fire Station",0.56]
["Gymnasium",0.76]
["Healthcare Clinic",0.81]
["Hospital",0.96]
["Hotel/Motel",0.56]
["Library",0.83]
["Manufacturing Facility",0.82]
["Motion Picture Theater",0.44]
["Multifamily",0.45]
["Museum",0.55]
["Office",0.64]
["Parking Garage",0.18]
["Penitentiary",0.69]
["Performing Arts Theater",0.84]
["Police Station",0.66]
["Post Office",0.65]
["Religious Building",0.67]
["Retail",0.84]
["School/University",0.72]
["Sports Arena",0.76]
["Town Hall",0.69]
["Transportation",0.5]
["Warehouse",0.45]
["Workshop",0.91]
[]
[]
["Hours of Use"]
[]
["Use Commercial Default 3,730",{"v":3730,"d":"3,730"}]
["Use Industrial Default 4,745",{"v":4745,"d":"4,745"}]
["Use Agricultural Default 4,698",{"v":4698,"d":"4,698"}]
["Use Schools & Government Default 3,239",{"v":3239,"d":"3,239"}]
["Use Multifamily - Common Area Default 5,950",{"v":5950,"d":"5,950"}]
["Use Multifamily - In-unit Default 840",840]
["n/a (Manual Entry)",{"$f":"'Start Here!'!G23","v":0}]
[]
["Choose from Drop-down"]
["Commercial",{"v":3730,"d":"3,730"}]
["Industrial",{"v":4745,"d":"4,745"}]
["Agricultural",{"v":4698,"d":"4,698"}]
["Schools & Government",{"v":3239,"d":"3,239"}]
["Multifamily"]
[]
["Row Size"]
["Choose from Drop-down"]
["Small (5 rows)"]
["Large (25 rows)"]
[]
["NLC details below no longer utilized."]
[null,"Updated to match approved workpaper W0288 on 11/30/22"]
[null,"SFBASE","SFEE","HOU","kWhSAVED"]
["Commercial",0.34,0.56,3730,{"$f":"(SFE_Commercial-SFBASE_Commercial)*Hrs_Commercial/1000","v":0.8206000000000001}]
["Industrial",0.24,0.47,4745,{"$f":"(SFE_Industrial-SFBASE_Industrial)*Hrs_Industrial/1000","v":1.0913499999999998}]
["Schools & Government",0.24,0.41,3239,{"$f":"(SFE_SG-SFBASE_SG)*Hrs_SG/1000","v":0.55063}]
[]
[]
["Choose from Drop-down"]
["High Bay"]
["Spaces with Daylighting"]
["Non-High Bay"]
[]
[]
["New Construction LPD EUL:",15,"Per MMID 4948 (workpaper ID W0093)"]
["NLC For New Construction EUL:",15,"Per MMID 5233 (workpaper ID W0288)"]
["LPD Incentive Rate (MMID 4948):",{"v":0.05,"d":"$0.05"},"per kWh reduced"]
["NLC Incentive Rate (MMID 5233):",{"v":0.04,"d":"$0.04"},"per kWh reduced"]
[]
[]
["Cost type used","Industry Standard Cost ($/Sq Ft)"]
["Industry Standard Cost",{"v":0.9,"d":"$0.90"}]
["Actual Cost","from 2023 WI TRM"]